{"text_format":"1","workbook":"xlsx","n_sheets":14,"sheets":["EVREN","RİSK DEĞERLENDİRMESİ","RİSK KRİTERLERİ","Risk Puanlama","PLAN","PLAN2","PROGRAM","RİSK","ÖNCELİK","ÖNCELİK2","Sayfa1","Sayfa3","Sayfa2","Sayfa4"],"not_rendered":{"charts":0,"images":1,"macros":0,"external_links":0,"defined_names":10,"comments":0,"pivot_tables":0},"unopened":[],"bounds":{"document_bytes":16777216,"sheet_cells":100000,"rows_first":2000,"rows_last":500,"rows_between":2000,"halvings":0,"cell_chars":16384,"cell_head_chars":4096},"cells_cut":0,"cells_raw":0,"read":"whole","date_system":"1900"}

{"sheet":"EVREN","index":0,"n_rows":188,"n_cols":3,"rows_kept":188,"cut":false,"hidden":true,"merged":[]}
[null,null,"EK-1"]
[]
[null,"SIRA","ÇNÜ DENETİM ALANLARI (DENETİM EVRENİ)"]
[null,1,"Evrak İşlemleri Süreci"]
[null,null,"1.1.Gelen Evrak Kayıt ve Dağıtım"]
[null,null,"1.2.Giden Evrak Hazırlama, Kayıt ve Dağıtım"]
[null,null,"1.3.Dosyalama"]
[null,null,"1.4.Arşivleme (Resmi evrak ve Bilimsel yayın arşiv.)"]
[null,null,"1.5.Tebligat ve Zimmet işlemleri"]
[null,2,"Öğrenci ve personel değişim programları süreci"]
[null,null,"2.1.Farabi Öğrenci ve Öğret. Elemanı Değ. Prog. Süreci"]
[null,null,"2.2.Erasmus Öğrenci ve Personel Hareketliliği Süreci"]
[null,null,"2.3.Mevlana Öğrenci ve Öğretim Ele. Değ. Prg. Süreci"]
[null,null,"2.4 Öğretim Elemanı Yetiştirme Programı Süreci"]
[null,3,"Proje İşlemleri Süreci"]
[null,null,"3.1.İç Kaynaklı Bilimsel Projeler"]
[null,null,"3.2.Dış Kaynaklı Bilimsel Projeler "]
[null,4,"Basın Yayın ve Halkla İlişkiler İşlemleri Süreci"]
[null,null,"4.1.Bilgi Edinme İşlemleri Süreci"]
[null,null,"4.2.Süreli Yayın İşlemleri"]
[null,null,"4.3.Süresiz Yayın İşlemleri"]
[null,null,"4.4.Haber ve Duyuru Yayma İşlemleri "]
[null,null,"4.5.Haber Toplama İşlemleri"]
[null,null,"4.6.Web Sayfası İşlemleri Süreci"]
[null,null,"4.7.Tanıtım İşlemleri Süreci"]
[null,null,"4.8.Etkinlik ve Organizasyon İşlemleri"]
[null,5,"Bilgi İşlem Hizmetleri Süreci"]
[null,null,"5.1.Teknik ve Yazılım Destek İşlemleri"]
[null,null,"5.2.Ağ Yönetimi ve Güvenliği İşlemleri"]
[null,null,"5.3.Yazılım İşlemleri Süreci"]
[null,null,"5.4.Otomasyon Programları Yönetimi İşlemleri"]
[null,null,"5.5.Sunucu (Server) Hizmetleri"]
[null,6,"Burs İşlemleri Süreci"]
[null,null,"6.1.Öğrenci Yemek Bursu İşlemleri"]
[null,null,"6.2.KYK Kredi ve Burs İşlemleri"]
[null,null,"6.3.Diğer Burs İşlemleri Süreci"]
[null,7,"Yargı, Soruşturma ve Hukuki Müşavirlik Hizmetleri "]
[null,null,"7.1.Adli Dava İşlemleri Süreci"]
[null,null,"7.2.İdari Dava İşlemleri Süreci"]
[null,null,"7.3.İcra ve Alacak Takip İşlemleri"]
[null,null,"7.4.Öğrenci Soruşturma İşlemleri"]
[null,null,"7.5.Akademik Personel Soruşturma İşlemleri"]
[null,null,"7.6.İdari Personel Soruşturma İşlemleri"]
[null,null,"7.7.Müşavirlik İşlemleri"]
[null,null,"7.8.Mevzuat Hazırlama Süreci"]
[null,8,"Personel Ödeme İşlemleri Süreci"]
[null,null,"8.1.Maaş Ödemeleri"]
[null,null,"8.2.Ek Ders Ödemeleri"]
[null,null,"8.3.Fazla Mesai Ücreti Ödemeleri"]
[null,null,"8.4.Döner Sermaye Ek Ödeme İşlemleri"]
[null,null,"8.5. Ayni Yardımlar"]
[null,null,"8.6.Yolluk Ödeme İşlemleri"]
[null,null,"8.7.Ön Ödeme İşlemleri"]
[null,null,"8.8.Diğer Ödemeler"]
[null,9,"Personel Özlük İşlemleri Süreci"]
[null,null,"9.1.2547 sayılı Kanuna Göre Çalıştırı. Per. (Öğret. Ele.) "]
[null,null,"9.2.Öğretim Üyesi Atama İşlemleri"]
[null,null,"9.3.Öğretim Görevlisi ve Okutman Atama İşlemleri"]
[null,null,"9.4.Öğretim Yardımcıları Sınav ve Atama İşlemleri"]
[null,null,"9.5.657 sayılı Kanuna Göre Çalıştırılan Per. Atama"]
[null,null,"9.6.Kadro İşlemleri Süreci"]
[null,null,"9.7.İntibak süreçleri"]
[null,null,"9.8.Terfi süreçleri"]
[null,null,"9.9.İzin İşlemleri Süreci"]
[null,null,"9.10.Görevde Yükselme İşlemleri"]
[null,null,"9.11.Görevden Ayrıl. İşlem. (Emek.-İstifa-Nakil-Ölüm)"]
[null,null,"9.12.Mal Beyanı İşlemleri"]
[null,null,"9.13.Pasaport Başvuru İşlemleri"]
[null,null,"9.14.Mecburi Hizmet Yükümlülükleri İşlemleri"]
[null,null,"9.15.Hizmet içi Eğitim İşlemleri"]
[null,10,"Öğrenci İşlemleri Süreci"]
[null,null,"10.1.Önlisans ve Lisans Öğrenci Kayıt ve Kabul İşlem."]
[null,null,"10.2.Lisans Yerleştirme Sınavı ile Gelen Öğrenciler"]
[null,null,"10.3.Özel Yetenek Sınavı ile Gelen Öğrenciler"]
[null,null,"10.4.YÖS ile Gelen Öğrenciler"]
[null,null,"10.5.Yatay Geçiş ile Gelen Öğrenciler"]
[null,null,"10.6.Dikey Geçiş Sınavı ile Gelen Öğrenciler"]
[null,null,"10.7.Değişim Program. veya Hareket. ile Gelen Öğren."]
[null,null,"10.8.UZEM Tarafından Kabul Edilen Öğrenciler"]
[null,null,"10.9.Yüksek Lisans ve Doktora Öğr. Kayıt ve Kabul İşl."]
[null,null,"10.10.Özel Öğrenciler ve Diğer Öğrenciler"]
[null,null,"10.11.Ders Kaydı İşlemleri"]
[null,null,"10.12.Öğrenci Kimlik Kartı İşlemleri Süreci"]
[null,null,"10.13.Öğrenci Belge İşlemleri Süreci"]
[null,null,"10.14.Öğrenci Askerlik İşlemleri"]
[null,null,"10.15.Öğrenci Temsilci Seçimi İşlemleri"]
[null,null,"10.16.Kayıt Dondurma İşlemleri"]
[null,null,"10.17.Mezuniyet İşlemleri"]
[null,null,"10.18.Kısmi Zamanlı Öğrenci Çalıştırılması Süreci"]
[null,null,"10.19.Öğrenci Toplulukları İşlemleri"]
[null,11,"Eğitim ve Öğretim ile İlgili İşlemler"]
[null,null,"11.1.Ders Prog. ve Dağılım. Hazırlan. ve Duyurul.İşl."]
[null,null,"11.2.Ders Puantajlarının Hazırlanması İşlemleri"]
[null,null,"11.3.Ders Muafiyeti ve İntibak İşlemleri"]
[null,null,"11.4.Öğrenci Danışmanının Belirlen. ve Bildirilmesi"]
[null,null,"11.5.Sınav Programlarının İlanı"]
[null,null,"11.6.Gözetmenlik Görevlerinin Belirlenmesi ve İlanı"]
[null,null,"11.7.Sınav Sonuç. Öğr. Oto. Sist. Girişi ve Sınav Kâğıt. Muh."]
[null,null,"11.8. Sınav Sonuçlarına Yap. İtirazlar ve Değer. Süreci"]
[null,null,"11.9.Öğrenci Staj İşlemleri Süreci"]
[null,12,"Gelir İşlemleri "]
[null,null,"12.1.Örgün Eğitim Katkı Payı"]
[null,null,"12.2.İkinci Öğretim Öğrenim Ücreti"]
[null,null,"12.3.Uzaktan Eğitim Öğrenim Ücreti ve Materyal Gel."]
[null,null,"12.4.Tezli Yüksek Lisans Katkı Payı"]
[null,null,"12.5.Tezsiz Yüksek Lisans Öğrenim Ücreti"]
[null,null,"12.6.Doktora Öğrenim Ücreti"]
[null,null,"12.7.Mal Satış Gelirleri"]
[null,null,"12.8.Konaklama Gelirleri"]
[null,null,"12.9.Yemek Servisi Gelirleri"]
[null,null,"12.10.Yüzme Havuzu, Spor Saha ve Salon Gelirleri"]
[null,null,"12.11.Akademik Danışmanlık Hizmet Gelirleri"]
[null,null,"12.12.Kurs, Seminer Hizmetleri"]
[null,null,"12.13.Formasyon Eğitimi Hizmetleri"]
[null,null,"12.14.Lojman Kira Gelirleri"]
[null,null,"12.15.Diğer Taşınmaz Kira Gelirleri (Kantin, Baz ist.)"]
[null,null,"12.16.Avukatlık Vekâlet Ücreti Gelirleri"]
[null,null,"12.17.Şartname ve Basılı Evrak Gelirleri"]
[null,null,"12.18.Bağış ve Yardım Gelirleri"]
[null,null,"12.19.Ceza, Tazminat vb. Gelirleri"]
[null,null,"12.20.Diğer Gelirler"]
[null,13,"Satın Alma İşlemleri"]
[null,null,"13.1.Açık İhale Usulü Süreci"]
[null,null,"13.2.Pazarlık Usulü Süreci"]
[null,null,"13.3.Doğrudan Temin Süreci"]
[null,14,"Taşınır Mal İşlemleri Süreci"]
[null,null,"14.1.Ambar Giriş- Çıkış İşlemleri"]
[null,null,"14.2.Zimmet İşlemleri"]
[null,null,"14.3.Kayıtlardan Düşüm İşlemleri"]
[null,null,"14.4.Hurdaya Ayırma İşlemleri"]
[null,null,"14.5.Taşınır Yıl Sonu İşlemleri"]
[null,null,"14.6.Taşınırların Muhafazası ve Takibi İşlemleri"]
[null,15,"Taşınmaz Mal İşlemleri Süreci"]
[null,null,"15.1.Taşınmaz Mal Kayıt ve Konsolide İşlemleri "]
[null,null,"15.2.Taşınmaz Edinimi"]
[null,null,"15.3.Taşınmaz Kiraya Verilmesi ve Yönetimi"]
[null,16,"Mali Kontrol İşlemleri Süreci"]
[null,null,"16.1.İç Kontrol Faaliyetlerinin Koordinasyonu"]
[null,null,"16.2.Ön Mali Kontrol İşlemleri"]
[null,null,"16.3.Yasal Yükümlülükler Ödeme İşlemleri"]
[null,null,"16.4.Emanet Tutarları Ödeme İşlemleri"]
[null,17,"Bütçe ve Performans Süreci"]
[null,null,"17.1.Bütçenin Hazırlanması"]
[null,null,"17.2.Yatırım Programının Hazırlanması"]
[null,null,"17.3.Gelirlerin Tahak., Gelir ve Alac. Takip ve Tah. İşl."]
[null,null,"17.4.Bütçe Uygulama Süreci"]
[null,null,"17.5.Stratejik Planlama İşlemleri"]
[null,null,"17.6.Ödenek İşlemleri"]
[null,18,"Muhasebe, Kesin Hesap ve Raporlama Süreci"]
[null,null,"18.1.Muhasebe Hizmetleri"]
[null,null,"18.2.Mali İstatistiklerin Hazırlanması"]
[null,null,"18.3.Bütçe Kesin Hesabının Hazırlanması"]
[null,null,"18.4.Mali Döneme Ait İcmal Cetvellerinin Hazırlan."]
[null,null,"18.5.Mali Danışmanlık İşlemleri"]
[null,19,"Kütüphanecilik İşlemleri Süreci"]
[null,null,"19.1.Üyelik İşlemleri"]
[null,null,"19.2.Süreli Süresiz Yayın Abonelik ve Dağıtımı İşl."]
[null,null,"19.3.Ödünç Verme, Kayıp ve İade İşlemleri"]
[null,null,"19.4.Kütüphanecilik Dokümantasyon İşlemleri"]
[null,20,"Senato ve Kurul Sekretarya İşlemleri"]
[null,null,"20.1.Senato İşlemleri"]
[null,null,"20.2.Üniversite Yönetim Kurulu İşlemleri"]
[null,null,"20.3.Fakülte, Yüksekokul ve Enstitü Kurulları"]
[null,null,"20.4.Fakülte, Y.okul, Ens. ve Araş. Merk. Yön. Kurulları"]
[null,null,"20.5.Bölüm Başkanlığı ve Anabilim Dalı İşlemleri"]
[null,null,"20.6.Diğer Kurullar ve Komisyonlar"]
[null,21,"Genel Hizmetler Süreci"]
[null,null,"21.1.Temizlik Hizmet İşlemleri Süreci"]
[null,null,"21.2.Telekomünikasyon Süreci (Tel., Faks, İnternet)"]
[null,null,"21.3.İçme ve Kullanma Suyu işlemleri"]
[null,null,"21.4.Çevre Düzenleme İşlemleri (Peyzaj, Ağaçlan.)"]
[null,null,"21.5.Hizmet Araçları Yönetimi İşlemleri"]
[null,null,"21.6.Öğrenci ve Personel Memnuniyeti İşlemleri "]
[null,22,"Personel Görevlendirme"]
[null,null,"22.1.Yurtiçi Geçici Görevlendirme"]
[null,null,"22.2.Yurtdışı Geçici Görevlendirme"]
[null,null,"22.3.2547 13/b-4 Görevlendirmeleri"]
[null,null,"22.4.Vekâleten Görevlendirmeler"]
[null,null,"22.5.Tedviren Görevlendirmeler"]
[null,null,"22.6. Diğer Görevlen. (2547 sayılı Kanunun 40/a, b, d) "]
[null,23,"Enerji Verimliliği (Üretim, Tüketim ve Tasarruf) Süreci"]
[null,null,"23.1.Aydınlatma ve Elektrik Sarfiyatı"]
[null,null,"23.2.Isıtma İşlemleri"]
[null,null,"23.3.Akaryakıt Tüketimi"]
[null,24,"Emniyet ve Güvenlik Hizmetleri"]
[null,null,"24.1.Afet ve Acil Durum Yönetimi İşlemleri"]
[null,null,"24.2.İş Sağlığı ve Güvenliği İşlemler"]
[null,null,"24.3.Koruma ve Güvenlik Hizmetleri "]

{"sheet":"RİSK DEĞERLENDİRMESİ","index":1,"n_rows":30,"n_cols":22,"rows_kept":30,"cut":false,"hidden":false,"merged":[[0,19,1,21],[2,19,2,21],[7,20,9,20],[7,21,10,21],[7,1,10,1],[7,2,10,2],[6,1,6,21],[4,2,4,21],[5,2,5,21],[8,9,9,9],[8,3,8,5],[8,6,8,8],[7,3,7,9],[0,1,2,1],[0,2,2,18],[8,10,8,12],[8,13,8,15],[8,16,8,18],[7,10,7,19],[29,12,30,14],[29,15,30,17],[29,18,30,19],[8,19,9,19],[29,20,30,21],[26,18,26,21],[26,12,26,17],[27,12,27,17],[28,12,28,17],[27,18,27,21],[28,18,28,21]]}
[null,null,"T.C.\nÇANKIRI KARATEKİN ÜNİVERSİTESİ\nİç Denetim Birimi\n",null,null,null,null,null,null,null,null,null,null,null,null,null,null,null,null,"REFERANS NUMARASI"]
[]
[null,null,null,null,null,null,null,null,null,null,null,null,null,null,null,null,null,null,null,"2.8"]
[]
[null,"Denetim Numarası                       :"]
[null,"Denetim Konusu                         :"]
[null,"MİKRO RİSK DEĞERLENDİRMESİ"]
[null,"HEDEFLER","RİSKLER","ETKİ FAKTÖRÜ",null,null,null,null,null,null,"OLASILIK FAKTÖRÜ",null,null,null,null,null,null,null,null,null,"TOPLAM RİSK PUANI","RİSK DÜZEYİ"]
[null,null,null,"MALİ ETKİ",null,null,"İMAJ / İTİBAR ETKİSİ",null,null,"TOPLAM","İŞLEM HACMİ",null,null,"YAPISAL, İŞLEVSEL VE TEKNİK DEĞİŞİKLİKLER",null,null,"FAALİYETLERİN ÇEŞİTLİLİĞİ VE KARMAŞIKLIĞI",null,null,"TOPLAM"]
[null,null,null,"KR. PUAN","AĞ.","RİSK PUANI","KR. PUAN","AĞ.","RİSK PUANI",null,"KR. PUAN","AĞ.","RİSK PUANI","KR. PUAN","AĞ.","RİSK PUANI","KR. PUAN","AĞ.","RİSK PUANI"]
[null,null,null,"(E1)","(E2)","(E3=E1xE2)","(E4)","(E5)","(E6=E4xE5)","(E7=E3+E6)","(O1)","(O2)","(O3=O1xO2)","(O4)","(O5)","(O6=O4xO5)","(O7)","(O8)","(O9=O7xO8)","(O10=O3+O6+O9)","(R=E7xO10)"]
[]
[]
[]
[]
[]
[]
[]
[]
[]
[]
[]
[]
[]
[]
[]
[null,null,null,null,null,null,null,null,null,null,null,null,"HAZIRLAYAN",null,null,null,null,null,"GÖZDEN GEÇİREN"]
[null,null,null,null,null,null,null,null,null,null,null,null,"Adı-Soyadı",null,null,null,null,null,"Adı-Soyadı"]
[null,null,null,null,null,null,null,null,null,null,null,null,"İç Denetçi",null,null,null,null,null,"İç Denetçi-DGS"]
[null,null,null,null,null,null,null,null,null,null,null,null,"…/…/20..",null,null,null,null,null,"…/…/20.."]

{"sheet":"RİSK KRİTERLERİ","index":2,"n_rows":29,"n_cols":9,"rows_kept":29,"cut":false,"hidden":false,"merged":[[14,4,28,4],[4,4,13,4],[2,4,2,8],[3,4,3,5],[24,5,28,5],[24,8,28,8],[3,6,3,7],[14,5,18,5],[19,5,23,5],[4,8,8,8],[9,8,13,8],[14,8,18,8],[19,8,23,8]]}
[]
[]
[null,null,null,null,"ÇANKIRI KARATEKİN ÜNİVERSİTESİ  RİSK KRİTERLERİNİN VE DEĞERLENDİRME ÖLÇEĞİNİN TANIMLANMASI"]
[null,null,null,null,"RİSK KRİTERLERİ",null,"KATSAYILAR",null,"AĞIRLIK   (%)"]
[null,null,null,null,"ETKİ",null,"Çok Yüksek",5,60]
[null,null,null,null,null,null,"Yüksek",4]
[null,null,null,null,null,"MALİ ETKİ","Orta",3]
[null,null,null,null,null,null,"Düşük",2]
[null,null,null,null,null,null,"Çok Düşük",1]
[null,null,null,null,null,null,"Çok Yüksek",5,40]
[null,null,null,null,null,null,"Yüksek",4]
[null,null,null,null,null," İMAJ/İTİBAR ETKİSİ","Orta",3]
[null,null,null,null,null,null,"Düşük",2]
[null,null,null,null,null,null,"Çok Düşük",1]
[null,null,null,null,"OLASILIK","İŞLEM HACMİ","Çok Yüksek",5,40]
[null,null,null,null,null,null,"Yüksek",4]
[null,null,null,null,null,null,"Orta",3]
[null,null,null,null,null,null,"Düşük",2]
[null,null,null,null,null,null,"Çok Düşük",1]
[null,null,null,null,null,"YAPISAL, İŞLEVSEL VE TEKNİK DEĞİŞİKLİKLER","Çok Yüksek",5,30]
[null,null,null,null,null,null,"Yüksek",4]
[null,null,null,null,null,null,"Orta",3]
[null,null,null,null,null,null,"Düşük",2]
[null,null,null,null,null,null,"Çok Düşük",1]
[null,null,null,null,null,"FAALİYETLERİN ÇEŞİTLİLİĞİ VE KARMAŞIKLIĞI","Çok Yüksek",5,30]
[null,null,null,null,null,null,"Yüksek",4]
[null,null,null,null,null,null,"Orta",3]
[null,null,null,null,null,null,"Düşük",2]
[null,null,null,null,null,null,"Çok Düşük",1]

{"sheet":"Risk Puanlama","index":3,"n_rows":18,"n_cols":7,"rows_kept":18,"cut":false,"hidden":false,"merged":[[0,2,0,6],[1,2,1,6],[2,2,2,6],[14,2,15,2],[14,3,15,3],[14,4,15,4],[14,5,15,5],[14,6,15,6],[10,4,11,4],[10,5,11,5],[10,6,11,6],[12,2,13,2],[12,3,13,3],[12,4,13,4],[12,5,13,5],[12,6,13,6],[5,0,7,1],[5,2,5,6],[8,0,17,0],[8,2,9,2],[8,3,9,3],[8,4,9,4],[8,5,9,5],[8,6,9,6],[10,2,11,2],[10,3,11,3],[16,2,17,2],[16,3,17,3],[16,4,17,4],[16,5,17,5],[16,6,17,6]]}
["DÜŞÜK","(1-9 puan)","Bu faaliyet veya süreçte yaşanacak sorunların etkisi kurum açısından çok kritik değildir. Dönem dönem kontrol edilmesi yeterlidir."]
["ORTA","(10-18 puan)","Bu faaliyet veya süreçte yaşanacak sorunlar mali ve itibar kayıplarına neden olur. Söz konusu denetim alanı, iç denetim planında mutlaka yer almalıdır."]
["YÜKSEK","(19-25 puan)","Bu faaliyet veya süreçte yaşanacak herhangi bir aksama, ciddi mali ve itibar kayıplarına neden olur. Söz konusu denetim alanı, iç denetim programına öncelikli olarak alınması gerekir."]
[]
[]
["RİSK ANALİZ MODELİ",null,"ETKİ"]
[null,null,"Çok Düşük","Düşük","Orta","Yüksek","Çok Yüksek"]
[null,null,1,2,3,4,5]
["OLASILIK","Çok Düşük",1,3,6,10,15]
[null,"1"]
[null,"Düşük",2,5,9,14,19]
[null,"2"]
[null,"Orta",4,8,13,18,22]
[null,"3"]
[null,"Yüksek",7,12,17,21,24]
[null,"4"]
[null,"Çok Yüksek",11,16,20,23,25]
[null,"5"]

{"sheet":"PLAN","index":4,"n_rows":166,"n_cols":8,"rows_kept":166,"cut":false,"hidden":true,"merged":[[2,0,2,4],[2,5,2,7],[165,0,165,4]]}
[null,null,null,null,"    EK-5"]
[]
["2015-2017 DENETİM GÖREVLERİ",null,null,null,null,"YILLAR"]
["Denetimin Adı","Denetim Alanının Kapsamı","Denetlenen Birimler","Denetim Ölçeği","Risk Düzeyi",2015,2016,2017]
[{"$f":"ÖNCELİK!B5","v":"Taşınır Mal İşlemleri Süreci"},{"$f":"ÖNCELİK!C5","v":"14.1.Ambar Giriş- Çıkış İşlemleri"},{"$f":"ÖNCELİK!D5","v":{"$error":"#REF!"}},null,{"$f":"ÖNCELİK!F5","v":{"$error":"#REF!"}},"ü","ü","ü"]
[{"$f":"ÖNCELİK!B6","v":"Taşınır Mal İşlemleri Süreci"},{"$f":"ÖNCELİK!C6","v":"14.2.Zimmet İşlemleri"},{"$f":"ÖNCELİK!D6","v":"Harcama Birimleri, SGDB, Döner Ser.İşl."},null,{"$f":"ÖNCELİK!F6","v":{"$error":"#REF!"}},"ü","ü","ü"]
[{"$f":"ÖNCELİK!B7","v":"Taşınır Mal İşlemleri Süreci"},{"$f":"ÖNCELİK!C7","v":"14.3.Kayıtlardan Düşüm İşlemleri"},{"$f":"ÖNCELİK!D7","v":"Harcama Birimleri, SGDB, Döner Ser.İşl."},null,{"$f":"ÖNCELİK!F7","v":{"$error":"#REF!"}},"ü","ü","ü"]
[{"$f":"ÖNCELİK!B8","v":"Taşınır Mal İşlemleri Süreci"},{"$f":"ÖNCELİK!C8","v":"14.4.Hurdaya Ayırma İşlemleri"},{"$f":"ÖNCELİK!D8","v":"Harcama Birimleri, SGDB, Döner Ser.İşl."},null,{"$f":"ÖNCELİK!F8","v":{"$error":"#REF!"}},"ü","ü","ü"]
[{"$f":"ÖNCELİK!B9","v":"Taşınır Mal İşlemleri Süreci"},{"$f":"ÖNCELİK!C9","v":"14.5.Taşınır Yıl Sonu İşlemleri"},{"$f":"ÖNCELİK!D9","v":"Harcama Birimleri, SGDB, Döner Ser.İşl."},null,{"$f":"ÖNCELİK!F9","v":{"$error":"#REF!"}},"ü","ü","ü"]
[{"$f":"ÖNCELİK!B10","v":"Taşınır Mal İşlemleri Süreci"},{"$f":"ÖNCELİK!C10","v":"14.6.Taşınırların Muhafazası ve Takibi İşlemleri"},{"$f":"ÖNCELİK!D10","v":"Harcama Birimleri, SGDB, Döner Ser.İşl."},null,{"$f":"ÖNCELİK!F10","v":{"$error":"#REF!"}},"ü","ü","ü"]
[{"$f":"ÖNCELİK!B11","v":"Gelir İşlemleri "},{"$f":"ÖNCELİK!C11","v":"12.12.Kurs, Seminer Hizmetleri"},{"$f":"ÖNCELİK!D11","v":"Döner Sermaye İşletmesi"},null,{"$f":"ÖNCELİK!F11","v":{"$error":"#REF!"}},"ü","ü","ü"]
[{"$f":"ÖNCELİK!B12","v":"Gelir İşlemleri "},{"$f":"ÖNCELİK!C12","v":"12.13.Formasyon Eğitimi Hizmetleri"},{"$f":"ÖNCELİK!D12","v":"Sağlık Kültür ve Spor Daire Başkanlığı"},null,{"$f":"ÖNCELİK!F12","v":{"$error":"#REF!"}},"ü","ü","ü"]
[{"$f":"ÖNCELİK!B13","v":"Gelir İşlemleri "},{"$f":"ÖNCELİK!C13","v":"12.9.Yemek Servisi Gelirleri"},{"$f":"ÖNCELİK!D13","v":"Döner Sermaye İşletmesi Mühendislik, Fen-Edebiyat, UZEM, Dil Eğitimi UVAM"},null,{"$f":"ÖNCELİK!F13","v":{"$error":"#REF!"}},"ü","ü","ü"]
[{"$f":"ÖNCELİK!B14","v":"Satın Alma İşlemleri"},{"$f":"ÖNCELİK!C14","v":"13.1.Açık İhale Usulü Süreci"},{"$f":"ÖNCELİK!D14","v":"Döner Sermaye İşletmesi, Edebiyat Fakültesi "},null,{"$f":"ÖNCELİK!F14","v":{"$error":"#REF!"}},"ü","ü","ü"]
[{"$f":"ÖNCELİK!B15","v":"Satın Alma İşlemleri"},{"$f":"ÖNCELİK!C15","v":"13.2.Pazarlık Usulü Süreci"},{"$f":"ÖNCELİK!D15","v":"Tüm Birimler"},null,{"$f":"ÖNCELİK!F15","v":{"$error":"#REF!"}},"ü","ü","ü"]
[{"$f":"ÖNCELİK!B16","v":"Satın Alma İşlemleri"},{"$f":"ÖNCELİK!C16","v":"13.3.Doğrudan Temin Süreci"},{"$f":"ÖNCELİK!D16","v":"Tüm Birimler"},null,{"$f":"ÖNCELİK!F16","v":{"$error":"#REF!"}},"ü","ü","ü"]
[{"$f":"ÖNCELİK!B17","v":"Personel Ödeme İşlemleri Süreci"},{"$f":"ÖNCELİK!C17","v":"8.4.Döner Sermaye Ek Ödeme İşlemleri"},{"$f":"ÖNCELİK!D17","v":"Tüm Birimler"},null,{"$f":"ÖNCELİK!F17","v":{"$error":"#REF!"}},"ü","ü","ü"]
[{"$f":"ÖNCELİK!B18","v":"Personel Ödeme İşlemleri Süreci"},{"$f":"ÖNCELİK!C18","v":"8.2.Ek Ders Ödemeleri"},{"$f":"ÖNCELİK!D18","v":"SGDB, Akademik Birimler"},null,{"$f":"ÖNCELİK!F18","v":{"$error":"#REF!"}},"ü",null,"ü"]
[{"$f":"ÖNCELİK!B19","v":"Gelir İşlemleri "},{"$f":"ÖNCELİK!C19","v":"12.7.Mal Satış Gelirleri"},{"$f":"ÖNCELİK!D19","v":"Döner Sermaye İşletmesi, Kızılırmak MYO"},null,{"$f":"ÖNCELİK!F19","v":{"$error":"#REF!"}},"ü",null,"ü"]
[{"$f":"ÖNCELİK!B20","v":"Gelir İşlemleri "},{"$f":"ÖNCELİK!C20","v":"12.8.Konaklama Gelirleri"},{"$f":"ÖNCELİK!D20","v":"SKSD Başkanlığı, Konukevi "},null,{"$f":"ÖNCELİK!F20","v":{"$error":"#REF!"}},"ü",null,"ü"]
[{"$f":"ÖNCELİK!B21","v":"Gelir İşlemleri "},{"$f":"ÖNCELİK!C21","v":"12.11.Akademik Danışmanlık Hizmet Gelirleri"},{"$f":"ÖNCELİK!D21","v":"Döner Sermaye İşletmesi, Akademik Birimler"},null,{"$f":"ÖNCELİK!F21","v":{"$error":"#REF!"}},"ü",null,"ü"]
[{"$f":"ÖNCELİK!B22","v":"Mali Kontrol İşlemleri Süreci"},{"$f":"ÖNCELİK!C22","v":"16.2.Ön Mali Kontrol İşlemleri"},{"$f":"ÖNCELİK!D22","v":" Harcama Birimleri, SGDB"},null,{"$f":"ÖNCELİK!F22","v":{"$error":"#REF!"}},"ü",null,"ü"]
[{"$f":"ÖNCELİK!B23","v":"Mali Kontrol İşlemleri Süreci"},{"$f":"ÖNCELİK!C23","v":"16.4.Emanet Tutarları Ödeme İşlemleri"},{"$f":"ÖNCELİK!D23","v":"SGDB"},null,{"$f":"ÖNCELİK!F23","v":{"$error":"#REF!"}},"ü",null,"ü"]
[{"$f":"ÖNCELİK!B24","v":"Senato ve Kurul Sekretarya İşlemleri"},{"$f":"ÖNCELİK!C24","v":"20.5.Bölüm Başkanlığı ve Anabilim Dalı İşlemleri"},{"$f":"ÖNCELİK!D24","v":"Fakülte, Yüksekokul, Enstitü"},null,{"$f":"ÖNCELİK!F24","v":{"$error":"#REF!"}},"ü",null,"ü"]
[{"$f":"ÖNCELİK!B25","v":"Personel Ödeme İşlemleri Süreci"},{"$f":"ÖNCELİK!C25","v":"8.1.Maaş Ödemeleri"},{"$f":"ÖNCELİK!D25","v":"SGDB, Personel D.Bşk. Harcama Birimleri"},null,{"$f":"ÖNCELİK!F25","v":{"$error":"#REF!"}},"ü",null,"ü"]
[{"$f":"ÖNCELİK!B26","v":"Mali Kontrol İşlemleri Süreci"},{"$f":"ÖNCELİK!C26","v":"16.1.İç Kontrol Faaliyetlerinin Koordinasyonu"},{"$f":"ÖNCELİK!D26","v":"İç Kontrol İzleme ve Yönlendirme Kurulu, SGDB"},null,{"$f":"ÖNCELİK!F26","v":{"$error":"#REF!"}},"ü",null,"ü"]
[{"$f":"ÖNCELİK!B27","v":"Mali Kontrol İşlemleri Süreci"},{"$f":"ÖNCELİK!C27","v":"16.3.Yasal Yükümlülükler Ödeme İşlemleri"},{"$f":"ÖNCELİK!D27","v":"SGDB"},null,{"$f":"ÖNCELİK!F27","v":{"$error":"#REF!"}},"ü",null,"ü"]
[{"$f":"ÖNCELİK!B28","v":"Muhasebe, Kesin Hesap ve Raporlama Süreci"},{"$f":"ÖNCELİK!C28","v":"18.1.Muhasebe Hizmetleri"},{"$f":"ÖNCELİK!D28","v":"SGDB, Harcama Birimleri"},null,{"$f":"ÖNCELİK!F28","v":{"$error":"#REF!"}},"ü",null,"ü"]
[{"$f":"ÖNCELİK!B29","v":"Personel Ödeme İşlemleri Süreci"},{"$f":"ÖNCELİK!C29","v":"8.3.Fazla Mesai Ücreti Ödemeleri"},{"$f":"ÖNCELİK!D29","v":"SGDB, Harcama Birimleri"},null,{"$f":"ÖNCELİK!F29","v":{"$error":"#REF!"}},"ü",null,"ü"]
[{"$f":"ÖNCELİK!B30","v":"Personel Ödeme İşlemleri Süreci"},{"$f":"ÖNCELİK!C30","v":"8.6.Yolluk Ödeme İşlemleri"},{"$f":"ÖNCELİK!D30","v":"SGDB, Harcama Birimleri"},null,{"$f":"ÖNCELİK!F30","v":{"$error":"#REF!"}},"ü",null,"ü"]
[{"$f":"ÖNCELİK!B31","v":"Personel Ödeme İşlemleri Süreci"},{"$f":"ÖNCELİK!C31","v":"8.7.Ön Ödeme İşlemleri"},{"$f":"ÖNCELİK!D31","v":"Harcama Birimleri, SGDB, Döner Ser.İşl."},null,{"$f":"ÖNCELİK!F31","v":{"$error":"#REF!"}},"ü",null,"ü"]
[{"$f":"ÖNCELİK!B32","v":"Yargı, Soruşturma ve Hukuki Müşavirlik Hizmetleri "},{"$f":"ÖNCELİK!C32","v":"7.1.Adli Dava İşlemleri Süreci"},{"$f":"ÖNCELİK!D32","v":"Hukuk Müşavirliği İdari ve Akademik Birimler"},null,{"$f":"ÖNCELİK!F32","v":{"$error":"#REF!"}},"ü",null,"ü"]
[{"$f":"ÖNCELİK!B33","v":"Yargı, Soruşturma ve Hukuki Müşavirlik Hizmetleri "},{"$f":"ÖNCELİK!C33","v":"7.2.İdari Dava İşlemleri Süreci"},{"$f":"ÖNCELİK!D33","v":"Hukuk Müşavirliği İdari ve Akademik Birimler"},null,{"$f":"ÖNCELİK!F33","v":{"$error":"#REF!"}},"ü",null,"ü"]
[{"$f":"ÖNCELİK!B34","v":"Yargı, Soruşturma ve Hukuki Müşavirlik Hizmetleri "},{"$f":"ÖNCELİK!C34","v":"7.3.İcra ve Alacak Takip İşlemleri"},{"$f":"ÖNCELİK!D34","v":"Hukuk Müşavirliği İdari ve Akademik Birimler"},null,{"$f":"ÖNCELİK!F34","v":{"$error":"#REF!"}},"ü",null,"ü"]
[{"$f":"ÖNCELİK!B35","v":"Personel Özlük İşlemleri Süreci"},{"$f":"ÖNCELİK!C35","v":"9.2.Öğretim Üyesi Atama İşlemleri"},{"$f":"ÖNCELİK!D35","v":"Personel Daire Başkanlığı Akademik Birimler"},null,{"$f":"ÖNCELİK!F35","v":{"$error":"#REF!"}},"ü",null,"ü"]
[{"$f":"ÖNCELİK!B36","v":"Personel Özlük İşlemleri Süreci"},{"$f":"ÖNCELİK!C36","v":"9.3.Öğretim Görevlisi ve Okutman Atama İşlemleri"},{"$f":"ÖNCELİK!D36","v":"Personel Daire Başkanlığı Akademik Birimler"},null,{"$f":"ÖNCELİK!F36","v":{"$error":"#REF!"}},"ü",null,"ü"]
[{"$f":"ÖNCELİK!B37","v":"Personel Özlük İşlemleri Süreci"},{"$f":"ÖNCELİK!C37","v":"9.4.Öğretim Yardımcıları Sınav ve Atama İşlemleri"},{"$f":"ÖNCELİK!D37","v":"Personel Daire Başkanlığı Akademik Birimler"},null,{"$f":"ÖNCELİK!F37","v":{"$error":"#REF!"}},"ü",null,"ü"]
[{"$f":"ÖNCELİK!B38","v":"Personel Görevlendirme"},{"$f":"ÖNCELİK!C38","v":"22.1.Yurtiçi Geçici Görevlendirme"},{"$f":"ÖNCELİK!D38","v":"İdari ve Akademik Birimler"},null,{"$f":"ÖNCELİK!F38","v":{"$error":"#REF!"}},"ü",null,"ü"]
[{"$f":"ÖNCELİK!B39","v":"Proje İşlemleri Süreci"},{"$f":"ÖNCELİK!C39","v":"3.1.İç Kaynaklı Bilimsel Projeler"},{"$f":"ÖNCELİK!D39","v":"Proje Yönetim Ofisi, SGDB, Akademik Birimler"},null,{"$f":"ÖNCELİK!F39","v":{"$error":"#REF!"}},"ü",null,"ü"]
[{"$f":"ÖNCELİK!B40","v":"Proje İşlemleri Süreci"},{"$f":"ÖNCELİK!C40","v":"3.2.Dış Kaynaklı Bilimsel Projeler "},{"$f":"ÖNCELİK!D40","v":"Proje Yönetim Ofisi, SGDB, Akademik Birimler"},null,{"$f":"ÖNCELİK!F40","v":{"$error":"#REF!"}},"ü",null,"ü"]
[{"$f":"ÖNCELİK!B41","v":"Bütçe ve Performans Süreci"},{"$f":"ÖNCELİK!C41","v":"17.4.Bütçe Uygulama Süreci"},{"$f":"ÖNCELİK!D41","v":"Personel Daire Başkanlığı, Akademik Birimler"},null,{"$f":"ÖNCELİK!F41","v":{"$error":"#REF!"}},"ü",null,"ü"]
[{"$f":"ÖNCELİK!B42","v":"Senato ve Kurul Sekretarya İşlemleri"},{"$f":"ÖNCELİK!C42","v":"20.3.Fakülte, Yüksekokul ve Enstitü Kurulları"},{"$f":"ÖNCELİK!D42","v":"SGDB, Harcama Birimleri"},null,{"$f":"ÖNCELİK!F42","v":{"$error":"#REF!"}},"ü",null,"ü"]
[{"$f":"ÖNCELİK!B43","v":"Senato ve Kurul Sekretarya İşlemleri"},{"$f":"ÖNCELİK!C43","v":"20.4.Fakülte, Y.okul, Ens. ve Araş. Merk. Yön. Kurulları"},{"$f":"ÖNCELİK!D43","v":"Fakülte, Yüksekokul, Enst."},null,{"$f":"ÖNCELİK!F43","v":{"$error":"#REF!"}},"ü",null,"ü"]
[{"$f":"ÖNCELİK!B44","v":"Personel Özlük İşlemleri Süreci"},{"$f":"ÖNCELİK!C44","v":"9.1.2547 sayılı Kanuna Göre Çalıştırı. Per. (Öğret. Ele.) "},{"$f":"ÖNCELİK!D44","v":"Fakülte, Y.okul, Enst. ve Merkezler"},null,{"$f":"ÖNCELİK!F44","v":{"$error":"#REF!"}},"ü",null,"ü"]
[{"$f":"ÖNCELİK!B45","v":"Bilgi İşlem Hizmetleri Süreci"},{"$f":"ÖNCELİK!C45","v":"5.4.Otomasyon Programları Yönetimi İşlemleri"},{"$f":"ÖNCELİK!D45","v":"Bilgi İşlem D.Bşk. Otomasyon Kullanan Tüm Birimler"},null,{"$f":"ÖNCELİK!F45","v":{"$error":"#REF!"}},"ü",null,"ü"]
[{"$f":"ÖNCELİK!B46","v":"Personel Görevlendirme"},{"$f":"ÖNCELİK!C46","v":"22.2.Yurtdışı Geçici Görevlendirme"},{"$f":"ÖNCELİK!D46","v":"İdari ve Akademik Birimler"},null,{"$f":"ÖNCELİK!F46","v":{"$error":"#REF!"}},"ü",null,"ü"]
[{"$f":"ÖNCELİK!B47","v":"Personel Görevlendirme"},{"$f":"ÖNCELİK!C47","v":"22.3.2547 13/b-4 Görevlendirmeleri"},{"$f":"ÖNCELİK!D47","v":"Rektörlük Makamı,  İdari ve Akademik Birimler"},null,{"$f":"ÖNCELİK!F47","v":{"$error":"#REF!"}},"ü",null,"ü"]
[{"$f":"ÖNCELİK!B48","v":"Personel Görevlendirme"},{"$f":"ÖNCELİK!C48","v":"22.4.Vekâleten Görevlendirmeler"},{"$f":"ÖNCELİK!D48","v":"Personel Daire Başkanlığı İdari ve Akademik Birimler"},null,{"$f":"ÖNCELİK!F48","v":{"$error":"#REF!"}},"ü",null,"ü"]
[{"$f":"ÖNCELİK!B49","v":"Personel Görevlendirme"},{"$f":"ÖNCELİK!C49","v":"22.5.Tedviren Görevlendirmeler"},{"$f":"ÖNCELİK!D49","v":"Personel Daire Başkanlığı İdari ve Akademik Birimler"},null,{"$f":"ÖNCELİK!F49","v":{"$error":"#REF!"}},"ü",null,"ü"]
[{"$f":"ÖNCELİK!B50","v":"Personel Görevlendirme"},{"$f":"ÖNCELİK!C50","v":"22.6. Diğer Görevlen. (2547 sayılı Kanunun 40/a, b, d) "},{"$f":"ÖNCELİK!D50","v":"Personel Daire Başkanlığı Akademik Birimler"},null,{"$f":"ÖNCELİK!F50","v":{"$error":"#REF!"}},"ü",null,"ü"]
[{"$f":"ÖNCELİK!B51","v":"Personel Ödeme İşlemleri Süreci"},{"$f":"ÖNCELİK!C51","v":"8.5. Ayni Yardımlar"},{"$f":"ÖNCELİK!D51","v":"Harcama Birimleri, SGDB, İMİD, Personel D.Bşk."},null,{"$f":"ÖNCELİK!F51","v":{"$error":"#REF!"}},"ü",null,"ü"]
[{"$f":"ÖNCELİK!B52","v":"Personel Ödeme İşlemleri Süreci"},{"$f":"ÖNCELİK!C52","v":"8.8.Diğer Ödemeler"},{"$f":"ÖNCELİK!D52","v":"Harcama Birimleri  SGDB"},null,{"$f":"ÖNCELİK!F52","v":{"$error":"#REF!"}},"ü",null,"ü"]
[{"$f":"ÖNCELİK!B53","v":"Gelir İşlemleri "},{"$f":"ÖNCELİK!C53","v":"12.1.Örgün Eğitim Katkı Payı"},{"$f":"ÖNCELİK!D53","v":"Personel Daire Başkanlığı İdari ve Akademik Birimler"},null,{"$f":"ÖNCELİK!F53","v":{"$error":"#REF!"}},"ü",null,"ü"]
[{"$f":"ÖNCELİK!B54","v":"Gelir İşlemleri "},{"$f":"ÖNCELİK!C54","v":"12.2.İkinci Öğretim Öğrenim Ücreti"},{"$f":"ÖNCELİK!D54","v":"SKSD, Başkanlığı SGDB"},null,{"$f":"ÖNCELİK!F54","v":{"$error":"#REF!"}},"ü",null,"ü"]
[{"$f":"ÖNCELİK!B55","v":"Bütçe ve Performans Süreci"},{"$f":"ÖNCELİK!C55","v":"17.3.Gelirlerin Tahak., Gelir ve Alac. Takip ve Tah. İşl."},{"$f":"ÖNCELİK!D55","v":"SKSD, Başkanlığı SGDB"},null,{"$f":"ÖNCELİK!F55","v":{"$error":"#REF!"}},"ü",null,"ü"]
[{"$f":"ÖNCELİK!B56","v":"Bütçe ve Performans Süreci"},{"$f":"ÖNCELİK!C56","v":"17.6.Ödenek İşlemleri"},{"$f":"ÖNCELİK!D56","v":"SGDB"},null,{"$f":"ÖNCELİK!F56","v":{"$error":"#REF!"}},"ü",null,"ü"]
[{"$f":"ÖNCELİK!B57","v":"Muhasebe, Kesin Hesap ve Raporlama Süreci"},{"$f":"ÖNCELİK!C57","v":"18.2.Mali İstatistiklerin Hazırlanması"},{"$f":"ÖNCELİK!D57","v":"SGDB, Harcama Birimleri"},null,{"$f":"ÖNCELİK!F57","v":{"$error":"#REF!"}},"ü",null,"ü"]
[{"$f":"ÖNCELİK!B58","v":"Muhasebe, Kesin Hesap ve Raporlama Süreci"},{"$f":"ÖNCELİK!C58","v":"18.3.Bütçe Kesin Hesabının Hazırlanması"},{"$f":"ÖNCELİK!D58","v":"Harcama Birimleri SGDB, Döner Ser.İşl."},null,{"$f":"ÖNCELİK!F58","v":{"$error":"#REF!"}},"ü",null,"ü"]
[{"$f":"ÖNCELİK!B59","v":"Muhasebe, Kesin Hesap ve Raporlama Süreci"},{"$f":"ÖNCELİK!C59","v":"18.4.Mali Döneme Ait İcmal Cetvellerinin Hazırlan."},{"$f":"ÖNCELİK!D59","v":"SGDB"},null,{"$f":"ÖNCELİK!F59","v":{"$error":"#REF!"}},"ü",null,"ü"]
[{"$f":"ÖNCELİK!B60","v":"Senato ve Kurul Sekretarya İşlemleri"},{"$f":"ÖNCELİK!C60","v":"20.1.Senato İşlemleri"},{"$f":"ÖNCELİK!D60","v":"SGDB"},null,{"$f":"ÖNCELİK!F60","v":{"$error":"#REF!"}},"ü",null,"ü"]
[{"$f":"ÖNCELİK!B61","v":"Senato ve Kurul Sekretarya İşlemleri"},{"$f":"ÖNCELİK!C61","v":"20.2.Üniversite Yönetim Kurulu İşlemleri"},{"$f":"ÖNCELİK!D61","v":"Genel Sekreterlik"},null,{"$f":"ÖNCELİK!F61","v":{"$error":"#REF!"}},"ü",null,"ü"]
[{"$f":"ÖNCELİK!B62","v":"Personel Özlük İşlemleri Süreci"},{"$f":"ÖNCELİK!C62","v":"9.5.657 sayılı Kanuna Göre Çalıştırılan Per. Atama"},{"$f":"ÖNCELİK!D62","v":"Genel Sekreterlik"},null,{"$f":"ÖNCELİK!F62","v":{"$error":"#REF!"}},"ü",null,"ü"]
[{"$f":"ÖNCELİK!B63","v":"Gelir İşlemleri "},{"$f":"ÖNCELİK!C63","v":"12.16.Avukatlık Vekâlet Ücreti Gelirleri"},{"$f":"ÖNCELİK!D63","v":"Hukuk Müşavirliği, SGDB"},null,{"$f":"ÖNCELİK!F63","v":{"$error":"#REF!"}},null,"ü"]
[{"$f":"ÖNCELİK!B64","v":"Öğrenci İşlemleri Süreci"},{"$f":"ÖNCELİK!C64","v":"10.18.Kısmi Zamanlı Öğrenci Çalıştırılması Süreci"},{"$f":"ÖNCELİK!D64","v":"SKSD Başkanlığı, İdari ve Akademik Birimler"},null,{"$f":"ÖNCELİK!F64","v":{"$error":"#REF!"}},null,"ü"]
[{"$f":"ÖNCELİK!B65","v":"Öğrenci İşlemleri Süreci"},{"$f":"ÖNCELİK!C65","v":"10.19.Öğrenci Toplulukları İşlemleri"},{"$f":"ÖNCELİK!D65","v":"SKSD Başkanlığı, Akademik Birimler"},null,{"$f":"ÖNCELİK!F65","v":{"$error":"#REF!"}},null,"ü"]
[{"$f":"ÖNCELİK!B66","v":"Bilgi İşlem Hizmetleri Süreci"},{"$f":"ÖNCELİK!C66","v":"5.2.Ağ Yönetimi ve Güvenliği İşlemleri"},{"$f":"ÖNCELİK!D66","v":"Bilgi İşlem D.Bşk."},null,{"$f":"ÖNCELİK!F66","v":{"$error":"#REF!"}},null,"ü"]
[{"$f":"ÖNCELİK!B67","v":"Öğrenci ve personel değişim programları süreci"},{"$f":"ÖNCELİK!C67","v":"2.1.Farabi Öğrenci ve Öğret. Elemanı Değ. Prog. Süreci"},{"$f":"ÖNCELİK!D67","v":"Farabi Kurum Koord., SGDB/Akademik Birimler"},null,{"$f":"ÖNCELİK!F67","v":{"$error":"#REF!"}},null,"ü"]
[{"$f":"ÖNCELİK!B68","v":"Öğrenci ve personel değişim programları süreci"},{"$f":"ÖNCELİK!C68","v":"2.2.Erasmus Öğrenci ve Personel Hareketliliği Süreci"},{"$f":"ÖNCELİK!D68","v":"Uluslararası İlişkiler Birimi, SGDB/Akademik Birimler"},null,{"$f":"ÖNCELİK!F68","v":{"$error":"#REF!"}},null,"ü"]
[{"$f":"ÖNCELİK!B69","v":"Öğrenci ve personel değişim programları süreci"},{"$f":"ÖNCELİK!C69","v":"2.3.Mevlana Öğrenci ve Öğretim Ele. Değ. Prg. Süreci"},{"$f":"ÖNCELİK!D69","v":"Uluslararası İlişkiler Birimi, SGDB/Akademik Birimler"},null,{"$f":"ÖNCELİK!F69","v":{"$error":"#REF!"}},null,"ü"]
[{"$f":"ÖNCELİK!B70","v":"Öğrenci ve personel değişim programları süreci"},{"$f":"ÖNCELİK!C70","v":"2.4 Öğretim Elemanı Yetiştirme Programı Süreci"},{"$f":"ÖNCELİK!D70","v":"ÖYP Koordinatörlüğü, SGDB/Akademik Birimler"},null,{"$f":"ÖNCELİK!F70","v":{"$error":"#REF!"}},null,"ü"]
[{"$f":"ÖNCELİK!B71","v":"Bilgi İşlem Hizmetleri Süreci"},{"$f":"ÖNCELİK!C71","v":"5.1.Teknik ve Yazılım Destek İşlemleri"},{"$f":"ÖNCELİK!D71","v":"Bilgi İşlem D.Bşk., Tüm Birimler"},null,{"$f":"ÖNCELİK!F71","v":{"$error":"#REF!"}},null,"ü"]
[{"$f":"ÖNCELİK!B72","v":"Personel Özlük İşlemleri Süreci"},{"$f":"ÖNCELİK!C72","v":"9.10.Görevde Yükselme İşlemleri"},{"$f":"ÖNCELİK!D72","v":"Personel Daire Başkanlığı, İdari ve Akademik Birimler"},null,{"$f":"ÖNCELİK!F72","v":{"$error":"#REF!"}},null,"ü"]
[{"$f":"ÖNCELİK!B73","v":{"$error":"#REF!"}},{"$f":"ÖNCELİK!C73","v":{"$error":"#REF!"}},{"$f":"ÖNCELİK!D73","v":{"$error":"#REF!"}},null,{"$f":"ÖNCELİK!F73","v":{"$error":"#REF!"}},null,"ü"]
[{"$f":"ÖNCELİK!B74","v":"Evrak İşlemleri Süreci"},{"$f":"ÖNCELİK!C74","v":"1.2.Giden Evrak Hazırlama, Kayıt ve Dağıtım"},{"$f":"ÖNCELİK!D74","v":{"$error":"#REF!"}},null,{"$f":"ÖNCELİK!F74","v":{"$error":"#REF!"}},null,"ü"]
[{"$f":"ÖNCELİK!B75","v":"Evrak İşlemleri Süreci"},{"$f":"ÖNCELİK!C75","v":"1.4.Arşivleme (Resmi evrak ve Bilimsel yayın arşiv.)"},{"$f":"ÖNCELİK!D75","v":"Genel Sekreterlik/İMİD,Tüm Birimler"},null,{"$f":"ÖNCELİK!F75","v":{"$error":"#REF!"}},null,"ü"]
[{"$f":"ÖNCELİK!B76","v":"Evrak İşlemleri Süreci"},{"$f":"ÖNCELİK!C76","v":"1.5.Tebligat ve Zimmet işlemleri"},{"$f":"ÖNCELİK!D76","v":"Genel Sekreterlik, Tüm Birimler"},null,{"$f":"ÖNCELİK!F76","v":{"$error":"#REF!"}},null,"ü"]
[{"$f":"ÖNCELİK!B77","v":"Gelir İşlemleri "},{"$f":"ÖNCELİK!C77","v":"12.14.Lojman Kira Gelirleri"},{"$f":"ÖNCELİK!D77","v":"Personel Daire Başkanlığı"},null,{"$f":"ÖNCELİK!F77","v":{"$error":"#REF!"}},null,"ü"]
[{"$f":"ÖNCELİK!B78","v":"Gelir İşlemleri "},{"$f":"ÖNCELİK!C78","v":"12.3.Uzaktan Eğitim Öğrenim Ücreti ve Materyal Gel."},{"$f":"ÖNCELİK!D78","v":"SKSD Başkanlığı, SGDB"},null,{"$f":"ÖNCELİK!F78","v":{"$error":"#REF!"}},null,"ü"]
[{"$f":"ÖNCELİK!B79","v":"Gelir İşlemleri "},{"$f":"ÖNCELİK!C79","v":"12.4.Tezli Yüksek Lisans Katkı Payı"},{"$f":"ÖNCELİK!D79","v":"SKSD Başkanlığı, SGDB"},null,{"$f":"ÖNCELİK!F79","v":{"$error":"#REF!"}},null,"ü"]
[{"$f":"ÖNCELİK!B80","v":"Gelir İşlemleri "},{"$f":"ÖNCELİK!C80","v":"12.5.Tezsiz Yüksek Lisans Öğrenim Ücreti"},{"$f":"ÖNCELİK!D80","v":"SKSD Başkanlığı, SGDB"},null,{"$f":"ÖNCELİK!F80","v":{"$error":"#REF!"}},null,null,"ü"]
[{"$f":"ÖNCELİK!B81","v":"Taşınmaz Mal İşlemleri Süreci"},{"$f":"ÖNCELİK!C81","v":"15.1.Taşınmaz Mal Kayıt ve Konsolide İşlemleri "},{"$f":"ÖNCELİK!D81","v":"Personel Daire Başkanlığı SGDB, İMİD"},null,{"$f":"ÖNCELİK!F81","v":{"$error":"#REF!"}},null,null,"ü"]
[{"$f":"ÖNCELİK!B82","v":"Taşınmaz Mal İşlemleri Süreci"},{"$f":"ÖNCELİK!C82","v":"15.2.Taşınmaz Edinimi"},{"$f":"ÖNCELİK!D82","v":"Harcama Birimleri SGDB"},null,{"$f":"ÖNCELİK!F82","v":{"$error":"#REF!"}},null,null,"ü"]
[{"$f":"ÖNCELİK!B83","v":"Taşınmaz Mal İşlemleri Süreci"},{"$f":"ÖNCELİK!C83","v":"15.3.Taşınmaz Kiraya Verilmesi ve Yönetimi"},{"$f":"ÖNCELİK!D83","v":"İMİD,Yapı İşleri Daire Bşk., SGDB"},null,{"$f":"ÖNCELİK!F83","v":{"$error":"#REF!"}},null,null,"ü"]
[{"$f":"ÖNCELİK!B84","v":"Bütçe ve Performans Süreci"},{"$f":"ÖNCELİK!C84","v":"17.5.Stratejik Planlama İşlemleri"},{"$f":"ÖNCELİK!D84","v":"SKSD,İMİD, SGDB"},null,{"$f":"ÖNCELİK!F84","v":{"$error":"#REF!"}},null,null,"ü"]
[{"$f":"ÖNCELİK!B85","v":"Kütüphanecilik İşlemleri Süreci"},{"$f":"ÖNCELİK!C85","v":"19.1.Üyelik İşlemleri"},{"$f":"ÖNCELİK!D85","v":"SGDB, Harcama Birimleri"},null,{"$f":"ÖNCELİK!F85","v":{"$error":"#REF!"}},null,null,"ü"]
[{"$f":"ÖNCELİK!B86","v":"Kütüphanecilik İşlemleri Süreci"},{"$f":"ÖNCELİK!C86","v":"19.3.Ödünç Verme, Kayıp ve İade İşlemleri"},{"$f":"ÖNCELİK!D86","v":"Kütüphane DDB"},null,{"$f":"ÖNCELİK!F86","v":{"$error":"#REF!"}},null,null,"ü"]
[{"$f":"ÖNCELİK!B87","v":"Personel Özlük İşlemleri Süreci"},{"$f":"ÖNCELİK!C87","v":"9.6.Kadro İşlemleri Süreci"},{"$f":"ÖNCELİK!D87","v":"Kütüphane DDB"},null,{"$f":"ÖNCELİK!F87","v":{"$error":"#REF!"}},null,null,"ü"]
[{"$f":"ÖNCELİK!B88","v":"Eğitim ve Öğretim ile İlgili İşlemler"},{"$f":"ÖNCELİK!C88","v":"11.7.Sınav Sonuç. Öğr. Oto. Sist. Girişi ve Sınav Kâğıt. Muh."},{"$f":"ÖNCELİK!D88","v":"Akademik Birimler"},null,{"$f":"ÖNCELİK!F88","v":{"$error":"#REF!"}},null,null,"ü"]
[{"$f":"ÖNCELİK!B89","v":"Eğitim ve Öğretim ile İlgili İşlemler"},{"$f":"ÖNCELİK!C89","v":"11.9.Öğrenci Staj İşlemleri Süreci"},{"$f":"ÖNCELİK!D89","v":"Akademik Birimler, SKSD Başkanlığı"},null,{"$f":"ÖNCELİK!F89","v":{"$error":"#REF!"}},null,null,"ü"]
[{"$f":"ÖNCELİK!B90","v":"Bütçe ve Performans Süreci"},{"$f":"ÖNCELİK!C90","v":"17.1.Bütçenin Hazırlanması"},{"$f":"ÖNCELİK!D90","v":"SGDB, Harcama Birimleri"},null,{"$f":"ÖNCELİK!F90","v":{"$error":"#REF!"}},null,null,"ü"]
[{"$f":"ÖNCELİK!B91","v":"Gelir İşlemleri "},{"$f":"ÖNCELİK!C91","v":"12.15.Diğer Taşınmaz Kira Gelirleri (Kantin, Baz ist.)"},{"$f":"ÖNCELİK!D91","v":"İMİD, SKSD Başkanlığı, SGDB"},null,{"$f":"ÖNCELİK!F91","v":{"$error":"#REF!"}},null,null,"ü"]
[{"$f":"ÖNCELİK!B92","v":"Genel Hizmetler Süreci"},{"$f":"ÖNCELİK!C92","v":"21.5.Hizmet Araçları Yönetimi İşlemleri"},{"$f":"ÖNCELİK!D92","v":"İMİD, İdari ve Akademik Birimler"},null,{"$f":"ÖNCELİK!F92","v":{"$error":"#REF!"}},null,null,"ü"]
[{"$f":"ÖNCELİK!B93","v":"Bilgi İşlem Hizmetleri Süreci"},{"$f":"ÖNCELİK!C93","v":"5.3.Yazılım İşlemleri Süreci"},{"$f":"ÖNCELİK!D93","v":"Bilgi İşlem D.Bşk., Tüm Birimler"},null,{"$f":"ÖNCELİK!F93","v":{"$error":"#REF!"}},null,null,"ü"]
[{"$f":"ÖNCELİK!B94","v":"Bilgi İşlem Hizmetleri Süreci"},{"$f":"ÖNCELİK!C94","v":"5.5.Sunucu (Server) Hizmetleri"},{"$f":"ÖNCELİK!D94","v":"Bilgi İşlem D.Bşk."},null,{"$f":"ÖNCELİK!F94","v":{"$error":"#REF!"}},null,null,"ü"]
[{"$f":"ÖNCELİK!B95","v":"Öğrenci İşlemleri Süreci"},{"$f":"ÖNCELİK!C95","v":"10.15.Öğrenci Temsilci Seçimi İşlemleri"},{"$f":"ÖNCELİK!D95","v":"Öğrenci İşleri D.Bşk., Akademik Birimler"},null,{"$f":"ÖNCELİK!F95","v":{"$error":"#REF!"}},null,null,"ü"]
[{"$f":"ÖNCELİK!B96","v":"Personel Özlük İşlemleri Süreci"},{"$f":"ÖNCELİK!C96","v":"9.8.Terfi süreçleri"},{"$f":"ÖNCELİK!D96","v":"Personel Daire Başkanlığı, İdari ve Akademik Birimler"},null,{"$f":"ÖNCELİK!F96","v":{"$error":"#REF!"}},null,null,"ü"]
[{"$f":"ÖNCELİK!B97","v":"Kütüphanecilik İşlemleri Süreci"},{"$f":"ÖNCELİK!C97","v":"19.2.Süreli Süresiz Yayın Abonelik ve Dağıtımı İşl."},{"$f":"ÖNCELİK!D97","v":"Personel Daire Başkanlığı"},null,{"$f":"ÖNCELİK!F97","v":{"$error":"#REF!"}},"ü"]
[{"$f":"ÖNCELİK!B98","v":"Kütüphanecilik İşlemleri Süreci"},{"$f":"ÖNCELİK!C98","v":"19.4.Kütüphanecilik Dokümantasyon İşlemleri"},{"$f":"ÖNCELİK!D98","v":"Kütüphane DDB"},null,{"$f":"ÖNCELİK!F98","v":{"$error":"#REF!"}},"ü"]
[{"$f":"ÖNCELİK!B99","v":"Senato ve Kurul Sekretarya İşlemleri"},{"$f":"ÖNCELİK!C99","v":"20.6.Diğer Kurullar ve Komisyonlar"},{"$f":"ÖNCELİK!D99","v":"Kütüphane DDB"},null,{"$f":"ÖNCELİK!F99","v":{"$error":"#REF!"}},"ü"]
[{"$f":"ÖNCELİK!B100","v":"Personel Özlük İşlemleri Süreci"},{"$f":"ÖNCELİK!C100","v":"9.7.İntibak süreçleri"},{"$f":"ÖNCELİK!D100","v":"Genel Sekreterlik"},null,{"$f":"ÖNCELİK!F100","v":{"$error":"#REF!"}},"ü"]
[{"$f":"ÖNCELİK!B101","v":"Emniyet ve Güvenlik Hizmetleri"},{"$f":"ÖNCELİK!C101","v":"24.3.Koruma ve Güvenlik Hizmetleri "},{"$f":"ÖNCELİK!D101","v":"İMİD, Güvenlik Şube Müdürlüğü"},null,{"$f":"ÖNCELİK!F101","v":{"$error":"#REF!"}},"ü"]
[{"$f":"ÖNCELİK!B102","v":"Evrak İşlemleri Süreci"},{"$f":"ÖNCELİK!C102","v":"1.3.Dosyalama"},{"$f":"ÖNCELİK!D102","v":"Genel Sekreterlik/İMİD, Tüm Birimler"},null,{"$f":"ÖNCELİK!F102","v":{"$error":"#REF!"}},"ü"]
[{"$f":"ÖNCELİK!B103","v":"Gelir İşlemleri "},{"$f":"ÖNCELİK!C103","v":"12.10.Yüzme Havuzu, Spor Saha ve Salon Gelirleri"},{"$f":"ÖNCELİK!D103","v":"Basın Yayın Birimi, Tüm Birimler"},null,{"$f":"ÖNCELİK!F103","v":{"$error":"#REF!"}},"ü"]
[{"$f":"ÖNCELİK!B104","v":"Gelir İşlemleri "},{"$f":"ÖNCELİK!C104","v":"12.17.Şartname ve Basılı Evrak Gelirleri"},{"$f":"ÖNCELİK!D104","v":"Basın Yayın Birimi, Akademik Birimler"},null,{"$f":"ÖNCELİK!F104","v":{"$error":"#REF!"}},"ü"]
[{"$f":"ÖNCELİK!B105","v":"Gelir İşlemleri "},{"$f":"ÖNCELİK!C105","v":"12.6.Doktora Öğrenim Ücreti"},{"$f":"ÖNCELİK!D105","v":"Basın Yayın Birimi, İdari ve Akademik Birimler"},null,{"$f":"ÖNCELİK!F105","v":{"$error":"#REF!"}},"ü"]
[{"$f":"ÖNCELİK!B106","v":"Bütçe ve Performans Süreci"},{"$f":"ÖNCELİK!C106","v":"17.2.Yatırım Programının Hazırlanması"},{"$f":"ÖNCELİK!D106","v":"Basın Yayın Birimi"},null,{"$f":"ÖNCELİK!F106","v":{"$error":"#REF!"}},"ü"]
[{"$f":"ÖNCELİK!B107","v":"Basın Yayın ve Halkla İlişkiler İşlemleri Süreci"},{"$f":"ÖNCELİK!C107","v":"4.1.Bilgi Edinme İşlemleri Süreci"},{"$f":"ÖNCELİK!D107","v":"Basın Yayın Birimi,Tüm Birimler"},null,{"$f":"ÖNCELİK!F107","v":{"$error":"#REF!"}},"ü"]
[{"$f":"ÖNCELİK!B108","v":"Basın Yayın ve Halkla İlişkiler İşlemleri Süreci"},{"$f":"ÖNCELİK!C108","v":"4.2.Süreli Yayın İşlemleri"},{"$f":"ÖNCELİK!D108","v":"Bilgi İşlem D.Bşk., Basın Yayın Brm., İdari ve Akademik Birimler"},null,{"$f":"ÖNCELİK!F108","v":{"$error":"#REF!"}},"ü"]
[{"$f":"ÖNCELİK!B109","v":"Basın Yayın ve Halkla İlişkiler İşlemleri Süreci"},{"$f":"ÖNCELİK!C109","v":"4.3.Süresiz Yayın İşlemleri"},{"$f":"ÖNCELİK!D109","v":"Basın Yayın Birimi/SKS Dai.Bşk.lığı"},null,{"$f":"ÖNCELİK!F109","v":{"$error":"#REF!"}},"ü"]
[{"$f":"ÖNCELİK!B110","v":"Basın Yayın ve Halkla İlişkiler İşlemleri Süreci"},{"$f":"ÖNCELİK!C110","v":"4.4.Haber ve Duyuru Yayma İşlemleri "},{"$f":"ÖNCELİK!D110","v":"SKSD Başkanlığı"},null,{"$f":"ÖNCELİK!F110","v":{"$error":"#REF!"}},"ü"]
[{"$f":"ÖNCELİK!B111","v":"Basın Yayın ve Halkla İlişkiler İşlemleri Süreci"},{"$f":"ÖNCELİK!C111","v":"4.5.Haber Toplama İşlemleri"},{"$f":"ÖNCELİK!D111","v":"SKSD Başkanlığı, SGDB"},null,{"$f":"ÖNCELİK!F111","v":{"$error":"#REF!"}},"ü"]
[{"$f":"ÖNCELİK!B112","v":"Basın Yayın ve Halkla İlişkiler İşlemleri Süreci"},{"$f":"ÖNCELİK!C112","v":"4.6.Web Sayfası İşlemleri Süreci"},{"$f":"ÖNCELİK!D112","v":"SKSD Başkanlığı, SGDB"},null,{"$f":"ÖNCELİK!F112","v":{"$error":"#REF!"}},"ü"]
[{"$f":"ÖNCELİK!B113","v":"Basın Yayın ve Halkla İlişkiler İşlemleri Süreci"},{"$f":"ÖNCELİK!C113","v":"4.7.Tanıtım İşlemleri Süreci"},{"$f":"ÖNCELİK!D113","v":"Harcama Birimleri, SGDB"},null,{"$f":"ÖNCELİK!F113","v":{"$error":"#REF!"}},"ü"]
[{"$f":"ÖNCELİK!B114","v":"Basın Yayın ve Halkla İlişkiler İşlemleri Süreci"},{"$f":"ÖNCELİK!C114","v":"4.8.Etkinlik ve Organizasyon İşlemleri"},{"$f":"ÖNCELİK!D114","v":"SGDB, Harcama Birimleri"},null,{"$f":"ÖNCELİK!F114","v":{"$error":"#REF!"}},null,"ü"]
[{"$f":"ÖNCELİK!B115","v":"Yargı, Soruşturma ve Hukuki Müşavirlik Hizmetleri "},{"$f":"ÖNCELİK!C115","v":"7.7.Müşavirlik İşlemleri"},{"$f":"ÖNCELİK!D115","v":"Hukuk Müşavirliği, Tüm Birimler"},null,{"$f":"ÖNCELİK!F115","v":{"$error":"#REF!"}},null,"ü"]
[{"$f":"ÖNCELİK!B116","v":"Yargı, Soruşturma ve Hukuki Müşavirlik Hizmetleri "},{"$f":"ÖNCELİK!C116","v":"7.8.Mevzuat Hazırlama Süreci"},{"$f":"ÖNCELİK!D116","v":"Genel Sekreterlik, Tüm Birimler"},null,{"$f":"ÖNCELİK!F116","v":{"$error":"#REF!"}},null,"ü"]
[{"$f":"ÖNCELİK!B117","v":"Genel Hizmetler Süreci"},{"$f":"ÖNCELİK!C117","v":"21.4.Çevre Düzenleme İşlemleri (Peyzaj, Ağaçlan.)"},{"$f":"ÖNCELİK!D117","v":"İMİD, Ağaçlandırma ve Çevre Düzenleme Şube Müd."},null,{"$f":"ÖNCELİK!F117","v":{"$error":"#REF!"}},null,"ü"]
[{"$f":"ÖNCELİK!B118","v":"Öğrenci İşlemleri Süreci"},{"$f":"ÖNCELİK!C118","v":"10.10.Özel Öğrenciler ve Diğer Öğrenciler"},{"$f":"ÖNCELİK!D118","v":"Akademik Birimler"},null,{"$f":"ÖNCELİK!F118","v":{"$error":"#REF!"}},null,"ü"]
[{"$f":"ÖNCELİK!B119","v":"Öğrenci İşlemleri Süreci"},{"$f":"ÖNCELİK!C119","v":"10.11.Ders Kaydı İşlemleri"},{"$f":"ÖNCELİK!D119","v":"Akademik Birimler"},null,{"$f":"ÖNCELİK!F119","v":{"$error":"#REF!"}},null,"ü"]
[{"$f":"ÖNCELİK!B120","v":"Öğrenci İşlemleri Süreci"},{"$f":"ÖNCELİK!C120","v":"10.2.Lisans Yerleştirme Sınavı ile Gelen Öğrenciler"},{"$f":"ÖNCELİK!D120","v":"Akademik Birimler"},null,{"$f":"ÖNCELİK!F120","v":{"$error":"#REF!"}},null,"ü"]
[{"$f":"ÖNCELİK!B121","v":"Öğrenci İşlemleri Süreci"},{"$f":"ÖNCELİK!C121","v":"10.3.Özel Yetenek Sınavı ile Gelen Öğrenciler"},{"$f":"ÖNCELİK!D121","v":"Akademik Birimler"},null,{"$f":"ÖNCELİK!F121","v":{"$error":"#REF!"}},null,"ü"]
[{"$f":"ÖNCELİK!B122","v":"Öğrenci İşlemleri Süreci"},{"$f":"ÖNCELİK!C122","v":"10.4.YÖS ile Gelen Öğrenciler"},{"$f":"ÖNCELİK!D122","v":"Akademik Birimler"},null,{"$f":"ÖNCELİK!F122","v":{"$error":"#REF!"}},null,"ü"]
[{"$f":"ÖNCELİK!B123","v":"Öğrenci İşlemleri Süreci"},{"$f":"ÖNCELİK!C123","v":"10.5.Yatay Geçiş ile Gelen Öğrenciler"},{"$f":"ÖNCELİK!D123","v":"Akademik Birimler"},null,{"$f":"ÖNCELİK!F123","v":{"$error":"#REF!"}},null,"ü"]
[{"$f":"ÖNCELİK!B124","v":"Öğrenci İşlemleri Süreci"},{"$f":"ÖNCELİK!C124","v":"10.6.Dikey Geçiş Sınavı ile Gelen Öğrenciler"},{"$f":"ÖNCELİK!D124","v":"UZEM"},null,{"$f":"ÖNCELİK!F124","v":{"$error":"#REF!"}},null,"ü"]
[{"$f":"ÖNCELİK!B125","v":"Öğrenci İşlemleri Süreci"},{"$f":"ÖNCELİK!C125","v":"10.7.Değişim Program. veya Hareket. ile Gelen Öğren."},{"$f":"ÖNCELİK!D125","v":"ENSTİTÜLER"},null,{"$f":"ÖNCELİK!F125","v":{"$error":"#REF!"}},null,"ü"]
[{"$f":"ÖNCELİK!B126","v":"Öğrenci İşlemleri Süreci"},{"$f":"ÖNCELİK!C126","v":"10.8.UZEM Tarafından Kabul Edilen Öğrenciler"},{"$f":"ÖNCELİK!D126","v":"ENSTİTÜLER"},null,{"$f":"ÖNCELİK!F126","v":{"$error":"#REF!"}},null,"ü"]
[{"$f":"ÖNCELİK!B127","v":"Öğrenci İşlemleri Süreci"},{"$f":"ÖNCELİK!C127","v":"10.9.Yüksek Lisans ve Doktora Öğr. Kayıt ve Kabul İşl."},{"$f":"ÖNCELİK!D127","v":"Akademik Birimler"},null,{"$f":"ÖNCELİK!F127","v":{"$error":"#REF!"}},null,"ü"]
[{"$f":"ÖNCELİK!B128","v":"Eğitim ve Öğretim ile İlgili İşlemler"},{"$f":"ÖNCELİK!C128","v":"11.1.Ders Prog. ve Dağılım. Hazırlan. ve Duyurul.İşl."},{"$f":"ÖNCELİK!D128","v":"Akademik Birimler"},null,{"$f":"ÖNCELİK!F128","v":{"$error":"#REF!"}},null,"ü"]
[{"$f":"ÖNCELİK!B129","v":"Eğitim ve Öğretim ile İlgili İşlemler"},{"$f":"ÖNCELİK!C129","v":"11.2.Ders Puantajlarının Hazırlanması İşlemleri"},{"$f":"ÖNCELİK!D129","v":"Akademik Birimler  ve UZEM"},null,{"$f":"ÖNCELİK!F129","v":{"$error":"#REF!"}},null,"ü"]
[{"$f":"ÖNCELİK!B130","v":"Eğitim ve Öğretim ile İlgili İşlemler"},{"$f":"ÖNCELİK!C130","v":"11.4.Öğrenci Danışmanının Belirlen. ve Bildirilmesi"},{"$f":"ÖNCELİK!D130","v":"Akademik Birimler  ve UZEM"},null,{"$f":"ÖNCELİK!F130","v":{"$error":"#REF!"}},null,"ü"]
[{"$f":"ÖNCELİK!B131","v":"Eğitim ve Öğretim ile İlgili İşlemler"},{"$f":"ÖNCELİK!C131","v":"11.5.Sınav Programlarının İlanı"},{"$f":"ÖNCELİK!D131","v":"Akademik Birimler  ve UZEM"},null,{"$f":"ÖNCELİK!F131","v":{"$error":"#REF!"}},null,null,"ü"]
[{"$f":"ÖNCELİK!B132","v":"Eğitim ve Öğretim ile İlgili İşlemler"},{"$f":"ÖNCELİK!C132","v":"11.6.Gözetmenlik Görevlerinin Belirlenmesi ve İlanı"},{"$f":"ÖNCELİK!D132","v":"Akademik Birimler  ve UZEM"},null,{"$f":"ÖNCELİK!F132","v":{"$error":"#REF!"}},null,null,"ü"]
[{"$f":"ÖNCELİK!B133","v":"Emniyet ve Güvenlik Hizmetleri"},{"$f":"ÖNCELİK!C133","v":"24.1.Afet ve Acil Durum Yönetimi İşlemleri"},{"$f":"ÖNCELİK!D133","v":"İMİD, Sivil Savunma Uzmanlığı"},null,{"$f":"ÖNCELİK!F133","v":{"$error":"#REF!"}},null,null,"ü"]
[{"$f":"ÖNCELİK!B134","v":"Emniyet ve Güvenlik Hizmetleri"},{"$f":"ÖNCELİK!C134","v":"24.2.İş Sağlığı ve Güvenliği İşlemler"},{"$f":"ÖNCELİK!D134","v":"İMİD"},null,{"$f":"ÖNCELİK!F134","v":{"$error":"#REF!"}},null,null,"ü"]
[{"$f":"ÖNCELİK!B135","v":"Gelir İşlemleri "},{"$f":"ÖNCELİK!C135","v":"12.18.Bağış ve Yardım Gelirleri"},{"$f":"ÖNCELİK!D135","v":"SKSD Başkanlığı, Fakülte, Y.okul, Enst. ve UZEM"},null,{"$f":"ÖNCELİK!F135","v":{"$error":"#REF!"}},null,null,"ü"]
[{"$f":"ÖNCELİK!B136","v":"Gelir İşlemleri "},{"$f":"ÖNCELİK!C136","v":"12.19.Ceza, Tazminat vb. Gelirleri"},{"$f":"ÖNCELİK!D136","v":"SKSD Başkanlığı, Fakülte, Y.okul, Enst. ve UZEM"},null,{"$f":"ÖNCELİK!F136","v":{"$error":"#REF!"}},null,null,"ü"]
[{"$f":"ÖNCELİK!B137","v":"Burs İşlemleri Süreci"},{"$f":"ÖNCELİK!C137","v":"6.1.Öğrenci Yemek Bursu İşlemleri"},{"$f":"ÖNCELİK!D137","v":"SKSD Başkanlığı, Fakülte, Y.okul, Enst. ve UZEM"},null,{"$f":"ÖNCELİK!F137","v":{"$error":"#REF!"}},null,null,"ü"]
[{"$f":"ÖNCELİK!B138","v":"Burs İşlemleri Süreci"},{"$f":"ÖNCELİK!C138","v":"6.2.KYK Kredi ve Burs İşlemleri"},{"$f":"ÖNCELİK!D138","v":"Personel Daire Başkanlığı"},null,{"$f":"ÖNCELİK!F138","v":{"$error":"#REF!"}},null,null,"ü"]
[{"$f":"ÖNCELİK!B139","v":"Burs İşlemleri Süreci"},{"$f":"ÖNCELİK!C139","v":"6.3.Diğer Burs İşlemleri Süreci"},{"$f":"ÖNCELİK!D139","v":"Personel Daire Başkanlığı, İdari ve Akademik Birimler"},null,{"$f":"ÖNCELİK!F139","v":{"$error":"#REF!"}},null,null,"ü"]
[{"$f":"ÖNCELİK!B140","v":"Personel Özlük İşlemleri Süreci"},{"$f":"ÖNCELİK!C140","v":"9.14.Mecburi Hizmet Yükümlülükleri İşlemleri"},{"$f":"ÖNCELİK!D140","v":"Harcama Birimleri, SGDB, Döner Ser.İşl."},null,{"$f":"ÖNCELİK!F140","v":{"$error":"#REF!"}},null,null,"ü"]
[{"$f":"ÖNCELİK!B141","v":"Personel Özlük İşlemleri Süreci"},{"$f":"ÖNCELİK!C141","v":"9.15.Hizmet içi Eğitim İşlemleri"},{"$f":"ÖNCELİK!D141","v":"Harcama Birimleri, SGDB, Döner Ser.İşl."},null,{"$f":"ÖNCELİK!F141","v":{"$error":"#REF!"}},null,null,"ü"]
[{"$f":"ÖNCELİK!B142","v":"Personel Özlük İşlemleri Süreci"},{"$f":"ÖNCELİK!C142","v":"9.12.Mal Beyanı İşlemleri"},{"$f":"ÖNCELİK!D142","v":"Personel Daire Başkanlığı, İdari ve Akademik Birimler"},null,{"$f":"ÖNCELİK!F142","v":{"$error":"#REF!"}},null,null,"ü"]
[{"$f":"ÖNCELİK!B143","v":"Öğrenci İşlemleri Süreci"},{"$f":"ÖNCELİK!C143","v":"10.12.Öğrenci Kimlik Kartı İşlemleri Süreci"},{"$f":"ÖNCELİK!D143","v":"Öğrenci İşleri D.Bşk., Akademik Birimler"},null,{"$f":"ÖNCELİK!F143","v":{"$error":"#REF!"}},null,null,"ü"]
[{"$f":"ÖNCELİK!B144","v":"Öğrenci İşlemleri Süreci"},{"$f":"ÖNCELİK!C144","v":"10.13.Öğrenci Belge İşlemleri Süreci"},{"$f":"ÖNCELİK!D144","v":"Öğrenci İşleri D.Bşk."},null,{"$f":"ÖNCELİK!F144","v":{"$error":"#REF!"}},null,null,"ü"]
[{"$f":"ÖNCELİK!B145","v":"Öğrenci İşlemleri Süreci"},{"$f":"ÖNCELİK!C145","v":"10.17.Mezuniyet İşlemleri"},{"$f":"ÖNCELİK!D145","v":"Öğrenci İşleri D.Bşk. Akademik Birimler"},null,{"$f":"ÖNCELİK!F145","v":{"$error":"#REF!"}},null,null,"ü"]
[{"$f":"ÖNCELİK!B146","v":"Genel Hizmetler Süreci"},{"$f":"ÖNCELİK!C146","v":"21.1.Temizlik Hizmet İşlemleri Süreci"},{"$f":"ÖNCELİK!D146","v":"İMİD, Döner Serm.İşl."},null,{"$f":"ÖNCELİK!F146","v":{"$error":"#REF!"}},null,null,"ü"]
[{"$f":"ÖNCELİK!B147","v":"Genel Hizmetler Süreci"},{"$f":"ÖNCELİK!C147","v":"21.3.İçme ve Kullanma Suyu işlemleri"},{"$f":"ÖNCELİK!D147","v":"İMİD"},null,{"$f":"ÖNCELİK!F147","v":{"$error":"#REF!"}},null,null,"ü"]
[{"$f":"ÖNCELİK!B148","v":"Eğitim ve Öğretim ile İlgili İşlemler"},{"$f":"ÖNCELİK!C148","v":"11.3.Ders Muafiyeti ve İntibak İşlemleri"},{"$f":"ÖNCELİK!D148","v":"Akademik Birimler  ve UZEM"},null,{"$f":"ÖNCELİK!F148","v":{"$error":"#REF!"}},"ü"]
[{"$f":"ÖNCELİK!B149","v":"Genel Hizmetler Süreci"},{"$f":"ÖNCELİK!C149","v":"21.2.Telekomünikasyon Süreci (Tel., Faks, İnternet)"},{"$f":"ÖNCELİK!D149","v":"İMİD, BİDB, İdari ve Akademik Birimler"},null,{"$f":"ÖNCELİK!F149","v":{"$error":"#REF!"}},"ü"]
[{"$f":"ÖNCELİK!B150","v":"Öğrenci İşlemleri Süreci"},{"$f":"ÖNCELİK!C150","v":"10.1.Önlisans ve Lisans Öğrenci Kayıt ve Kabul İşlem."},{"$f":"ÖNCELİK!D150","v":"Personel Daire Başkanlığı İdari ve Akademik Birimler"},null,{"$f":"ÖNCELİK!F150","v":{"$error":"#REF!"}},"ü"]
[{"$f":"ÖNCELİK!B151","v":"Gelir İşlemleri "},{"$f":"ÖNCELİK!C151","v":"12.20.Diğer Gelirler"},{"$f":"ÖNCELİK!D151","v":"Personel Daire Başkanlığı"},null,{"$f":"ÖNCELİK!F151","v":{"$error":"#REF!"}},"ü"]
[{"$f":"ÖNCELİK!B152","v":"Personel Özlük İşlemleri Süreci"},{"$f":"ÖNCELİK!C152","v":"9.11.Görevden Ayrıl. İşlem. (Emek.-İstifa-Nakil-Ölüm)"},{"$f":"ÖNCELİK!D152","v":"Öğrenci İşl.D.Bşk., Fakülte, Yüksekokul, Enstitüler ve UZEM"},null,{"$f":"ÖNCELİK!F152","v":{"$error":"#REF!"}},"ü"]
[{"$f":"ÖNCELİK!B153","v":"Personel Özlük İşlemleri Süreci"},{"$f":"ÖNCELİK!C153","v":"9.13.Pasaport Başvuru İşlemleri"},{"$f":"ÖNCELİK!D153","v":"Harcama Birimleri SGDB, Döner Ser.İşl."},null,{"$f":"ÖNCELİK!F153","v":{"$error":"#REF!"}},"ü"]
[{"$f":"ÖNCELİK!B154","v":"Muhasebe, Kesin Hesap ve Raporlama Süreci"},{"$f":"ÖNCELİK!C154","v":"18.5.Mali Danışmanlık İşlemleri"},{"$f":"ÖNCELİK!D154","v":"SGDB"},null,{"$f":"ÖNCELİK!F154","v":{"$error":"#REF!"}},"ü"]
[{"$f":"ÖNCELİK!B155","v":"Öğrenci İşlemleri Süreci"},{"$f":"ÖNCELİK!C155","v":"10.16.Kayıt Dondurma İşlemleri"},{"$f":"ÖNCELİK!D155","v":"Öğrenci İşleri D.Bşk. Akademik Birimler"},null,{"$f":"ÖNCELİK!F155","v":{"$error":"#REF!"}},"ü"]
[{"$f":"ÖNCELİK!B156","v":"Eğitim ve Öğretim ile İlgili İşlemler"},{"$f":"ÖNCELİK!C156","v":"11.8. Sınav Sonuçlarına Yap. İtirazlar ve Değer. Süreci"},{"$f":"ÖNCELİK!D156","v":"Akademik Birimler"},null,{"$f":"ÖNCELİK!F156","v":{"$error":"#REF!"}},"ü"]
[{"$f":"ÖNCELİK!B157","v":"Genel Hizmetler Süreci"},{"$f":"ÖNCELİK!C157","v":"21.6.Öğrenci ve Personel Memnuniyeti İşlemleri "},{"$f":"ÖNCELİK!D157","v":"Genel Sekreterlik, İdari ve Akademik Birimler"},null,{"$f":"ÖNCELİK!F157","v":{"$error":"#REF!"}},"ü"]
[{"$f":"ÖNCELİK!B158","v":"Enerji Verimliliği (Üretim, Tüketim ve Tasarruf) Süreci"},{"$f":"ÖNCELİK!C158","v":"23.1.Aydınlatma ve Elektrik Sarfiyatı"},{"$f":"ÖNCELİK!D158","v":"Personel Daire Başkanlığı İdari ve Akademik Birimler"},null,{"$f":"ÖNCELİK!F158","v":{"$error":"#REF!"}},"ü"]
[{"$f":"ÖNCELİK!B159","v":"Enerji Verimliliği (Üretim, Tüketim ve Tasarruf) Süreci"},{"$f":"ÖNCELİK!C159","v":"23.2.Isıtma İşlemleri"},{"$f":"ÖNCELİK!D159","v":"Harcama Birimleri, SGDB"},null,{"$f":"ÖNCELİK!F159","v":{"$error":"#REF!"}},"ü"]
[{"$f":"ÖNCELİK!B160","v":"Enerji Verimliliği (Üretim, Tüketim ve Tasarruf) Süreci"},{"$f":"ÖNCELİK!C160","v":"23.3.Akaryakıt Tüketimi"},{"$f":"ÖNCELİK!D160","v":"Harcama Birimleri, SGDB"},null,{"$f":"ÖNCELİK!F160","v":{"$error":"#REF!"}},"ü"]
[{"$f":"ÖNCELİK!B161","v":"Personel Özlük İşlemleri Süreci"},{"$f":"ÖNCELİK!C161","v":"9.9.İzin İşlemleri Süreci"},{"$f":"ÖNCELİK!D161","v":"Harcama Birimleri, SGDB"},null,{"$f":"ÖNCELİK!F161","v":{"$error":"#REF!"}},"ü"]
[{"$f":"ÖNCELİK!B162","v":"Yargı, Soruşturma ve Hukuki Müşavirlik Hizmetleri "},{"$f":"ÖNCELİK!C162","v":"7.5.Akademik Personel Soruşturma İşlemleri"},{"$f":"ÖNCELİK!D162","v":"Hukuk Müşavirliği İdari ve Akademik Birimler"},null,{"$f":"ÖNCELİK!F162","v":{"$error":"#REF!"}},"ü"]
[{"$f":"ÖNCELİK!B163","v":"Yargı, Soruşturma ve Hukuki Müşavirlik Hizmetleri "},{"$f":"ÖNCELİK!C163","v":"7.6.İdari Personel Soruşturma İşlemleri"},{"$f":"ÖNCELİK!D163","v":"Hukuk Müşavirliği İdari ve Akademik Birimler"},null,{"$f":"ÖNCELİK!F163","v":{"$error":"#REF!"}},"ü"]
[{"$f":"ÖNCELİK!B164","v":"Öğrenci İşlemleri Süreci"},{"$f":"ÖNCELİK!C164","v":"10.14.Öğrenci Askerlik İşlemleri"},{"$f":"ÖNCELİK!D164","v":"Öğrenci İşleri D.Bşk. Akademik Birimler"},null,{"$f":"ÖNCELİK!F164","v":{"$error":"#REF!"}},"ü"]
[{"$f":"ÖNCELİK!B165","v":"Yargı, Soruşturma ve Hukuki Müşavirlik Hizmetleri "},{"$f":"ÖNCELİK!C165","v":"7.4.Öğrenci Soruşturma İşlemleri"},{"$f":"ÖNCELİK!D165","v":"Hukuk Müşavirliği İdari ve Akademik Birimler"},null,{"$f":"ÖNCELİK!F165","v":{"$error":"#REF!"}},"ü"]
["İÇ DENETÇİ KAYNAĞI",null,null,null,null,10,10,10]

{"sheet":"PLAN2","index":5,"n_rows":166,"n_cols":9,"rows_kept":166,"cut":false,"hidden":true,"merged":[[2,1,2,5],[2,6,2,8],[165,1,165,5]]}
[]
[]
[null,"2015-2017 DENETİM GÖREVLERİ",null,null,null,null,"YILLAR"]
[null,"Denetimin Adı","Denetim Alanının Kapsamı","Denetlenen Birimler","Denetim Ölçeği","Risk Düzeyi",2015,2016,2017]
[null,{"$f":"Sayfa1!B4","v":{"$error":"#REF!"}},{"$f":"Sayfa1!C4","v":{"$error":"#REF!"}},{"$f":"Sayfa1!D4","v":{"$error":"#REF!"}},"BÜYÜK",{"$f":"Sayfa1!F4","v":{"$error":"#REF!"}},"ü","ü","ü"]
[null,{"$f":"Sayfa1!B5","v":{"$error":"#REF!"}},{"$f":"Sayfa1!C5","v":{"$error":"#REF!"}},{"$f":"Sayfa1!D5","v":{"$error":"#REF!"}},"BÜYÜK",{"$f":"Sayfa1!F5","v":{"$error":"#REF!"}},"ü","ü","ü"]
[null,{"$f":"Sayfa1!B6","v":{"$error":"#REF!"}},{"$f":"Sayfa1!C6","v":{"$error":"#REF!"}},{"$f":"Sayfa1!D6","v":{"$error":"#REF!"}},"BÜYÜK",{"$f":"Sayfa1!F6","v":{"$error":"#REF!"}},"ü","ü","ü"]
[null,{"$f":"Sayfa1!B7","v":{"$error":"#REF!"}},{"$f":"Sayfa1!C7","v":{"$error":"#REF!"}},{"$f":"Sayfa1!D7","v":{"$error":"#REF!"}},"BÜYÜK",{"$f":"Sayfa1!F7","v":{"$error":"#REF!"}},"ü","ü","ü"]
[null,{"$f":"Sayfa1!B8","v":{"$error":"#REF!"}},{"$f":"Sayfa1!C8","v":{"$error":"#REF!"}},{"$f":"Sayfa1!D8","v":{"$error":"#REF!"}},"BÜYÜK",{"$f":"Sayfa1!F8","v":{"$error":"#REF!"}},"ü","ü","ü"]
[null,{"$f":"Sayfa1!B9","v":{"$error":"#REF!"}},{"$f":"Sayfa1!C9","v":{"$error":"#REF!"}},{"$f":"Sayfa1!D9","v":{"$error":"#REF!"}},"BÜYÜK",{"$f":"Sayfa1!F9","v":{"$error":"#REF!"}},"ü","ü","ü"]
[null,{"$f":"Sayfa1!B10","v":{"$error":"#REF!"}},{"$f":"Sayfa1!C10","v":{"$error":"#REF!"}},{"$f":"Sayfa1!D10","v":{"$error":"#REF!"}},"BÜYÜK",{"$f":"Sayfa1!F10","v":{"$error":"#REF!"}},"ü","ü","ü"]
[null,{"$f":"Sayfa1!B11","v":{"$error":"#REF!"}},{"$f":"Sayfa1!C11","v":{"$error":"#REF!"}},{"$f":"Sayfa1!D11","v":{"$error":"#REF!"}},"ORTA",{"$f":"Sayfa1!F11","v":{"$error":"#REF!"}},"ü","ü","ü"]
[null,{"$f":"Sayfa1!B12","v":{"$error":"#REF!"}},{"$f":"Sayfa1!C12","v":{"$error":"#REF!"}},{"$f":"Sayfa1!D12","v":{"$error":"#REF!"}},"ORTA",{"$f":"Sayfa1!F12","v":{"$error":"#REF!"}},"ü","ü","ü"]
[null,{"$f":"Sayfa1!B13","v":{"$error":"#REF!"}},{"$f":"Sayfa1!C13","v":{"$error":"#REF!"}},{"$f":"Sayfa1!D13","v":{"$error":"#REF!"}},"ORTA",{"$f":"Sayfa1!F13","v":{"$error":"#REF!"}},"ü","ü","ü"]
[null,{"$f":"Sayfa1!B14","v":{"$error":"#REF!"}},{"$f":"Sayfa1!C14","v":{"$error":"#REF!"}},{"$f":"Sayfa1!D14","v":{"$error":"#REF!"}},"BÜYÜK",{"$f":"Sayfa1!F14","v":{"$error":"#REF!"}},"ü","ü","ü"]
[null,{"$f":"Sayfa1!B15","v":{"$error":"#REF!"}},{"$f":"Sayfa1!C15","v":{"$error":"#REF!"}},{"$f":"Sayfa1!D15","v":{"$error":"#REF!"}},"BÜYÜK",{"$f":"Sayfa1!F15","v":{"$error":"#REF!"}},"ü","ü","ü"]
[null,{"$f":"Sayfa1!B16","v":{"$error":"#REF!"}},{"$f":"Sayfa1!C16","v":{"$error":"#REF!"}},{"$f":"Sayfa1!D16","v":{"$error":"#REF!"}},"BÜYÜK",{"$f":"Sayfa1!F16","v":{"$error":"#REF!"}},"ü","ü","ü"]
[null,{"$f":"Sayfa1!B17","v":{"$error":"#REF!"}},{"$f":"Sayfa1!C17","v":{"$error":"#REF!"}},{"$f":"Sayfa1!D17","v":{"$error":"#REF!"}},"BÜYÜK",{"$f":"Sayfa1!F17","v":{"$error":"#REF!"}},"ü",null,"ü"]
[null,{"$f":"Sayfa1!B18","v":{"$error":"#REF!"}},{"$f":"Sayfa1!C18","v":{"$error":"#REF!"}},{"$f":"Sayfa1!D18","v":{"$error":"#REF!"}},"ORTA",{"$f":"Sayfa1!F18","v":{"$error":"#REF!"}},"ü",null,"ü"]
[null,{"$f":"Sayfa1!B19","v":{"$error":"#REF!"}},{"$f":"Sayfa1!C19","v":{"$error":"#REF!"}},{"$f":"Sayfa1!D19","v":{"$error":"#REF!"}},"ORTA",{"$f":"Sayfa1!F19","v":{"$error":"#REF!"}},"ü",null,"ü"]
[null,{"$f":"Sayfa1!B20","v":{"$error":"#REF!"}},{"$f":"Sayfa1!C20","v":{"$error":"#REF!"}},{"$f":"Sayfa1!D20","v":{"$error":"#REF!"}},"ORTA",{"$f":"Sayfa1!F20","v":{"$error":"#REF!"}},"ü",null,"ü"]
[null,{"$f":"Sayfa1!B21","v":{"$error":"#REF!"}},{"$f":"Sayfa1!C21","v":{"$error":"#REF!"}},{"$f":"Sayfa1!D21","v":{"$error":"#REF!"}},"BÜYÜK",{"$f":"Sayfa1!F21","v":{"$error":"#REF!"}},"ü",null,"ü"]
[null,{"$f":"Sayfa1!B22","v":{"$error":"#REF!"}},{"$f":"Sayfa1!C22","v":{"$error":"#REF!"}},{"$f":"Sayfa1!D22","v":{"$error":"#REF!"}},"BÜYÜK",{"$f":"Sayfa1!F22","v":{"$error":"#REF!"}},"ü",null,"ü"]
[null,{"$f":"Sayfa1!B23","v":{"$error":"#REF!"}},{"$f":"Sayfa1!C23","v":{"$error":"#REF!"}},{"$f":"Sayfa1!D23","v":{"$error":"#REF!"}},"ORTA",{"$f":"Sayfa1!F23","v":{"$error":"#REF!"}},"ü",null,"ü"]
[null,{"$f":"Sayfa1!B24","v":{"$error":"#REF!"}},{"$f":"Sayfa1!C24","v":{"$error":"#REF!"}},{"$f":"Sayfa1!D24","v":{"$error":"#REF!"}},"BÜYÜK",{"$f":"Sayfa1!F24","v":{"$error":"#REF!"}},"ü",null,"ü"]
[null,{"$f":"Sayfa1!B25","v":{"$error":"#REF!"}},{"$f":"Sayfa1!C25","v":{"$error":"#REF!"}},{"$f":"Sayfa1!D25","v":{"$error":"#REF!"}},"BÜYÜK",{"$f":"Sayfa1!F25","v":{"$error":"#REF!"}},"ü",null,"ü"]
[null,{"$f":"Sayfa1!B26","v":{"$error":"#REF!"}},{"$f":"Sayfa1!C26","v":{"$error":"#REF!"}},{"$f":"Sayfa1!D26","v":{"$error":"#REF!"}},"BÜYÜK",{"$f":"Sayfa1!F26","v":{"$error":"#REF!"}},"ü",null,"ü"]
[null,{"$f":"Sayfa1!B27","v":{"$error":"#REF!"}},{"$f":"Sayfa1!C27","v":{"$error":"#REF!"}},{"$f":"Sayfa1!D27","v":{"$error":"#REF!"}},"BÜYÜK",{"$f":"Sayfa1!F27","v":{"$error":"#REF!"}},"ü",null,"ü"]
[null,{"$f":"Sayfa1!B28","v":{"$error":"#REF!"}},{"$f":"Sayfa1!C28","v":{"$error":"#REF!"}},{"$f":"Sayfa1!D28","v":{"$error":"#REF!"}},"BÜYÜK",{"$f":"Sayfa1!F28","v":{"$error":"#REF!"}},"ü",null,"ü"]
[null,{"$f":"Sayfa1!B29","v":{"$error":"#REF!"}},{"$f":"Sayfa1!C29","v":{"$error":"#REF!"}},{"$f":"Sayfa1!D29","v":{"$error":"#REF!"}},"BÜYÜK",{"$f":"Sayfa1!F29","v":{"$error":"#REF!"}},"ü",null,"ü"]
[null,{"$f":"Sayfa1!B30","v":{"$error":"#REF!"}},{"$f":"Sayfa1!C30","v":{"$error":"#REF!"}},{"$f":"Sayfa1!D30","v":{"$error":"#REF!"}},"BÜYÜK",{"$f":"Sayfa1!F30","v":{"$error":"#REF!"}},"ü",null,"ü"]
[null,{"$f":"Sayfa1!B31","v":{"$error":"#REF!"}},{"$f":"Sayfa1!C31","v":{"$error":"#REF!"}},{"$f":"Sayfa1!D31","v":{"$error":"#REF!"}},"BÜYÜK",{"$f":"Sayfa1!F31","v":{"$error":"#REF!"}},"ü",null,"ü"]
[null,{"$f":"Sayfa1!B32","v":{"$error":"#REF!"}},{"$f":"Sayfa1!C32","v":{"$error":"#REF!"}},{"$f":"Sayfa1!D32","v":{"$error":"#REF!"}},"BÜYÜK",{"$f":"Sayfa1!F32","v":{"$error":"#REF!"}},"ü",null,"ü"]
[null,{"$f":"Sayfa1!B33","v":{"$error":"#REF!"}},{"$f":"Sayfa1!C33","v":{"$error":"#REF!"}},{"$f":"Sayfa1!D33","v":{"$error":"#REF!"}},"BÜYÜK",{"$f":"Sayfa1!F33","v":{"$error":"#REF!"}},"ü",null,"ü"]
[null,{"$f":"Sayfa1!B34","v":{"$error":"#REF!"}},{"$f":"Sayfa1!C34","v":{"$error":"#REF!"}},{"$f":"Sayfa1!D34","v":{"$error":"#REF!"}},"BÜYÜK",{"$f":"Sayfa1!F34","v":{"$error":"#REF!"}},"ü",null,"ü"]
[null,{"$f":"Sayfa1!B35","v":{"$error":"#REF!"}},{"$f":"Sayfa1!C35","v":{"$error":"#REF!"}},{"$f":"Sayfa1!D35","v":{"$error":"#REF!"}},"BÜYÜK",{"$f":"Sayfa1!F35","v":{"$error":"#REF!"}},"ü",null,"ü"]
[null,{"$f":"Sayfa1!B36","v":{"$error":"#REF!"}},{"$f":"Sayfa1!C36","v":{"$error":"#REF!"}},{"$f":"Sayfa1!D36","v":{"$error":"#REF!"}},"BÜYÜK",{"$f":"Sayfa1!F36","v":{"$error":"#REF!"}},"ü",null,"ü"]
[null,{"$f":"Sayfa1!B37","v":{"$error":"#REF!"}},{"$f":"Sayfa1!C37","v":{"$error":"#REF!"}},{"$f":"Sayfa1!D37","v":{"$error":"#REF!"}},"BÜYÜK",{"$f":"Sayfa1!F37","v":{"$error":"#REF!"}},"ü",null,"ü"]
[null,{"$f":"Sayfa1!B38","v":{"$error":"#REF!"}},{"$f":"Sayfa1!C38","v":{"$error":"#REF!"}},{"$f":"Sayfa1!D38","v":{"$error":"#REF!"}},"ORTA",{"$f":"Sayfa1!F38","v":{"$error":"#REF!"}},"ü",null,"ü"]
[null,{"$f":"Sayfa1!B39","v":{"$error":"#REF!"}},{"$f":"Sayfa1!C39","v":{"$error":"#REF!"}},{"$f":"Sayfa1!D39","v":{"$error":"#REF!"}},"ORTA",{"$f":"Sayfa1!F39","v":{"$error":"#REF!"}},"ü",null,"ü"]
[null,{"$f":"Sayfa1!B40","v":{"$error":"#REF!"}},{"$f":"Sayfa1!C40","v":{"$error":"#REF!"}},{"$f":"Sayfa1!D40","v":{"$error":"#REF!"}},"BÜYÜK",{"$f":"Sayfa1!F40","v":{"$error":"#REF!"}},"ü",null,"ü"]
[null,{"$f":"Sayfa1!B41","v":{"$error":"#REF!"}},{"$f":"Sayfa1!C41","v":{"$error":"#REF!"}},{"$f":"Sayfa1!D41","v":{"$error":"#REF!"}},"ORTA",{"$f":"Sayfa1!F41","v":{"$error":"#REF!"}},"ü",null,"ü"]
[null,{"$f":"Sayfa1!B42","v":{"$error":"#REF!"}},{"$f":"Sayfa1!C42","v":{"$error":"#REF!"}},{"$f":"Sayfa1!D42","v":{"$error":"#REF!"}},"ORTA",{"$f":"Sayfa1!F42","v":{"$error":"#REF!"}},"ü",null,"ü"]
[null,{"$f":"Sayfa1!B43","v":{"$error":"#REF!"}},{"$f":"Sayfa1!C43","v":{"$error":"#REF!"}},{"$f":"Sayfa1!D43","v":{"$error":"#REF!"}},"ORTA",{"$f":"Sayfa1!F43","v":{"$error":"#REF!"}},"ü",null,"ü"]
[null,{"$f":"Sayfa1!B44","v":{"$error":"#REF!"}},{"$f":"Sayfa1!C44","v":{"$error":"#REF!"}},{"$f":"Sayfa1!D44","v":{"$error":"#REF!"}},"BÜYÜK",{"$f":"Sayfa1!F44","v":{"$error":"#REF!"}},"ü",null,"ü"]
[null,{"$f":"Sayfa1!B45","v":{"$error":"#REF!"}},{"$f":"Sayfa1!C45","v":{"$error":"#REF!"}},{"$f":"Sayfa1!D45","v":{"$error":"#REF!"}},"BÜYÜK",{"$f":"Sayfa1!F45","v":{"$error":"#REF!"}},"ü",null,"ü"]
[null,{"$f":"Sayfa1!B46","v":{"$error":"#REF!"}},{"$f":"Sayfa1!C46","v":{"$error":"#REF!"}},{"$f":"Sayfa1!D46","v":{"$error":"#REF!"}},"ORTA",{"$f":"Sayfa1!F46","v":{"$error":"#REF!"}},"ü",null,"ü"]
[null,{"$f":"Sayfa1!B47","v":{"$error":"#REF!"}},{"$f":"Sayfa1!C47","v":{"$error":"#REF!"}},{"$f":"Sayfa1!D47","v":{"$error":"#REF!"}},"ORTA",{"$f":"Sayfa1!F47","v":{"$error":"#REF!"}},"ü",null,"ü"]
[null,{"$f":"Sayfa1!B48","v":{"$error":"#REF!"}},{"$f":"Sayfa1!C48","v":{"$error":"#REF!"}},{"$f":"Sayfa1!D48","v":{"$error":"#REF!"}},"ORTA",{"$f":"Sayfa1!F48","v":{"$error":"#REF!"}},"ü",null,"ü"]
[null,{"$f":"Sayfa1!B49","v":{"$error":"#REF!"}},{"$f":"Sayfa1!C49","v":{"$error":"#REF!"}},{"$f":"Sayfa1!D49","v":{"$error":"#REF!"}},"KÜÇÜK",{"$f":"Sayfa1!F49","v":{"$error":"#REF!"}},"ü",null,"ü"]
[null,{"$f":"Sayfa1!B50","v":{"$error":"#REF!"}},{"$f":"Sayfa1!C50","v":{"$error":"#REF!"}},{"$f":"Sayfa1!D50","v":{"$error":"#REF!"}},"KÜÇÜK",{"$f":"Sayfa1!F50","v":{"$error":"#REF!"}},"ü",null,"ü"]
[null,{"$f":"Sayfa1!B51","v":{"$error":"#REF!"}},{"$f":"Sayfa1!C51","v":{"$error":"#REF!"}},{"$f":"Sayfa1!D51","v":{"$error":"#REF!"}},"KÜÇÜK",{"$f":"Sayfa1!F51","v":{"$error":"#REF!"}},"ü",null,"ü"]
[null,{"$f":"Sayfa1!B52","v":{"$error":"#REF!"}},{"$f":"Sayfa1!C52","v":{"$error":"#REF!"}},{"$f":"Sayfa1!D52","v":{"$error":"#REF!"}},"ORTA",{"$f":"Sayfa1!F52","v":{"$error":"#REF!"}},"ü",null,"ü"]
[null,{"$f":"Sayfa1!B53","v":{"$error":"#REF!"}},{"$f":"Sayfa1!C53","v":{"$error":"#REF!"}},{"$f":"Sayfa1!D53","v":{"$error":"#REF!"}},"ORTA",{"$f":"Sayfa1!F53","v":{"$error":"#REF!"}},"ü",null,"ü"]
[null,{"$f":"Sayfa1!B54","v":{"$error":"#REF!"}},{"$f":"Sayfa1!C54","v":{"$error":"#REF!"}},{"$f":"Sayfa1!D54","v":{"$error":"#REF!"}},"ORTA",{"$f":"Sayfa1!F54","v":{"$error":"#REF!"}},"ü",null,"ü"]
[null,{"$f":"Sayfa1!B55","v":{"$error":"#REF!"}},{"$f":"Sayfa1!C55","v":{"$error":"#REF!"}},{"$f":"Sayfa1!D55","v":{"$error":"#REF!"}},"BÜYÜK",{"$f":"Sayfa1!F55","v":{"$error":"#REF!"}},"ü",null,"ü"]
[null,{"$f":"Sayfa1!B56","v":{"$error":"#REF!"}},{"$f":"Sayfa1!C56","v":{"$error":"#REF!"}},{"$f":"Sayfa1!D56","v":{"$error":"#REF!"}},"ORTA",{"$f":"Sayfa1!F56","v":{"$error":"#REF!"}},"ü",null,"ü"]
[null,{"$f":"Sayfa1!B57","v":{"$error":"#REF!"}},{"$f":"Sayfa1!C57","v":{"$error":"#REF!"}},{"$f":"Sayfa1!D57","v":{"$error":"#REF!"}},"ORTA",{"$f":"Sayfa1!F57","v":{"$error":"#REF!"}},"ü",null,"ü"]
[null,{"$f":"Sayfa1!B58","v":{"$error":"#REF!"}},{"$f":"Sayfa1!C58","v":{"$error":"#REF!"}},{"$f":"Sayfa1!D58","v":{"$error":"#REF!"}},"ORTA",{"$f":"Sayfa1!F58","v":{"$error":"#REF!"}},"ü",null,"ü"]
[null,{"$f":"Sayfa1!B59","v":{"$error":"#REF!"}},{"$f":"Sayfa1!C59","v":{"$error":"#REF!"}},{"$f":"Sayfa1!D59","v":{"$error":"#REF!"}},"ORTA",{"$f":"Sayfa1!F59","v":{"$error":"#REF!"}},"ü",null,"ü"]
[null,{"$f":"Sayfa1!B60","v":{"$error":"#REF!"}},{"$f":"Sayfa1!C60","v":{"$error":"#REF!"}},{"$f":"Sayfa1!D60","v":{"$error":"#REF!"}},"BÜYÜK",{"$f":"Sayfa1!F60","v":{"$error":"#REF!"}},"ü",null,"ü"]
[null,{"$f":"Sayfa1!B61","v":{"$error":"#REF!"}},{"$f":"Sayfa1!C61","v":{"$error":"#REF!"}},{"$f":"Sayfa1!D61","v":{"$error":"#REF!"}},"BÜYÜK",{"$f":"Sayfa1!F61","v":{"$error":"#REF!"}},"ü",null,"ü"]
[null,{"$f":"Sayfa1!B62","v":{"$error":"#REF!"}},{"$f":"Sayfa1!C62","v":{"$error":"#REF!"}},{"$f":"Sayfa1!D62","v":{"$error":"#REF!"}},"ORTA",{"$f":"Sayfa1!F62","v":{"$error":"#REF!"}},null,"ü"]
[null,{"$f":"Sayfa1!B63","v":{"$error":"#REF!"}},{"$f":"Sayfa1!C63","v":{"$error":"#REF!"}},{"$f":"Sayfa1!D63","v":{"$error":"#REF!"}},"ORTA",{"$f":"Sayfa1!F63","v":{"$error":"#REF!"}},null,"ü"]
[null,{"$f":"Sayfa1!B64","v":{"$error":"#REF!"}},{"$f":"Sayfa1!C64","v":{"$error":"#REF!"}},{"$f":"Sayfa1!D64","v":{"$error":"#REF!"}},"ORTA",{"$f":"Sayfa1!F64","v":{"$error":"#REF!"}},null,"ü"]
[null,{"$f":"Sayfa1!B65","v":{"$error":"#REF!"}},{"$f":"Sayfa1!C65","v":{"$error":"#REF!"}},{"$f":"Sayfa1!D65","v":{"$error":"#REF!"}},"ORTA",{"$f":"Sayfa1!F65","v":{"$error":"#REF!"}},null,"ü"]
[null,{"$f":"Sayfa1!B66","v":{"$error":"#REF!"}},{"$f":"Sayfa1!C66","v":{"$error":"#REF!"}},{"$f":"Sayfa1!D66","v":{"$error":"#REF!"}},"ORTA",{"$f":"Sayfa1!F66","v":{"$error":"#REF!"}},null,"ü"]
[null,{"$f":"Sayfa1!B67","v":{"$error":"#REF!"}},{"$f":"Sayfa1!C67","v":{"$error":"#REF!"}},{"$f":"Sayfa1!D67","v":{"$error":"#REF!"}},"ORTA",{"$f":"Sayfa1!F67","v":{"$error":"#REF!"}},null,"ü"]
[null,{"$f":"Sayfa1!B68","v":{"$error":"#REF!"}},{"$f":"Sayfa1!C68","v":{"$error":"#REF!"}},{"$f":"Sayfa1!D68","v":{"$error":"#REF!"}},"ORTA",{"$f":"Sayfa1!F68","v":{"$error":"#REF!"}},null,"ü"]
[null,{"$f":"Sayfa1!B69","v":{"$error":"#REF!"}},{"$f":"Sayfa1!C69","v":{"$error":"#REF!"}},{"$f":"Sayfa1!D69","v":{"$error":"#REF!"}},"ORTA",{"$f":"Sayfa1!F69","v":{"$error":"#REF!"}},null,"ü"]
[null,{"$f":"Sayfa1!B70","v":{"$error":"#REF!"}},{"$f":"Sayfa1!C70","v":{"$error":"#REF!"}},{"$f":"Sayfa1!D70","v":{"$error":"#REF!"}},"ORTA",{"$f":"Sayfa1!F70","v":{"$error":"#REF!"}},null,null,"ü"]
[null,{"$f":"Sayfa1!B71","v":{"$error":"#REF!"}},{"$f":"Sayfa1!C71","v":{"$error":"#REF!"}},{"$f":"Sayfa1!D71","v":{"$error":"#REF!"}},"ORTA",{"$f":"Sayfa1!F71","v":{"$error":"#REF!"}},null,null,"ü"]
[null,{"$f":"Sayfa1!B72","v":{"$error":"#REF!"}},{"$f":"Sayfa1!C72","v":{"$error":"#REF!"}},{"$f":"Sayfa1!D72","v":{"$error":"#REF!"}},"ORTA",{"$f":"Sayfa1!F72","v":{"$error":"#REF!"}},null,null,"ü"]
[null,{"$f":"Sayfa1!B73","v":{"$error":"#REF!"}},{"$f":"Sayfa1!C73","v":{"$error":"#REF!"}},{"$f":"Sayfa1!D73","v":{"$error":"#REF!"}},"ORTA",{"$f":"Sayfa1!F73","v":{"$error":"#REF!"}},null,null,"ü"]
[null,{"$f":"Sayfa1!B74","v":{"$error":"#REF!"}},{"$f":"Sayfa1!C74","v":{"$error":"#REF!"}},{"$f":"Sayfa1!D74","v":{"$error":"#REF!"}},"ORTA",{"$f":"Sayfa1!F74","v":{"$error":"#REF!"}},null,null,"ü"]
[null,{"$f":"Sayfa1!B75","v":{"$error":"#REF!"}},{"$f":"Sayfa1!C75","v":{"$error":"#REF!"}},{"$f":"Sayfa1!D75","v":{"$error":"#REF!"}},"ORTA",{"$f":"Sayfa1!F75","v":{"$error":"#REF!"}},null,null,"ü"]
[null,{"$f":"Sayfa1!B76","v":{"$error":"#REF!"}},{"$f":"Sayfa1!C76","v":{"$error":"#REF!"}},{"$f":"Sayfa1!D76","v":{"$error":"#REF!"}},"ORTA",{"$f":"Sayfa1!F76","v":{"$error":"#REF!"}},null,null,"ü"]
[null,{"$f":"Sayfa1!B77","v":{"$error":"#REF!"}},{"$f":"Sayfa1!C77","v":{"$error":"#REF!"}},{"$f":"Sayfa1!D77","v":{"$error":"#REF!"}},"KÜÇÜK",{"$f":"Sayfa1!F77","v":{"$error":"#REF!"}},null,null,"ü"]
[null,{"$f":"Sayfa1!B78","v":{"$error":"#REF!"}},{"$f":"Sayfa1!C78","v":{"$error":"#REF!"}},{"$f":"Sayfa1!D78","v":{"$error":"#REF!"}},"KÜÇÜK",{"$f":"Sayfa1!F78","v":{"$error":"#REF!"}},null,null,"ü"]
[null,{"$f":"Sayfa1!B79","v":{"$error":"#REF!"}},{"$f":"Sayfa1!C79","v":{"$error":"#REF!"}},{"$f":"Sayfa1!D79","v":{"$error":"#REF!"}},"KÜÇÜK",{"$f":"Sayfa1!F79","v":{"$error":"#REF!"}},null,null,"ü"]
[null,{"$f":"Sayfa1!B80","v":{"$error":"#REF!"}},{"$f":"Sayfa1!C80","v":{"$error":"#REF!"}},{"$f":"Sayfa1!D80","v":{"$error":"#REF!"}},"KÜÇÜK",{"$f":"Sayfa1!F80","v":{"$error":"#REF!"}},null,null,"ü"]
[null,{"$f":"Sayfa1!B81","v":{"$error":"#REF!"}},{"$f":"Sayfa1!C81","v":{"$error":"#REF!"}},{"$f":"Sayfa1!D81","v":{"$error":"#REF!"}},"KÜÇÜK",{"$f":"Sayfa1!F81","v":{"$error":"#REF!"}},null,null,"ü"]
[null,{"$f":"Sayfa1!B82","v":{"$error":"#REF!"}},{"$f":"Sayfa1!C82","v":{"$error":"#REF!"}},{"$f":"Sayfa1!D82","v":{"$error":"#REF!"}},"ORTA",{"$f":"Sayfa1!F82","v":{"$error":"#REF!"}},null,null,"ü"]
[null,{"$f":"Sayfa1!B83","v":{"$error":"#REF!"}},{"$f":"Sayfa1!C83","v":{"$error":"#REF!"}},{"$f":"Sayfa1!D83","v":{"$error":"#REF!"}},"ORTA",{"$f":"Sayfa1!F83","v":{"$error":"#REF!"}},null,null,"ü"]
[null,{"$f":"Sayfa1!B84","v":{"$error":"#REF!"}},{"$f":"Sayfa1!C84","v":{"$error":"#REF!"}},{"$f":"Sayfa1!D84","v":{"$error":"#REF!"}},"ORTA",{"$f":"Sayfa1!F84","v":{"$error":"#REF!"}},null,null,"ü"]
[null,{"$f":"Sayfa1!B85","v":{"$error":"#REF!"}},{"$f":"Sayfa1!C85","v":{"$error":"#REF!"}},{"$f":"Sayfa1!D85","v":{"$error":"#REF!"}},"ORTA",{"$f":"Sayfa1!F85","v":{"$error":"#REF!"}},null,null,"ü"]
[null,{"$f":"Sayfa1!B86","v":{"$error":"#REF!"}},{"$f":"Sayfa1!C86","v":{"$error":"#REF!"}},{"$f":"Sayfa1!D86","v":{"$error":"#REF!"}},"KÜÇÜK",{"$f":"Sayfa1!F86","v":{"$error":"#REF!"}},"ü"]
[null,{"$f":"Sayfa1!B87","v":{"$error":"#REF!"}},{"$f":"Sayfa1!C87","v":{"$error":"#REF!"}},{"$f":"Sayfa1!D87","v":{"$error":"#REF!"}},"ORTA",{"$f":"Sayfa1!F87","v":{"$error":"#REF!"}},"ü"]
[null,{"$f":"Sayfa1!B88","v":{"$error":"#REF!"}},{"$f":"Sayfa1!C88","v":{"$error":"#REF!"}},{"$f":"Sayfa1!D88","v":{"$error":"#REF!"}},"BÜYÜK",{"$f":"Sayfa1!F88","v":{"$error":"#REF!"}},"ü"]
[null,{"$f":"Sayfa1!B89","v":{"$error":"#REF!"}},{"$f":"Sayfa1!C89","v":{"$error":"#REF!"}},{"$f":"Sayfa1!D89","v":{"$error":"#REF!"}},"ORTA",{"$f":"Sayfa1!F89","v":{"$error":"#REF!"}},"ü"]
[null,{"$f":"Sayfa1!B90","v":{"$error":"#REF!"}},{"$f":"Sayfa1!C90","v":{"$error":"#REF!"}},{"$f":"Sayfa1!D90","v":{"$error":"#REF!"}},"KÜÇÜK",{"$f":"Sayfa1!F90","v":{"$error":"#REF!"}},"ü"]
[null,{"$f":"Sayfa1!B91","v":{"$error":"#REF!"}},{"$f":"Sayfa1!C91","v":{"$error":"#REF!"}},{"$f":"Sayfa1!D91","v":{"$error":"#REF!"}},"ORTA",{"$f":"Sayfa1!F91","v":{"$error":"#REF!"}},"ü"]
[null,{"$f":"Sayfa1!B92","v":{"$error":"#REF!"}},{"$f":"Sayfa1!C92","v":{"$error":"#REF!"}},{"$f":"Sayfa1!D92","v":{"$error":"#REF!"}},"BÜYÜK",{"$f":"Sayfa1!F92","v":{"$error":"#REF!"}},"ü"]
[null,{"$f":"Sayfa1!B93","v":{"$error":"#REF!"}},{"$f":"Sayfa1!C93","v":{"$error":"#REF!"}},{"$f":"Sayfa1!D93","v":{"$error":"#REF!"}},"BÜYÜK",{"$f":"Sayfa1!F93","v":{"$error":"#REF!"}},"ü"]
[null,{"$f":"Sayfa1!B94","v":{"$error":"#REF!"}},{"$f":"Sayfa1!C94","v":{"$error":"#REF!"}},{"$f":"Sayfa1!D94","v":{"$error":"#REF!"}},"ORTA",{"$f":"Sayfa1!F94","v":{"$error":"#REF!"}},"ü"]
[null,{"$f":"Sayfa1!B95","v":{"$error":"#REF!"}},{"$f":"Sayfa1!C95","v":{"$error":"#REF!"}},{"$f":"Sayfa1!D95","v":{"$error":"#REF!"}},"ORTA",{"$f":"Sayfa1!F95","v":{"$error":"#REF!"}},"ü"]
[null,{"$f":"Sayfa1!B96","v":{"$error":"#REF!"}},{"$f":"Sayfa1!C96","v":{"$error":"#REF!"}},{"$f":"Sayfa1!D96","v":{"$error":"#REF!"}},"ORTA",{"$f":"Sayfa1!F96","v":{"$error":"#REF!"}},"ü"]
[null,{"$f":"Sayfa1!B97","v":{"$error":"#REF!"}},{"$f":"Sayfa1!C97","v":{"$error":"#REF!"}},{"$f":"Sayfa1!D97","v":{"$error":"#REF!"}},"KÜÇÜK",{"$f":"Sayfa1!F97","v":{"$error":"#REF!"}},"ü"]
[null,{"$f":"Sayfa1!B98","v":{"$error":"#REF!"}},{"$f":"Sayfa1!C98","v":{"$error":"#REF!"}},{"$f":"Sayfa1!D98","v":{"$error":"#REF!"}},"KÜÇÜK",{"$f":"Sayfa1!F98","v":{"$error":"#REF!"}},"ü"]
[null,{"$f":"Sayfa1!B99","v":{"$error":"#REF!"}},{"$f":"Sayfa1!C99","v":{"$error":"#REF!"}},{"$f":"Sayfa1!D99","v":{"$error":"#REF!"}},"KÜÇÜK",{"$f":"Sayfa1!F99","v":{"$error":"#REF!"}},"ü"]
[null,{"$f":"Sayfa1!B100","v":{"$error":"#REF!"}},{"$f":"Sayfa1!C100","v":{"$error":"#REF!"}},{"$f":"Sayfa1!D100","v":{"$error":"#REF!"}},"ORTA",{"$f":"Sayfa1!F100","v":{"$error":"#REF!"}},"ü"]
[null,{"$f":"Sayfa1!B101","v":{"$error":"#REF!"}},{"$f":"Sayfa1!C101","v":{"$error":"#REF!"}},{"$f":"Sayfa1!D101","v":{"$error":"#REF!"}},"ORTA",{"$f":"Sayfa1!F101","v":{"$error":"#REF!"}},"ü"]
[null,{"$f":"Sayfa1!B102","v":{"$error":"#REF!"}},{"$f":"Sayfa1!C102","v":{"$error":"#REF!"}},{"$f":"Sayfa1!D102","v":{"$error":"#REF!"}},"ORTA",{"$f":"Sayfa1!F102","v":{"$error":"#REF!"}},null,"ü"]
[null,{"$f":"Sayfa1!B103","v":{"$error":"#REF!"}},{"$f":"Sayfa1!C103","v":{"$error":"#REF!"}},{"$f":"Sayfa1!D103","v":{"$error":"#REF!"}},"KÜÇÜK",{"$f":"Sayfa1!F103","v":{"$error":"#REF!"}},null,"ü"]
[null,{"$f":"Sayfa1!B104","v":{"$error":"#REF!"}},{"$f":"Sayfa1!C104","v":{"$error":"#REF!"}},{"$f":"Sayfa1!D104","v":{"$error":"#REF!"}},"KÜÇÜK",{"$f":"Sayfa1!F104","v":{"$error":"#REF!"}},null,"ü"]
[null,{"$f":"Sayfa1!B105","v":{"$error":"#REF!"}},{"$f":"Sayfa1!C105","v":{"$error":"#REF!"}},{"$f":"Sayfa1!D105","v":{"$error":"#REF!"}},"KÜÇÜK",{"$f":"Sayfa1!F105","v":{"$error":"#REF!"}},null,"ü"]
[null,{"$f":"Sayfa1!B106","v":{"$error":"#REF!"}},{"$f":"Sayfa1!C106","v":{"$error":"#REF!"}},{"$f":"Sayfa1!D106","v":{"$error":"#REF!"}},"KÜÇÜK",{"$f":"Sayfa1!F106","v":{"$error":"#REF!"}},null,"ü"]
[null,{"$f":"Sayfa1!B107","v":{"$error":"#REF!"}},{"$f":"Sayfa1!C107","v":{"$error":"#REF!"}},{"$f":"Sayfa1!D107","v":{"$error":"#REF!"}},"ORTA",{"$f":"Sayfa1!F107","v":{"$error":"#REF!"}},null,"ü"]
[null,{"$f":"Sayfa1!B108","v":{"$error":"#REF!"}},{"$f":"Sayfa1!C108","v":{"$error":"#REF!"}},{"$f":"Sayfa1!D108","v":{"$error":"#REF!"}},"ORTA",{"$f":"Sayfa1!F108","v":{"$error":"#REF!"}},null,"ü"]
[null,{"$f":"Sayfa1!B109","v":{"$error":"#REF!"}},{"$f":"Sayfa1!C109","v":{"$error":"#REF!"}},{"$f":"Sayfa1!D109","v":{"$error":"#REF!"}},"ORTA",{"$f":"Sayfa1!F109","v":{"$error":"#REF!"}},null,"ü"]
[null,{"$f":"Sayfa1!B110","v":{"$error":"#REF!"}},{"$f":"Sayfa1!C110","v":{"$error":"#REF!"}},{"$f":"Sayfa1!D110","v":{"$error":"#REF!"}},"ORTA",{"$f":"Sayfa1!F110","v":{"$error":"#REF!"}},null,"ü"]
[null,{"$f":"Sayfa1!B111","v":{"$error":"#REF!"}},{"$f":"Sayfa1!C111","v":{"$error":"#REF!"}},{"$f":"Sayfa1!D111","v":{"$error":"#REF!"}},"ORTA",{"$f":"Sayfa1!F111","v":{"$error":"#REF!"}},null,"ü"]
[null,{"$f":"Sayfa1!B112","v":{"$error":"#REF!"}},{"$f":"Sayfa1!C112","v":{"$error":"#REF!"}},{"$f":"Sayfa1!D112","v":{"$error":"#REF!"}},"ORTA",{"$f":"Sayfa1!F112","v":{"$error":"#REF!"}},null,"ü"]
[null,{"$f":"Sayfa1!B113","v":{"$error":"#REF!"}},{"$f":"Sayfa1!C113","v":{"$error":"#REF!"}},{"$f":"Sayfa1!D113","v":{"$error":"#REF!"}},"ORTA",{"$f":"Sayfa1!F113","v":{"$error":"#REF!"}},null,"ü"]
[null,{"$f":"Sayfa1!B114","v":{"$error":"#REF!"}},{"$f":"Sayfa1!C114","v":{"$error":"#REF!"}},{"$f":"Sayfa1!D114","v":{"$error":"#REF!"}},"ORTA",{"$f":"Sayfa1!F114","v":{"$error":"#REF!"}},null,"ü"]
[null,{"$f":"Sayfa1!B115","v":{"$error":"#REF!"}},{"$f":"Sayfa1!C115","v":{"$error":"#REF!"}},{"$f":"Sayfa1!D115","v":{"$error":"#REF!"}},"ORTA",{"$f":"Sayfa1!F115","v":{"$error":"#REF!"}},null,null,"ü"]
[null,{"$f":"Sayfa1!B116","v":{"$error":"#REF!"}},{"$f":"Sayfa1!C116","v":{"$error":"#REF!"}},{"$f":"Sayfa1!D116","v":{"$error":"#REF!"}},"ORTA",{"$f":"Sayfa1!F116","v":{"$error":"#REF!"}},null,null,"ü"]
[null,{"$f":"Sayfa1!B117","v":{"$error":"#REF!"}},{"$f":"Sayfa1!C117","v":{"$error":"#REF!"}},{"$f":"Sayfa1!D117","v":{"$error":"#REF!"}},"KÜÇÜK",{"$f":"Sayfa1!F117","v":{"$error":"#REF!"}},null,null,"ü"]
[null,{"$f":"Sayfa1!B118","v":{"$error":"#REF!"}},{"$f":"Sayfa1!C118","v":{"$error":"#REF!"}},{"$f":"Sayfa1!D118","v":{"$error":"#REF!"}},"KÜÇÜK",{"$f":"Sayfa1!F118","v":{"$error":"#REF!"}},null,null,"ü"]
[null,{"$f":"Sayfa1!B119","v":{"$error":"#REF!"}},{"$f":"Sayfa1!C119","v":{"$error":"#REF!"}},{"$f":"Sayfa1!D119","v":{"$error":"#REF!"}},"KÜÇÜK",{"$f":"Sayfa1!F119","v":{"$error":"#REF!"}},null,null,"ü"]
[null,{"$f":"Sayfa1!B120","v":{"$error":"#REF!"}},{"$f":"Sayfa1!C120","v":{"$error":"#REF!"}},{"$f":"Sayfa1!D120","v":{"$error":"#REF!"}},"KÜÇÜK",{"$f":"Sayfa1!F120","v":{"$error":"#REF!"}},null,null,"ü"]
[null,{"$f":"Sayfa1!B121","v":{"$error":"#REF!"}},{"$f":"Sayfa1!C121","v":{"$error":"#REF!"}},{"$f":"Sayfa1!D121","v":{"$error":"#REF!"}},"KÜÇÜK",{"$f":"Sayfa1!F121","v":{"$error":"#REF!"}},null,null,"ü"]
[null,{"$f":"Sayfa1!B122","v":{"$error":"#REF!"}},{"$f":"Sayfa1!C122","v":{"$error":"#REF!"}},{"$f":"Sayfa1!D122","v":{"$error":"#REF!"}},"KÜÇÜK",{"$f":"Sayfa1!F122","v":{"$error":"#REF!"}},null,null,"ü"]
[null,{"$f":"Sayfa1!B123","v":{"$error":"#REF!"}},{"$f":"Sayfa1!C123","v":{"$error":"#REF!"}},{"$f":"Sayfa1!D123","v":{"$error":"#REF!"}},"KÜÇÜK",{"$f":"Sayfa1!F123","v":{"$error":"#REF!"}},null,null,"ü"]
[null,{"$f":"Sayfa1!B124","v":{"$error":"#REF!"}},{"$f":"Sayfa1!C124","v":{"$error":"#REF!"}},{"$f":"Sayfa1!D124","v":{"$error":"#REF!"}},"KÜÇÜK",{"$f":"Sayfa1!F124","v":{"$error":"#REF!"}},null,null,"ü"]
[null,{"$f":"Sayfa1!B125","v":{"$error":"#REF!"}},{"$f":"Sayfa1!C125","v":{"$error":"#REF!"}},{"$f":"Sayfa1!D125","v":{"$error":"#REF!"}},"KÜÇÜK",{"$f":"Sayfa1!F125","v":{"$error":"#REF!"}},null,null,"ü"]
[null,{"$f":"Sayfa1!B126","v":{"$error":"#REF!"}},{"$f":"Sayfa1!C126","v":{"$error":"#REF!"}},{"$f":"Sayfa1!D126","v":{"$error":"#REF!"}},"KÜÇÜK",{"$f":"Sayfa1!F126","v":{"$error":"#REF!"}},null,null,"ü"]
[null,{"$f":"Sayfa1!B127","v":{"$error":"#REF!"}},{"$f":"Sayfa1!C127","v":{"$error":"#REF!"}},{"$f":"Sayfa1!D127","v":{"$error":"#REF!"}},"KÜÇÜK",{"$f":"Sayfa1!F127","v":{"$error":"#REF!"}},"ü"]
[null,{"$f":"Sayfa1!B128","v":{"$error":"#REF!"}},{"$f":"Sayfa1!C128","v":{"$error":"#REF!"}},{"$f":"Sayfa1!D128","v":{"$error":"#REF!"}},"KÜÇÜK",{"$f":"Sayfa1!F128","v":{"$error":"#REF!"}},"ü"]
[null,{"$f":"Sayfa1!B129","v":{"$error":"#REF!"}},{"$f":"Sayfa1!C129","v":{"$error":"#REF!"}},{"$f":"Sayfa1!D129","v":{"$error":"#REF!"}},"KÜÇÜK",{"$f":"Sayfa1!F129","v":{"$error":"#REF!"}},"ü"]
[null,{"$f":"Sayfa1!B130","v":{"$error":"#REF!"}},{"$f":"Sayfa1!C130","v":{"$error":"#REF!"}},{"$f":"Sayfa1!D130","v":{"$error":"#REF!"}},"KÜÇÜK",{"$f":"Sayfa1!F130","v":{"$error":"#REF!"}},"ü"]
[null,{"$f":"Sayfa1!B131","v":{"$error":"#REF!"}},{"$f":"Sayfa1!C131","v":{"$error":"#REF!"}},{"$f":"Sayfa1!D131","v":{"$error":"#REF!"}},"KÜÇÜK",{"$f":"Sayfa1!F131","v":{"$error":"#REF!"}},"ü"]
[null,{"$f":"Sayfa1!B132","v":{"$error":"#REF!"}},{"$f":"Sayfa1!C132","v":{"$error":"#REF!"}},{"$f":"Sayfa1!D132","v":{"$error":"#REF!"}},"ORTA",{"$f":"Sayfa1!F132","v":{"$error":"#REF!"}},"ü"]
[null,{"$f":"Sayfa1!B133","v":{"$error":"#REF!"}},{"$f":"Sayfa1!C133","v":{"$error":"#REF!"}},{"$f":"Sayfa1!D133","v":{"$error":"#REF!"}},"ORTA",{"$f":"Sayfa1!F133","v":{"$error":"#REF!"}},"ü"]
[null,{"$f":"Sayfa1!B134","v":{"$error":"#REF!"}},{"$f":"Sayfa1!C134","v":{"$error":"#REF!"}},{"$f":"Sayfa1!D134","v":{"$error":"#REF!"}},"ORTA",{"$f":"Sayfa1!F134","v":{"$error":"#REF!"}},"ü"]
[null,{"$f":"Sayfa1!B135","v":{"$error":"#REF!"}},{"$f":"Sayfa1!C135","v":{"$error":"#REF!"}},{"$f":"Sayfa1!D135","v":{"$error":"#REF!"}},"ORTA",{"$f":"Sayfa1!F135","v":{"$error":"#REF!"}},"ü"]
[null,{"$f":"Sayfa1!B136","v":{"$error":"#REF!"}},{"$f":"Sayfa1!C136","v":{"$error":"#REF!"}},{"$f":"Sayfa1!D136","v":{"$error":"#REF!"}},"KÜÇÜK",{"$f":"Sayfa1!F136","v":{"$error":"#REF!"}},"ü"]
[null,{"$f":"Sayfa1!B137","v":{"$error":"#REF!"}},{"$f":"Sayfa1!C137","v":{"$error":"#REF!"}},{"$f":"Sayfa1!D137","v":{"$error":"#REF!"}},"KÜÇÜK",{"$f":"Sayfa1!F137","v":{"$error":"#REF!"}},"ü"]
[null,{"$f":"Sayfa1!B138","v":{"$error":"#REF!"}},{"$f":"Sayfa1!C138","v":{"$error":"#REF!"}},{"$f":"Sayfa1!D138","v":{"$error":"#REF!"}},"KÜÇÜK",{"$f":"Sayfa1!F138","v":{"$error":"#REF!"}},"ü"]
[null,{"$f":"Sayfa1!B139","v":{"$error":"#REF!"}},{"$f":"Sayfa1!C139","v":{"$error":"#REF!"}},{"$f":"Sayfa1!D139","v":{"$error":"#REF!"}},"KÜÇÜK",{"$f":"Sayfa1!F139","v":{"$error":"#REF!"}},"ü"]
[null,{"$f":"Sayfa1!B140","v":{"$error":"#REF!"}},{"$f":"Sayfa1!C140","v":{"$error":"#REF!"}},{"$f":"Sayfa1!D140","v":{"$error":"#REF!"}},"KÜÇÜK",{"$f":"Sayfa1!F140","v":{"$error":"#REF!"}},"ü"]
[null,{"$f":"Sayfa1!B141","v":{"$error":"#REF!"}},{"$f":"Sayfa1!C141","v":{"$error":"#REF!"}},{"$f":"Sayfa1!D141","v":{"$error":"#REF!"}},"KÜÇÜK",{"$f":"Sayfa1!F141","v":{"$error":"#REF!"}},"ü"]
[null,{"$f":"Sayfa1!B142","v":{"$error":"#REF!"}},{"$f":"Sayfa1!C142","v":{"$error":"#REF!"}},{"$f":"Sayfa1!D142","v":{"$error":"#REF!"}},"KÜÇÜK",{"$f":"Sayfa1!F142","v":{"$error":"#REF!"}},null,"ü"]
[null,{"$f":"Sayfa1!B143","v":{"$error":"#REF!"}},{"$f":"Sayfa1!C143","v":{"$error":"#REF!"}},{"$f":"Sayfa1!D143","v":{"$error":"#REF!"}},"KÜÇÜK",{"$f":"Sayfa1!F143","v":{"$error":"#REF!"}},null,"ü"]
[null,{"$f":"Sayfa1!B144","v":{"$error":"#REF!"}},{"$f":"Sayfa1!C144","v":{"$error":"#REF!"}},{"$f":"Sayfa1!D144","v":{"$error":"#REF!"}},"KÜÇÜK",{"$f":"Sayfa1!F144","v":{"$error":"#REF!"}},null,"ü"]
[null,{"$f":"Sayfa1!B145","v":{"$error":"#REF!"}},{"$f":"Sayfa1!C145","v":{"$error":"#REF!"}},{"$f":"Sayfa1!D145","v":{"$error":"#REF!"}},"KÜÇÜK",{"$f":"Sayfa1!F145","v":{"$error":"#REF!"}},null,"ü"]
[null,{"$f":"Sayfa1!B146","v":{"$error":"#REF!"}},{"$f":"Sayfa1!C146","v":{"$error":"#REF!"}},{"$f":"Sayfa1!D146","v":{"$error":"#REF!"}},"KÜÇÜK",{"$f":"Sayfa1!F146","v":{"$error":"#REF!"}},null,"ü"]
[null,{"$f":"Sayfa1!B147","v":{"$error":"#REF!"}},{"$f":"Sayfa1!C147","v":{"$error":"#REF!"}},{"$f":"Sayfa1!D147","v":{"$error":"#REF!"}},"KÜÇÜK",{"$f":"Sayfa1!F147","v":{"$error":"#REF!"}},"ü"]
[null,{"$f":"Sayfa1!B148","v":{"$error":"#REF!"}},{"$f":"Sayfa1!C148","v":{"$error":"#REF!"}},{"$f":"Sayfa1!D148","v":{"$error":"#REF!"}},"KÜÇÜK",{"$f":"Sayfa1!F148","v":{"$error":"#REF!"}},"ü"]
[null,{"$f":"Sayfa1!B149","v":{"$error":"#REF!"}},{"$f":"Sayfa1!C149","v":{"$error":"#REF!"}},{"$f":"Sayfa1!D149","v":{"$error":"#REF!"}},"KÜÇÜK",{"$f":"Sayfa1!F149","v":{"$error":"#REF!"}},"ü"]
[null,{"$f":"Sayfa1!B150","v":{"$error":"#REF!"}},{"$f":"Sayfa1!C150","v":{"$error":"#REF!"}},{"$f":"Sayfa1!D150","v":{"$error":"#REF!"}},"KÜÇÜK",{"$f":"Sayfa1!F150","v":{"$error":"#REF!"}},"ü"]
[null,{"$f":"Sayfa1!B151","v":{"$error":"#REF!"}},{"$f":"Sayfa1!C151","v":{"$error":"#REF!"}},{"$f":"Sayfa1!D151","v":{"$error":"#REF!"}},"KÜÇÜK",{"$f":"Sayfa1!F151","v":{"$error":"#REF!"}},"ü",null,"ü"]
[null,{"$f":"Sayfa1!B152","v":{"$error":"#REF!"}},{"$f":"Sayfa1!C152","v":{"$error":"#REF!"}},{"$f":"Sayfa1!D152","v":{"$error":"#REF!"}},"KÜÇÜK",{"$f":"Sayfa1!F152","v":{"$error":"#REF!"}},null,null,"ü"]
[null,{"$f":"Sayfa1!B153","v":{"$error":"#REF!"}},{"$f":"Sayfa1!C153","v":{"$error":"#REF!"}},{"$f":"Sayfa1!D153","v":{"$error":"#REF!"}},"KÜÇÜK",{"$f":"Sayfa1!F153","v":{"$error":"#REF!"}},null,null,"ü"]
[null,{"$f":"Sayfa1!B154","v":{"$error":"#REF!"}},{"$f":"Sayfa1!C154","v":{"$error":"#REF!"}},{"$f":"Sayfa1!D154","v":{"$error":"#REF!"}},"KÜÇÜK",{"$f":"Sayfa1!F154","v":{"$error":"#REF!"}},null,null,"ü"]
[null,{"$f":"Sayfa1!B155","v":{"$error":"#REF!"}},{"$f":"Sayfa1!C155","v":{"$error":"#REF!"}},{"$f":"Sayfa1!D155","v":{"$error":"#REF!"}},"KÜÇÜK",{"$f":"Sayfa1!F155","v":{"$error":"#REF!"}},null,null,"ü"]
[null,{"$f":"Sayfa1!B156","v":{"$error":"#REF!"}},{"$f":"Sayfa1!C156","v":{"$error":"#REF!"}},{"$f":"Sayfa1!D156","v":{"$error":"#REF!"}},"KÜÇÜK",{"$f":"Sayfa1!F156","v":{"$error":"#REF!"}},null,"ü"]
[null,{"$f":"Sayfa1!B157","v":{"$error":"#REF!"}},{"$f":"Sayfa1!C157","v":{"$error":"#REF!"}},{"$f":"Sayfa1!D157","v":{"$error":"#REF!"}},"ORTA",{"$f":"Sayfa1!F157","v":{"$error":"#REF!"}},null,"ü"]
[null,{"$f":"Sayfa1!B158","v":{"$error":"#REF!"}},{"$f":"Sayfa1!C158","v":{"$error":"#REF!"}},{"$f":"Sayfa1!D158","v":{"$error":"#REF!"}},"KÜÇÜK",{"$f":"Sayfa1!F158","v":{"$error":"#REF!"}},null,"ü"]
[null,{"$f":"Sayfa1!B159","v":{"$error":"#REF!"}},{"$f":"Sayfa1!C159","v":{"$error":"#REF!"}},{"$f":"Sayfa1!D159","v":{"$error":"#REF!"}},"KÜÇÜK",{"$f":"Sayfa1!F159","v":{"$error":"#REF!"}},null,"ü"]
[null,{"$f":"Sayfa1!B160","v":{"$error":"#REF!"}},{"$f":"Sayfa1!C160","v":{"$error":"#REF!"}},{"$f":"Sayfa1!D160","v":{"$error":"#REF!"}},"KÜÇÜK",{"$f":"Sayfa1!F160","v":{"$error":"#REF!"}},null,"ü"]
[null,{"$f":"Sayfa1!B161","v":{"$error":"#REF!"}},{"$f":"Sayfa1!C161","v":{"$error":"#REF!"}},{"$f":"Sayfa1!D161","v":{"$error":"#REF!"}},"ORTA",{"$f":"Sayfa1!F161","v":{"$error":"#REF!"}},"ü"]
[null,{"$f":"Sayfa1!B162","v":{"$error":"#REF!"}},{"$f":"Sayfa1!C162","v":{"$error":"#REF!"}},{"$f":"Sayfa1!D162","v":{"$error":"#REF!"}},"ORTA",{"$f":"Sayfa1!F162","v":{"$error":"#REF!"}},"ü"]
[null,{"$f":"Sayfa1!B163","v":{"$error":"#REF!"}},{"$f":"Sayfa1!C163","v":{"$error":"#REF!"}},{"$f":"Sayfa1!D163","v":{"$error":"#REF!"}},"KÜÇÜK",{"$f":"Sayfa1!F163","v":{"$error":"#REF!"}},"ü"]
[null,{"$f":"Sayfa1!B164","v":{"$error":"#REF!"}},{"$f":"Sayfa1!C164","v":{"$error":"#REF!"}},{"$f":"Sayfa1!D164","v":{"$error":"#REF!"}},"KÜÇÜK",{"$f":"Sayfa1!F164","v":{"$error":"#REF!"}},"ü"]
[null,"İÇ DENETÇİ KAYNAĞI",null,null,null,null,10,10,10]

{"sheet":"PROGRAM","index":6,"n_rows":19,"n_cols":8,"rows_kept":19,"cut":false,"hidden":true,"merged":[[4,2,4,7],[3,2,3,3],[18,5,18,7],[19,5,19,7],[20,5,20,7],[10,2,15,2],[10,4,15,4],[10,5,15,5],[10,6,15,6],[10,7,15,7],[10,3,15,3],[21,5,21,7],[18,3,18,4],[19,3,19,4],[20,3,20,4],[21,3,21,4]]}
[]
[]
[]
[null,null,"İç Denetim Programı Eki Çizelge"]
[null,null,"2015 Yılı İç Denetim Programı Denetçi Kaynak Tahsisi (Adam/Saat)"]
[null,null,"Denetim","Danışmanlık","Eğitim","İzleme","Yönetim Faaliyetleri","İhtiyat"]
[null,null,1070,0,90,90,356,178]
[null,null,"        "]
[null,null,"1-     Denetim Faaliyetleri:"]
[null,null,"Denetimin Adı","Denetim Alanlarının Kapsamı","Denetlenecek Birimler","Denetim Türü","Denetlenme Sırası","Denetim Ekibi"]
[null,null,{"$f":"PLAN2!B5","v":{"$error":"#REF!"}},"14.1.Ambar Giriş- Çıkış İşlemleri, 14.2.Zimmet İşlemleri, 14.3.Kayıtlardan Düşüm İşlemleri, 14.4.Hurdaya Ayırma İşlemleri, 14.5.Taşınır Yıl Sonu İşlemleri, 14.6.Taşınırların Muhafazası ve Takibi İşlemleri ","Strateji Geliştirme Daire Başkanlığı, İdari ve Mali İşler Daire Başkanlığı","Sistem/Uygunluk",1,"Mansur UÇAR"]
[]
[]
[]
[]
[]
[null,null,{"$f":"PLAN2!B11","v":{"$error":"#REF!"}},{"$f":"PLAN2!C11","v":{"$error":"#REF!"}},"Döner Sermaye İşletmesi","Sistem/Uygunluk",2,"Mansur UÇAR"]
[null,null,"2-     Danışmanlık Faaliyetleri:"]
[null,null,"Danışmanlık Konusu","İlgili Birimler"]

{"sheet":"RİSK","index":7,"n_rows":46,"n_cols":6,"rows_kept":46,"cut":false,"hidden":true,"merged":[[2,1,2,5]]}
[null,null,null,null,null,"EK-4"]
[]
[null,"  ÜNİVERSİTE DENETİM ÖNCELİĞİ "]
[null,"NO","DENETİM EVRENİ ","RİSK PUANI","PUAN SONUCU","ÖNCELİK"]
[null,{"$f":"#REF!","v":{"$error":"#REF!"}},{"$f":"#REF!","v":{"$error":"#REF!"}},{"$f":"#REF!","v":{"$error":"#REF!"}},{"$f":"IF(D5>18.99,\"YÜKSEK\",IF(D5>18.99<9.99,\"ORTA\",IF(D5>9.99,\"ORTA\",IF(D5>0,\"DÜŞÜK\"))))","v":{"$error":"#REF!"}},{"$f":"IF(D5>18.99,\"1\",IF(D5>18.99<9.99,\"2\",IF(D5>9.99,\"2\",IF(D5>0,\"3\"))))","v":{"$error":"#REF!"}}]
[null,{"$f":"#REF!","v":{"$error":"#REF!"}},{"$f":"#REF!","v":{"$error":"#REF!"}},{"$f":"#REF!","v":{"$error":"#REF!"}},{"$error":"#REF!"},{"$error":"#REF!"}]
[null,{"$f":"#REF!","v":{"$error":"#REF!"}},{"$f":"#REF!","v":{"$error":"#REF!"}},{"$f":"#REF!","v":{"$error":"#REF!"}},{"$error":"#REF!"},{"$error":"#REF!"}]
[null,{"$f":"#REF!","v":{"$error":"#REF!"}},{"$f":"#REF!","v":{"$error":"#REF!"}},{"$f":"#REF!","v":{"$error":"#REF!"}},{"$error":"#REF!"},{"$error":"#REF!"}]
[null,{"$f":"#REF!","v":{"$error":"#REF!"}},{"$f":"#REF!","v":{"$error":"#REF!"}},{"$f":"#REF!","v":{"$error":"#REF!"}},{"$error":"#REF!"},{"$error":"#REF!"}]
[null,{"$f":"#REF!","v":{"$error":"#REF!"}},{"$f":"#REF!","v":{"$error":"#REF!"}},{"$f":"#REF!","v":{"$error":"#REF!"}},{"$error":"#REF!"},{"$error":"#REF!"}]
[null,{"$f":"#REF!","v":{"$error":"#REF!"}},{"$f":"#REF!","v":{"$error":"#REF!"}},{"$f":"#REF!","v":{"$error":"#REF!"}},{"$error":"#REF!"},{"$error":"#REF!"}]
[null,{"$f":"#REF!","v":{"$error":"#REF!"}},{"$f":"#REF!","v":{"$error":"#REF!"}},{"$f":"#REF!","v":{"$error":"#REF!"}},{"$error":"#REF!"},{"$error":"#REF!"}]
[null,{"$f":"#REF!","v":{"$error":"#REF!"}},{"$f":"#REF!","v":{"$error":"#REF!"}},{"$f":"#REF!","v":{"$error":"#REF!"}},{"$error":"#REF!"},{"$error":"#REF!"}]
[null,{"$f":"#REF!","v":{"$error":"#REF!"}},{"$f":"#REF!","v":{"$error":"#REF!"}},{"$f":"#REF!","v":{"$error":"#REF!"}},{"$error":"#REF!"},{"$error":"#REF!"}]
[null,{"$f":"#REF!","v":{"$error":"#REF!"}},{"$f":"#REF!","v":{"$error":"#REF!"}},{"$f":"#REF!","v":{"$error":"#REF!"}},{"$error":"#REF!"},{"$error":"#REF!"}]
[null,{"$f":"#REF!","v":{"$error":"#REF!"}},{"$f":"#REF!","v":{"$error":"#REF!"}},{"$f":"#REF!","v":{"$error":"#REF!"}},{"$error":"#REF!"},{"$error":"#REF!"}]
[null,{"$f":"#REF!","v":{"$error":"#REF!"}},{"$f":"#REF!","v":{"$error":"#REF!"}},{"$f":"#REF!","v":{"$error":"#REF!"}},{"$error":"#REF!"},{"$error":"#REF!"}]
[null,{"$f":"#REF!","v":{"$error":"#REF!"}},{"$f":"#REF!","v":{"$error":"#REF!"}},{"$f":"#REF!","v":{"$error":"#REF!"}},{"$error":"#REF!"},{"$error":"#REF!"}]
[null,{"$f":"#REF!","v":{"$error":"#REF!"}},{"$f":"#REF!","v":{"$error":"#REF!"}},{"$f":"#REF!","v":{"$error":"#REF!"}},{"$error":"#REF!"},{"$error":"#REF!"}]
[null,{"$f":"#REF!","v":{"$error":"#REF!"}},{"$f":"#REF!","v":{"$error":"#REF!"}},{"$f":"#REF!","v":{"$error":"#REF!"}},{"$error":"#REF!"},{"$error":"#REF!"}]
[null,{"$f":"#REF!","v":{"$error":"#REF!"}},{"$f":"#REF!","v":{"$error":"#REF!"}},{"$f":"#REF!","v":{"$error":"#REF!"}},{"$error":"#REF!"},{"$error":"#REF!"}]
[null,{"$f":"#REF!","v":{"$error":"#REF!"}},{"$f":"#REF!","v":{"$error":"#REF!"}},{"$f":"#REF!","v":{"$error":"#REF!"}},{"$error":"#REF!"},{"$error":"#REF!"}]
[null,{"$f":"#REF!","v":{"$error":"#REF!"}},{"$f":"#REF!","v":{"$error":"#REF!"}},{"$f":"#REF!","v":{"$error":"#REF!"}},{"$error":"#REF!"},{"$error":"#REF!"}]
[null,{"$f":"#REF!","v":{"$error":"#REF!"}},{"$f":"#REF!","v":{"$error":"#REF!"}},{"$f":"#REF!","v":{"$error":"#REF!"}},{"$error":"#REF!"},{"$error":"#REF!"}]
[null,{"$f":"#REF!","v":{"$error":"#REF!"}},{"$f":"#REF!","v":{"$error":"#REF!"}},{"$f":"#REF!","v":{"$error":"#REF!"}},{"$error":"#REF!"},{"$error":"#REF!"}]
[null,{"$f":"#REF!","v":{"$error":"#REF!"}},{"$f":"#REF!","v":{"$error":"#REF!"}},{"$f":"#REF!","v":{"$error":"#REF!"}},{"$error":"#REF!"},{"$error":"#REF!"}]
[null,{"$f":"#REF!","v":{"$error":"#REF!"}},{"$f":"#REF!","v":{"$error":"#REF!"}},{"$f":"#REF!","v":{"$error":"#REF!"}},{"$error":"#REF!"},{"$error":"#REF!"}]
[null,{"$f":"#REF!","v":{"$error":"#REF!"}},{"$f":"#REF!","v":{"$error":"#REF!"}},{"$f":"#REF!","v":{"$error":"#REF!"}},{"$error":"#REF!"},{"$error":"#REF!"}]
[null,{"$f":"#REF!","v":{"$error":"#REF!"}},{"$f":"#REF!","v":{"$error":"#REF!"}},{"$f":"#REF!","v":{"$error":"#REF!"}},{"$error":"#REF!"},{"$error":"#REF!"}]
[null,{"$f":"#REF!","v":{"$error":"#REF!"}},{"$f":"#REF!","v":{"$error":"#REF!"}},{"$f":"#REF!","v":{"$error":"#REF!"}},{"$error":"#REF!"},{"$error":"#REF!"}]
[null,{"$f":"#REF!","v":{"$error":"#REF!"}},{"$f":"#REF!","v":{"$error":"#REF!"}},{"$f":"#REF!","v":{"$error":"#REF!"}},{"$error":"#REF!"},{"$error":"#REF!"}]
[null,{"$f":"#REF!","v":{"$error":"#REF!"}},{"$f":"#REF!","v":{"$error":"#REF!"}},{"$f":"#REF!","v":{"$error":"#REF!"}},{"$error":"#REF!"},{"$error":"#REF!"}]
[null,{"$f":"#REF!","v":{"$error":"#REF!"}},{"$f":"#REF!","v":{"$error":"#REF!"}},{"$f":"#REF!","v":{"$error":"#REF!"}},{"$error":"#REF!"},{"$error":"#REF!"}]
[null,{"$f":"#REF!","v":{"$error":"#REF!"}},{"$f":"#REF!","v":{"$error":"#REF!"}},{"$f":"#REF!","v":{"$error":"#REF!"}},{"$error":"#REF!"},{"$error":"#REF!"}]
[null,{"$f":"#REF!","v":{"$error":"#REF!"}},{"$f":"#REF!","v":{"$error":"#REF!"}},{"$f":"#REF!","v":{"$error":"#REF!"}},{"$error":"#REF!"},{"$error":"#REF!"}]
[null,{"$f":"#REF!","v":{"$error":"#REF!"}},{"$f":"#REF!","v":{"$error":"#REF!"}},{"$f":"#REF!","v":{"$error":"#REF!"}},{"$error":"#REF!"},{"$error":"#REF!"}]
[null,{"$f":"#REF!","v":{"$error":"#REF!"}},{"$f":"#REF!","v":{"$error":"#REF!"}},{"$f":"#REF!","v":{"$error":"#REF!"}},{"$error":"#REF!"},{"$error":"#REF!"}]
[null,{"$f":"#REF!","v":{"$error":"#REF!"}},{"$f":"#REF!","v":{"$error":"#REF!"}},{"$f":"#REF!","v":{"$error":"#REF!"}},{"$error":"#REF!"},{"$error":"#REF!"}]
[null,{"$f":"#REF!","v":{"$error":"#REF!"}},{"$f":"#REF!","v":{"$error":"#REF!"}},{"$f":"#REF!","v":{"$error":"#REF!"}},{"$error":"#REF!"},{"$error":"#REF!"}]
[null,{"$f":"#REF!","v":{"$error":"#REF!"}},{"$f":"#REF!","v":{"$error":"#REF!"}},{"$f":"#REF!","v":{"$error":"#REF!"}},{"$error":"#REF!"},{"$error":"#REF!"}]
[null,{"$f":"#REF!","v":{"$error":"#REF!"}},{"$f":"#REF!","v":{"$error":"#REF!"}},{"$f":"#REF!","v":{"$error":"#REF!"}},{"$error":"#REF!"},{"$error":"#REF!"}]
[null,{"$f":"#REF!","v":{"$error":"#REF!"}},{"$f":"#REF!","v":{"$error":"#REF!"}},{"$f":"#REF!","v":{"$error":"#REF!"}},{"$error":"#REF!"},{"$error":"#REF!"}]
[null,{"$f":"#REF!","v":{"$error":"#REF!"}},{"$f":"#REF!","v":{"$error":"#REF!"}},{"$f":"#REF!","v":{"$error":"#REF!"}},{"$error":"#REF!"},{"$error":"#REF!"}]
[null,{"$f":"#REF!","v":{"$error":"#REF!"}},{"$f":"#REF!","v":{"$error":"#REF!"}},{"$f":"#REF!","v":{"$error":"#REF!"}},{"$error":"#REF!"},{"$error":"#REF!"}]
[null,{"$f":"#REF!","v":{"$error":"#REF!"}},{"$f":"#REF!","v":{"$error":"#REF!"}},{"$f":"#REF!","v":{"$error":"#REF!"}},{"$error":"#REF!"},{"$error":"#REF!"}]
[null,{"$f":"#REF!","v":{"$error":"#REF!"}},{"$f":"#REF!","v":{"$error":"#REF!"}},{"$f":"#REF!","v":{"$error":"#REF!"}},{"$error":"#REF!"},{"$error":"#REF!"}]

{"sheet":"ÖNCELİK","index":8,"n_rows":165,"n_cols":7,"rows_kept":165,"cut":false,"hidden":true,"merged":[[2,1,2,6]]}
[]
[]
[null,"ÇANKIRI KARATEKİN ÜNİVERSİTESİ DENETİM ÖNCELİĞİ "]
[null,"DENETİM EVRENİ ÜST SÜREÇ","DENETİM EVRENİ ",null,"RİSK PUANI","PUAN SONUCU","ÖNCELİK"]
[null,"Taşınır Mal İşlemleri Süreci","14.1.Ambar Giriş- Çıkış İşlemleri",{"$f":"#REF!","v":{"$error":"#REF!"}},{"$f":"#REF!","v":{"$error":"#REF!"}},{"$f":"IF(E5>18.99,\"YÜKSEK\",IF(E5>18.99<9.99,\"ORTA\",IF(E5>9.99,\"ORTA\",IF(E5>0,\"DÜŞÜK\"))))","v":{"$error":"#REF!"}},{"$f":"IF(E5>18.99,\"1\",IF(E5>18.99<9.99,\"2\",IF(E5>9.99,\"2\",IF(E5>0,\"3\"))))","v":{"$error":"#REF!"}}]
[null,"Taşınır Mal İşlemleri Süreci","14.2.Zimmet İşlemleri","Harcama Birimleri, SGDB, Döner Ser.İşl.",{"$f":"#REF!","v":{"$error":"#REF!"}},{"$error":"#REF!"},{"$error":"#REF!"}]
[null,"Taşınır Mal İşlemleri Süreci","14.3.Kayıtlardan Düşüm İşlemleri","Harcama Birimleri, SGDB, Döner Ser.İşl.",{"$f":"#REF!","v":{"$error":"#REF!"}},{"$error":"#REF!"},{"$error":"#REF!"}]
[null,"Taşınır Mal İşlemleri Süreci","14.4.Hurdaya Ayırma İşlemleri","Harcama Birimleri, SGDB, Döner Ser.İşl.",{"$f":"#REF!","v":{"$error":"#REF!"}},{"$error":"#REF!"},{"$error":"#REF!"}]
[null,"Taşınır Mal İşlemleri Süreci","14.5.Taşınır Yıl Sonu İşlemleri","Harcama Birimleri, SGDB, Döner Ser.İşl.",{"$f":"#REF!","v":{"$error":"#REF!"}},{"$error":"#REF!"},{"$error":"#REF!"}]
[null,"Taşınır Mal İşlemleri Süreci","14.6.Taşınırların Muhafazası ve Takibi İşlemleri","Harcama Birimleri, SGDB, Döner Ser.İşl.",{"$f":"#REF!","v":{"$error":"#REF!"}},{"$error":"#REF!"},{"$error":"#REF!"}]
[null,"Gelir İşlemleri ","12.12.Kurs, Seminer Hizmetleri","Döner Sermaye İşletmesi",{"$f":"#REF!","v":{"$error":"#REF!"}},{"$error":"#REF!"},{"$error":"#REF!"}]
[null,"Gelir İşlemleri ","12.13.Formasyon Eğitimi Hizmetleri","Sağlık Kültür ve Spor Daire Başkanlığı",{"$f":"#REF!","v":{"$error":"#REF!"}},{"$error":"#REF!"},{"$error":"#REF!"}]
[null,"Gelir İşlemleri ","12.9.Yemek Servisi Gelirleri","Döner Sermaye İşletmesi Mühendislik, Fen-Edebiyat, UZEM, Dil Eğitimi UVAM",{"$f":"#REF!","v":{"$error":"#REF!"}},{"$error":"#REF!"},{"$error":"#REF!"}]
[null,"Satın Alma İşlemleri","13.1.Açık İhale Usulü Süreci","Döner Sermaye İşletmesi, Edebiyat Fakültesi ",{"$f":"#REF!","v":{"$error":"#REF!"}},{"$error":"#REF!"},{"$error":"#REF!"}]
[null,"Satın Alma İşlemleri","13.2.Pazarlık Usulü Süreci","Tüm Birimler",{"$f":"#REF!","v":{"$error":"#REF!"}},{"$error":"#REF!"},{"$error":"#REF!"}]
[null,"Satın Alma İşlemleri","13.3.Doğrudan Temin Süreci","Tüm Birimler",{"$f":"#REF!","v":{"$error":"#REF!"}},{"$error":"#REF!"},{"$error":"#REF!"}]
[null,"Personel Ödeme İşlemleri Süreci","8.4.Döner Sermaye Ek Ödeme İşlemleri","Tüm Birimler",{"$f":"#REF!","v":{"$error":"#REF!"}},{"$error":"#REF!"},{"$error":"#REF!"}]
[null,"Personel Ödeme İşlemleri Süreci","8.2.Ek Ders Ödemeleri","SGDB, Akademik Birimler",{"$f":"#REF!","v":{"$error":"#REF!"}},{"$error":"#REF!"},{"$error":"#REF!"}]
[null,"Gelir İşlemleri ","12.7.Mal Satış Gelirleri","Döner Sermaye İşletmesi, Kızılırmak MYO",{"$f":"#REF!","v":{"$error":"#REF!"}},{"$error":"#REF!"},{"$error":"#REF!"}]
[null,"Gelir İşlemleri ","12.8.Konaklama Gelirleri","SKSD Başkanlığı, Konukevi ",{"$f":"#REF!","v":{"$error":"#REF!"}},{"$error":"#REF!"},{"$error":"#REF!"}]
[null,"Gelir İşlemleri ","12.11.Akademik Danışmanlık Hizmet Gelirleri","Döner Sermaye İşletmesi, Akademik Birimler",{"$f":"#REF!","v":{"$error":"#REF!"}},{"$error":"#REF!"},{"$error":"#REF!"}]
[null,"Mali Kontrol İşlemleri Süreci","16.2.Ön Mali Kontrol İşlemleri"," Harcama Birimleri, SGDB",{"$f":"#REF!","v":{"$error":"#REF!"}},{"$error":"#REF!"},{"$error":"#REF!"}]
[null,"Mali Kontrol İşlemleri Süreci","16.4.Emanet Tutarları Ödeme İşlemleri","SGDB",{"$f":"#REF!","v":{"$error":"#REF!"}},{"$error":"#REF!"},{"$error":"#REF!"}]
[null,"Senato ve Kurul Sekretarya İşlemleri","20.5.Bölüm Başkanlığı ve Anabilim Dalı İşlemleri","Fakülte, Yüksekokul, Enstitü",{"$f":"#REF!","v":{"$error":"#REF!"}},{"$error":"#REF!"},{"$error":"#REF!"}]
[null,"Personel Ödeme İşlemleri Süreci","8.1.Maaş Ödemeleri","SGDB, Personel D.Bşk. Harcama Birimleri",{"$f":"#REF!","v":{"$error":"#REF!"}},{"$error":"#REF!"},{"$error":"#REF!"}]
[null,"Mali Kontrol İşlemleri Süreci","16.1.İç Kontrol Faaliyetlerinin Koordinasyonu","İç Kontrol İzleme ve Yönlendirme Kurulu, SGDB",{"$f":"#REF!","v":{"$error":"#REF!"}},{"$error":"#REF!"},{"$error":"#REF!"}]
[null,"Mali Kontrol İşlemleri Süreci","16.3.Yasal Yükümlülükler Ödeme İşlemleri","SGDB",{"$f":"#REF!","v":{"$error":"#REF!"}},{"$error":"#REF!"},{"$error":"#REF!"}]
[null,"Muhasebe, Kesin Hesap ve Raporlama Süreci","18.1.Muhasebe Hizmetleri","SGDB, Harcama Birimleri",{"$f":"#REF!","v":{"$error":"#REF!"}},{"$error":"#REF!"},{"$error":"#REF!"}]
[null,"Personel Ödeme İşlemleri Süreci","8.3.Fazla Mesai Ücreti Ödemeleri","SGDB, Harcama Birimleri",{"$f":"#REF!","v":{"$error":"#REF!"}},{"$error":"#REF!"},{"$error":"#REF!"}]
[null,"Personel Ödeme İşlemleri Süreci","8.6.Yolluk Ödeme İşlemleri","SGDB, Harcama Birimleri",{"$f":"#REF!","v":{"$error":"#REF!"}},{"$error":"#REF!"},{"$error":"#REF!"}]
[null,"Personel Ödeme İşlemleri Süreci","8.7.Ön Ödeme İşlemleri","Harcama Birimleri, SGDB, Döner Ser.İşl.",{"$f":"#REF!","v":{"$error":"#REF!"}},{"$error":"#REF!"},{"$error":"#REF!"}]
[null,"Yargı, Soruşturma ve Hukuki Müşavirlik Hizmetleri ","7.1.Adli Dava İşlemleri Süreci","Hukuk Müşavirliği İdari ve Akademik Birimler",{"$f":"#REF!","v":{"$error":"#REF!"}},{"$error":"#REF!"},{"$error":"#REF!"}]
[null,"Yargı, Soruşturma ve Hukuki Müşavirlik Hizmetleri ","7.2.İdari Dava İşlemleri Süreci","Hukuk Müşavirliği İdari ve Akademik Birimler",{"$f":"#REF!","v":{"$error":"#REF!"}},{"$error":"#REF!"},{"$error":"#REF!"}]
[null,"Yargı, Soruşturma ve Hukuki Müşavirlik Hizmetleri ","7.3.İcra ve Alacak Takip İşlemleri","Hukuk Müşavirliği İdari ve Akademik Birimler",{"$f":"#REF!","v":{"$error":"#REF!"}},{"$error":"#REF!"},{"$error":"#REF!"}]
[null,"Personel Özlük İşlemleri Süreci","9.2.Öğretim Üyesi Atama İşlemleri","Personel Daire Başkanlığı Akademik Birimler",{"$f":"#REF!","v":{"$error":"#REF!"}},{"$error":"#REF!"},{"$error":"#REF!"}]
[null,"Personel Özlük İşlemleri Süreci","9.3.Öğretim Görevlisi ve Okutman Atama İşlemleri","Personel Daire Başkanlığı Akademik Birimler",{"$f":"#REF!","v":{"$error":"#REF!"}},{"$error":"#REF!"},{"$error":"#REF!"}]
[null,"Personel Özlük İşlemleri Süreci","9.4.Öğretim Yardımcıları Sınav ve Atama İşlemleri","Personel Daire Başkanlığı Akademik Birimler",{"$f":"#REF!","v":{"$error":"#REF!"}},{"$f":"IF(E37>18.99,\"YÜKSEK\",IF(E37>18.99<9.99,\"ORTA\",IF(E37>9.99,\"ORTA\",IF(E37>0,\"DÜŞÜK\"))))","v":{"$error":"#REF!"}},{"$f":"IF(E37>18.99,\"1\",IF(E37>18.99<9.99,\"2\",IF(E37>9.99,\"2\",IF(E37>0,\"3\"))))","v":{"$error":"#REF!"}}]
[null,"Personel Görevlendirme","22.1.Yurtiçi Geçici Görevlendirme","İdari ve Akademik Birimler",{"$f":"#REF!","v":{"$error":"#REF!"}},{"$error":"#REF!"},{"$error":"#REF!"}]
[null,"Proje İşlemleri Süreci","3.1.İç Kaynaklı Bilimsel Projeler","Proje Yönetim Ofisi, SGDB, Akademik Birimler",{"$f":"#REF!","v":{"$error":"#REF!"}},{"$error":"#REF!"},{"$error":"#REF!"}]
[null,"Proje İşlemleri Süreci","3.2.Dış Kaynaklı Bilimsel Projeler ","Proje Yönetim Ofisi, SGDB, Akademik Birimler",{"$f":"#REF!","v":{"$error":"#REF!"}},{"$error":"#REF!"},{"$error":"#REF!"}]
[null,"Bütçe ve Performans Süreci","17.4.Bütçe Uygulama Süreci","Personel Daire Başkanlığı, Akademik Birimler",{"$f":"#REF!","v":{"$error":"#REF!"}},{"$error":"#REF!"},{"$error":"#REF!"}]
[null,"Senato ve Kurul Sekretarya İşlemleri","20.3.Fakülte, Yüksekokul ve Enstitü Kurulları","SGDB, Harcama Birimleri",{"$f":"#REF!","v":{"$error":"#REF!"}},{"$error":"#REF!"},{"$error":"#REF!"}]
[null,"Senato ve Kurul Sekretarya İşlemleri","20.4.Fakülte, Y.okul, Ens. ve Araş. Merk. Yön. Kurulları","Fakülte, Yüksekokul, Enst.",{"$f":"#REF!","v":{"$error":"#REF!"}},{"$error":"#REF!"},{"$error":"#REF!"}]
[null,"Personel Özlük İşlemleri Süreci","9.1.2547 sayılı Kanuna Göre Çalıştırı. Per. (Öğret. Ele.) ","Fakülte, Y.okul, Enst. ve Merkezler",{"$f":"#REF!","v":{"$error":"#REF!"}},{"$error":"#REF!"},{"$error":"#REF!"}]
[null,"Bilgi İşlem Hizmetleri Süreci","5.4.Otomasyon Programları Yönetimi İşlemleri","Bilgi İşlem D.Bşk. Otomasyon Kullanan Tüm Birimler",{"$f":"#REF!","v":{"$error":"#REF!"}},{"$error":"#REF!"},{"$error":"#REF!"}]
[null,"Personel Görevlendirme","22.2.Yurtdışı Geçici Görevlendirme","İdari ve Akademik Birimler",{"$f":"#REF!","v":{"$error":"#REF!"}},{"$error":"#REF!"},{"$error":"#REF!"}]
[null,"Personel Görevlendirme","22.3.2547 13/b-4 Görevlendirmeleri","Rektörlük Makamı,  İdari ve Akademik Birimler",{"$f":"#REF!","v":{"$error":"#REF!"}},{"$error":"#REF!"},{"$error":"#REF!"}]
[null,"Personel Görevlendirme","22.4.Vekâleten Görevlendirmeler","Personel Daire Başkanlığı İdari ve Akademik Birimler",{"$f":"#REF!","v":{"$error":"#REF!"}},{"$error":"#REF!"},{"$error":"#REF!"}]
[null,"Personel Görevlendirme","22.5.Tedviren Görevlendirmeler","Personel Daire Başkanlığı İdari ve Akademik Birimler",{"$f":"#REF!","v":{"$error":"#REF!"}},{"$error":"#REF!"},{"$error":"#REF!"}]
[null,"Personel Görevlendirme","22.6. Diğer Görevlen. (2547 sayılı Kanunun 40/a, b, d) ","Personel Daire Başkanlığı Akademik Birimler",{"$f":"#REF!","v":{"$error":"#REF!"}},{"$error":"#REF!"},{"$error":"#REF!"}]
[null,"Personel Ödeme İşlemleri Süreci","8.5. Ayni Yardımlar","Harcama Birimleri, SGDB, İMİD, Personel D.Bşk.",{"$f":"#REF!","v":{"$error":"#REF!"}},{"$error":"#REF!"},{"$error":"#REF!"}]
[null,"Personel Ödeme İşlemleri Süreci","8.8.Diğer Ödemeler","Harcama Birimleri  SGDB",{"$f":"#REF!","v":{"$error":"#REF!"}},{"$error":"#REF!"},{"$error":"#REF!"}]
[null,"Gelir İşlemleri ","12.1.Örgün Eğitim Katkı Payı","Personel Daire Başkanlığı İdari ve Akademik Birimler",{"$f":"#REF!","v":{"$error":"#REF!"}},{"$error":"#REF!"},{"$error":"#REF!"}]
[null,"Gelir İşlemleri ","12.2.İkinci Öğretim Öğrenim Ücreti","SKSD, Başkanlığı SGDB",{"$f":"#REF!","v":{"$error":"#REF!"}},{"$error":"#REF!"},{"$error":"#REF!"}]
[null,"Bütçe ve Performans Süreci","17.3.Gelirlerin Tahak., Gelir ve Alac. Takip ve Tah. İşl.","SKSD, Başkanlığı SGDB",{"$f":"#REF!","v":{"$error":"#REF!"}},{"$error":"#REF!"},{"$error":"#REF!"}]
[null,"Bütçe ve Performans Süreci","17.6.Ödenek İşlemleri","SGDB",{"$f":"#REF!","v":{"$error":"#REF!"}},{"$error":"#REF!"},{"$error":"#REF!"}]
[null,"Muhasebe, Kesin Hesap ve Raporlama Süreci","18.2.Mali İstatistiklerin Hazırlanması","SGDB, Harcama Birimleri",{"$f":"#REF!","v":{"$error":"#REF!"}},{"$error":"#REF!"},{"$error":"#REF!"}]
[null,"Muhasebe, Kesin Hesap ve Raporlama Süreci","18.3.Bütçe Kesin Hesabının Hazırlanması","Harcama Birimleri SGDB, Döner Ser.İşl.",{"$f":"#REF!","v":{"$error":"#REF!"}},{"$error":"#REF!"},{"$error":"#REF!"}]
[null,"Muhasebe, Kesin Hesap ve Raporlama Süreci","18.4.Mali Döneme Ait İcmal Cetvellerinin Hazırlan.","SGDB",{"$f":"#REF!","v":{"$error":"#REF!"}},{"$error":"#REF!"},{"$error":"#REF!"}]
[null,"Senato ve Kurul Sekretarya İşlemleri","20.1.Senato İşlemleri","SGDB",{"$f":"#REF!","v":{"$error":"#REF!"}},{"$error":"#REF!"},{"$error":"#REF!"}]
[null,"Senato ve Kurul Sekretarya İşlemleri","20.2.Üniversite Yönetim Kurulu İşlemleri","Genel Sekreterlik",{"$f":"#REF!","v":{"$error":"#REF!"}},{"$error":"#REF!"},{"$error":"#REF!"}]
[null,"Personel Özlük İşlemleri Süreci","9.5.657 sayılı Kanuna Göre Çalıştırılan Per. Atama","Genel Sekreterlik",{"$f":"#REF!","v":{"$error":"#REF!"}},{"$error":"#REF!"},{"$error":"#REF!"}]
[null,"Gelir İşlemleri ","12.16.Avukatlık Vekâlet Ücreti Gelirleri","Hukuk Müşavirliği, SGDB",{"$f":"#REF!","v":{"$error":"#REF!"}},{"$error":"#REF!"},{"$error":"#REF!"}]
[null,"Öğrenci İşlemleri Süreci","10.18.Kısmi Zamanlı Öğrenci Çalıştırılması Süreci","SKSD Başkanlığı, İdari ve Akademik Birimler",{"$f":"#REF!","v":{"$error":"#REF!"}},{"$error":"#REF!"},{"$error":"#REF!"}]
[null,"Öğrenci İşlemleri Süreci","10.19.Öğrenci Toplulukları İşlemleri","SKSD Başkanlığı, Akademik Birimler",{"$f":"#REF!","v":{"$error":"#REF!"}},{"$error":"#REF!"},{"$error":"#REF!"}]
[null,"Bilgi İşlem Hizmetleri Süreci","5.2.Ağ Yönetimi ve Güvenliği İşlemleri","Bilgi İşlem D.Bşk.",{"$f":"#REF!","v":{"$error":"#REF!"}},{"$error":"#REF!"},{"$error":"#REF!"}]
[null,"Öğrenci ve personel değişim programları süreci","2.1.Farabi Öğrenci ve Öğret. Elemanı Değ. Prog. Süreci","Farabi Kurum Koord., SGDB/Akademik Birimler",{"$f":"#REF!","v":{"$error":"#REF!"}},{"$error":"#REF!"},{"$error":"#REF!"}]
[null,"Öğrenci ve personel değişim programları süreci","2.2.Erasmus Öğrenci ve Personel Hareketliliği Süreci","Uluslararası İlişkiler Birimi, SGDB/Akademik Birimler",{"$f":"#REF!","v":{"$error":"#REF!"}},{"$error":"#REF!"},{"$error":"#REF!"}]
[null,"Öğrenci ve personel değişim programları süreci","2.3.Mevlana Öğrenci ve Öğretim Ele. Değ. Prg. Süreci","Uluslararası İlişkiler Birimi, SGDB/Akademik Birimler",{"$f":"#REF!","v":{"$error":"#REF!"}},{"$f":"IF(E69>18.99,\"YÜKSEK\",IF(E69>18.99<9.99,\"ORTA\",IF(E69>9.99,\"ORTA\",IF(E69>0,\"DÜŞÜK\"))))","v":{"$error":"#REF!"}},{"$f":"IF(E69>18.99,\"1\",IF(E69>18.99<9.99,\"2\",IF(E69>9.99,\"2\",IF(E69>0,\"3\"))))","v":{"$error":"#REF!"}}]
[null,"Öğrenci ve personel değişim programları süreci","2.4 Öğretim Elemanı Yetiştirme Programı Süreci","ÖYP Koordinatörlüğü, SGDB/Akademik Birimler",{"$f":"#REF!","v":{"$error":"#REF!"}},{"$error":"#REF!"},{"$error":"#REF!"}]
[null,"Bilgi İşlem Hizmetleri Süreci","5.1.Teknik ve Yazılım Destek İşlemleri","Bilgi İşlem D.Bşk., Tüm Birimler",{"$f":"#REF!","v":{"$error":"#REF!"}},{"$error":"#REF!"},{"$error":"#REF!"}]
[null,"Personel Özlük İşlemleri Süreci","9.10.Görevde Yükselme İşlemleri","Personel Daire Başkanlığı, İdari ve Akademik Birimler",{"$f":"#REF!","v":{"$error":"#REF!"}},{"$error":"#REF!"},{"$error":"#REF!"}]
[null,{"$f":"#REF!","v":{"$error":"#REF!"}},{"$f":"#REF!","v":{"$error":"#REF!"}},{"$f":"#REF!","v":{"$error":"#REF!"}},{"$f":"#REF!","v":{"$error":"#REF!"}},{"$error":"#REF!"},{"$error":"#REF!"}]
[null,"Evrak İşlemleri Süreci","1.2.Giden Evrak Hazırlama, Kayıt ve Dağıtım",{"$f":"#REF!","v":{"$error":"#REF!"}},{"$f":"#REF!","v":{"$error":"#REF!"}},{"$error":"#REF!"},{"$error":"#REF!"}]
[null,"Evrak İşlemleri Süreci","1.4.Arşivleme (Resmi evrak ve Bilimsel yayın arşiv.)","Genel Sekreterlik/İMİD,Tüm Birimler",{"$f":"#REF!","v":{"$error":"#REF!"}},{"$error":"#REF!"},{"$error":"#REF!"}]
[null,"Evrak İşlemleri Süreci","1.5.Tebligat ve Zimmet işlemleri","Genel Sekreterlik, Tüm Birimler",{"$f":"#REF!","v":{"$error":"#REF!"}},{"$error":"#REF!"},{"$error":"#REF!"}]
[null,"Gelir İşlemleri ","12.14.Lojman Kira Gelirleri","Personel Daire Başkanlığı",{"$f":"#REF!","v":{"$error":"#REF!"}},{"$error":"#REF!"},{"$error":"#REF!"}]
[null,"Gelir İşlemleri ","12.3.Uzaktan Eğitim Öğrenim Ücreti ve Materyal Gel.","SKSD Başkanlığı, SGDB",{"$f":"#REF!","v":{"$error":"#REF!"}},{"$error":"#REF!"},{"$error":"#REF!"}]
[null,"Gelir İşlemleri ","12.4.Tezli Yüksek Lisans Katkı Payı","SKSD Başkanlığı, SGDB",{"$f":"#REF!","v":{"$error":"#REF!"}},{"$error":"#REF!"},{"$error":"#REF!"}]
[null,"Gelir İşlemleri ","12.5.Tezsiz Yüksek Lisans Öğrenim Ücreti","SKSD Başkanlığı, SGDB",{"$f":"#REF!","v":{"$error":"#REF!"}},{"$error":"#REF!"},{"$error":"#REF!"}]
[null,"Taşınmaz Mal İşlemleri Süreci","15.1.Taşınmaz Mal Kayıt ve Konsolide İşlemleri ","Personel Daire Başkanlığı SGDB, İMİD",{"$f":"#REF!","v":{"$error":"#REF!"}},{"$error":"#REF!"},{"$error":"#REF!"}]
[null,"Taşınmaz Mal İşlemleri Süreci","15.2.Taşınmaz Edinimi","Harcama Birimleri SGDB",{"$f":"#REF!","v":{"$error":"#REF!"}},{"$error":"#REF!"},{"$error":"#REF!"}]
[null,"Taşınmaz Mal İşlemleri Süreci","15.3.Taşınmaz Kiraya Verilmesi ve Yönetimi","İMİD,Yapı İşleri Daire Bşk., SGDB",{"$f":"#REF!","v":{"$error":"#REF!"}},{"$error":"#REF!"},{"$error":"#REF!"}]
[null,"Bütçe ve Performans Süreci","17.5.Stratejik Planlama İşlemleri","SKSD,İMİD, SGDB",{"$f":"#REF!","v":{"$error":"#REF!"}},{"$error":"#REF!"},{"$error":"#REF!"}]
[null,"Kütüphanecilik İşlemleri Süreci","19.1.Üyelik İşlemleri","SGDB, Harcama Birimleri",{"$f":"#REF!","v":{"$error":"#REF!"}},{"$error":"#REF!"},{"$error":"#REF!"}]
[null,"Kütüphanecilik İşlemleri Süreci","19.3.Ödünç Verme, Kayıp ve İade İşlemleri","Kütüphane DDB",{"$f":"#REF!","v":{"$error":"#REF!"}},{"$error":"#REF!"},{"$error":"#REF!"}]
[null,"Personel Özlük İşlemleri Süreci","9.6.Kadro İşlemleri Süreci","Kütüphane DDB",{"$f":"#REF!","v":{"$error":"#REF!"}},{"$error":"#REF!"},{"$error":"#REF!"}]
[null,"Eğitim ve Öğretim ile İlgili İşlemler","11.7.Sınav Sonuç. Öğr. Oto. Sist. Girişi ve Sınav Kâğıt. Muh.","Akademik Birimler",{"$f":"#REF!","v":{"$error":"#REF!"}},{"$error":"#REF!"},{"$error":"#REF!"}]
[null,"Eğitim ve Öğretim ile İlgili İşlemler","11.9.Öğrenci Staj İşlemleri Süreci","Akademik Birimler, SKSD Başkanlığı",{"$f":"#REF!","v":{"$error":"#REF!"}},{"$error":"#REF!"},{"$error":"#REF!"}]
[null,"Bütçe ve Performans Süreci","17.1.Bütçenin Hazırlanması","SGDB, Harcama Birimleri",{"$f":"#REF!","v":{"$error":"#REF!"}},{"$error":"#REF!"},{"$error":"#REF!"}]
[null,"Gelir İşlemleri ","12.15.Diğer Taşınmaz Kira Gelirleri (Kantin, Baz ist.)","İMİD, SKSD Başkanlığı, SGDB",{"$f":"#REF!","v":{"$error":"#REF!"}},{"$error":"#REF!"},{"$error":"#REF!"}]
[null,"Genel Hizmetler Süreci","21.5.Hizmet Araçları Yönetimi İşlemleri","İMİD, İdari ve Akademik Birimler",{"$f":"#REF!","v":{"$error":"#REF!"}},{"$error":"#REF!"},{"$error":"#REF!"}]
[null,"Bilgi İşlem Hizmetleri Süreci","5.3.Yazılım İşlemleri Süreci","Bilgi İşlem D.Bşk., Tüm Birimler",{"$f":"#REF!","v":{"$error":"#REF!"}},{"$error":"#REF!"},{"$error":"#REF!"}]
[null,"Bilgi İşlem Hizmetleri Süreci","5.5.Sunucu (Server) Hizmetleri","Bilgi İşlem D.Bşk.",{"$f":"#REF!","v":{"$error":"#REF!"}},{"$error":"#REF!"},{"$error":"#REF!"}]
[null,"Öğrenci İşlemleri Süreci","10.15.Öğrenci Temsilci Seçimi İşlemleri","Öğrenci İşleri D.Bşk., Akademik Birimler",{"$f":"#REF!","v":{"$error":"#REF!"}},{"$error":"#REF!"},{"$error":"#REF!"}]
[null,"Personel Özlük İşlemleri Süreci","9.8.Terfi süreçleri","Personel Daire Başkanlığı, İdari ve Akademik Birimler",{"$f":"#REF!","v":{"$error":"#REF!"}},{"$error":"#REF!"},{"$error":"#REF!"}]
[null,"Kütüphanecilik İşlemleri Süreci","19.2.Süreli Süresiz Yayın Abonelik ve Dağıtımı İşl.","Personel Daire Başkanlığı",{"$f":"#REF!","v":{"$error":"#REF!"}},{"$error":"#REF!"},{"$error":"#REF!"}]
[null,"Kütüphanecilik İşlemleri Süreci","19.4.Kütüphanecilik Dokümantasyon İşlemleri","Kütüphane DDB",{"$f":"#REF!","v":{"$error":"#REF!"}},{"$error":"#REF!"},{"$error":"#REF!"}]
[null,"Senato ve Kurul Sekretarya İşlemleri","20.6.Diğer Kurullar ve Komisyonlar","Kütüphane DDB",{"$f":"#REF!","v":{"$error":"#REF!"}},{"$error":"#REF!"},{"$error":"#REF!"}]
[null,"Personel Özlük İşlemleri Süreci","9.7.İntibak süreçleri","Genel Sekreterlik",{"$f":"#REF!","v":{"$error":"#REF!"}},{"$error":"#REF!"},{"$error":"#REF!"}]
[null,"Emniyet ve Güvenlik Hizmetleri","24.3.Koruma ve Güvenlik Hizmetleri ","İMİD, Güvenlik Şube Müdürlüğü",{"$f":"#REF!","v":{"$error":"#REF!"}},{"$f":"IF(E101>18.99,\"YÜKSEK\",IF(E101>18.99<9.99,\"ORTA\",IF(E101>9.99,\"ORTA\",IF(E101>0,\"DÜŞÜK\"))))","v":{"$error":"#REF!"}},{"$f":"IF(E101>18.99,\"1\",IF(E101>18.99<9.99,\"2\",IF(E101>9.99,\"2\",IF(E101>0,\"3\"))))","v":{"$error":"#REF!"}}]
[null,"Evrak İşlemleri Süreci","1.3.Dosyalama","Genel Sekreterlik/İMİD, Tüm Birimler",{"$f":"#REF!","v":{"$error":"#REF!"}},{"$error":"#REF!"},{"$error":"#REF!"}]
[null,"Gelir İşlemleri ","12.10.Yüzme Havuzu, Spor Saha ve Salon Gelirleri","Basın Yayın Birimi, Tüm Birimler",{"$f":"#REF!","v":{"$error":"#REF!"}},{"$error":"#REF!"},{"$error":"#REF!"}]
[null,"Gelir İşlemleri ","12.17.Şartname ve Basılı Evrak Gelirleri","Basın Yayın Birimi, Akademik Birimler",{"$f":"#REF!","v":{"$error":"#REF!"}},{"$error":"#REF!"},{"$error":"#REF!"}]
[null,"Gelir İşlemleri ","12.6.Doktora Öğrenim Ücreti","Basın Yayın Birimi, İdari ve Akademik Birimler",{"$f":"#REF!","v":{"$error":"#REF!"}},{"$error":"#REF!"},{"$error":"#REF!"}]
[null,"Bütçe ve Performans Süreci","17.2.Yatırım Programının Hazırlanması","Basın Yayın Birimi",{"$f":"#REF!","v":{"$error":"#REF!"}},{"$error":"#REF!"},{"$error":"#REF!"}]
[null,"Basın Yayın ve Halkla İlişkiler İşlemleri Süreci","4.1.Bilgi Edinme İşlemleri Süreci","Basın Yayın Birimi,Tüm Birimler",{"$f":"#REF!","v":{"$error":"#REF!"}},{"$error":"#REF!"},{"$error":"#REF!"}]
[null,"Basın Yayın ve Halkla İlişkiler İşlemleri Süreci","4.2.Süreli Yayın İşlemleri","Bilgi İşlem D.Bşk., Basın Yayın Brm., İdari ve Akademik Birimler",{"$f":"#REF!","v":{"$error":"#REF!"}},{"$error":"#REF!"},{"$error":"#REF!"}]
[null,"Basın Yayın ve Halkla İlişkiler İşlemleri Süreci","4.3.Süresiz Yayın İşlemleri","Basın Yayın Birimi/SKS Dai.Bşk.lığı",{"$f":"#REF!","v":{"$error":"#REF!"}},{"$error":"#REF!"},{"$error":"#REF!"}]
[null,"Basın Yayın ve Halkla İlişkiler İşlemleri Süreci","4.4.Haber ve Duyuru Yayma İşlemleri ","SKSD Başkanlığı",{"$f":"#REF!","v":{"$error":"#REF!"}},{"$error":"#REF!"},{"$error":"#REF!"}]
[null,"Basın Yayın ve Halkla İlişkiler İşlemleri Süreci","4.5.Haber Toplama İşlemleri","SKSD Başkanlığı, SGDB",{"$f":"#REF!","v":{"$error":"#REF!"}},{"$error":"#REF!"},{"$error":"#REF!"}]
[null,"Basın Yayın ve Halkla İlişkiler İşlemleri Süreci","4.6.Web Sayfası İşlemleri Süreci","SKSD Başkanlığı, SGDB",{"$f":"#REF!","v":{"$error":"#REF!"}},{"$error":"#REF!"},{"$error":"#REF!"}]
[null,"Basın Yayın ve Halkla İlişkiler İşlemleri Süreci","4.7.Tanıtım İşlemleri Süreci","Harcama Birimleri, SGDB",{"$f":"#REF!","v":{"$error":"#REF!"}},{"$error":"#REF!"},{"$error":"#REF!"}]
[null,"Basın Yayın ve Halkla İlişkiler İşlemleri Süreci","4.8.Etkinlik ve Organizasyon İşlemleri","SGDB, Harcama Birimleri",{"$f":"#REF!","v":{"$error":"#REF!"}},{"$error":"#REF!"},{"$error":"#REF!"}]
[null,"Yargı, Soruşturma ve Hukuki Müşavirlik Hizmetleri ","7.7.Müşavirlik İşlemleri","Hukuk Müşavirliği, Tüm Birimler",{"$f":"#REF!","v":{"$error":"#REF!"}},{"$error":"#REF!"},{"$error":"#REF!"}]
[null,"Yargı, Soruşturma ve Hukuki Müşavirlik Hizmetleri ","7.8.Mevzuat Hazırlama Süreci","Genel Sekreterlik, Tüm Birimler",{"$f":"#REF!","v":{"$error":"#REF!"}},{"$error":"#REF!"},{"$error":"#REF!"}]
[null,"Genel Hizmetler Süreci","21.4.Çevre Düzenleme İşlemleri (Peyzaj, Ağaçlan.)","İMİD, Ağaçlandırma ve Çevre Düzenleme Şube Müd.",{"$f":"#REF!","v":{"$error":"#REF!"}},{"$error":"#REF!"},{"$error":"#REF!"}]
[null,"Öğrenci İşlemleri Süreci","10.10.Özel Öğrenciler ve Diğer Öğrenciler","Akademik Birimler",{"$f":"#REF!","v":{"$error":"#REF!"}},{"$error":"#REF!"},{"$error":"#REF!"}]
[null,"Öğrenci İşlemleri Süreci","10.11.Ders Kaydı İşlemleri","Akademik Birimler",{"$f":"#REF!","v":{"$error":"#REF!"}},{"$error":"#REF!"},{"$error":"#REF!"}]
[null,"Öğrenci İşlemleri Süreci","10.2.Lisans Yerleştirme Sınavı ile Gelen Öğrenciler","Akademik Birimler",{"$f":"#REF!","v":{"$error":"#REF!"}},{"$error":"#REF!"},{"$error":"#REF!"}]
[null,"Öğrenci İşlemleri Süreci","10.3.Özel Yetenek Sınavı ile Gelen Öğrenciler","Akademik Birimler",{"$f":"#REF!","v":{"$error":"#REF!"}},{"$error":"#REF!"},{"$error":"#REF!"}]
[null,"Öğrenci İşlemleri Süreci","10.4.YÖS ile Gelen Öğrenciler","Akademik Birimler",{"$f":"#REF!","v":{"$error":"#REF!"}},{"$error":"#REF!"},{"$error":"#REF!"}]
[null,"Öğrenci İşlemleri Süreci","10.5.Yatay Geçiş ile Gelen Öğrenciler","Akademik Birimler",{"$f":"#REF!","v":{"$error":"#REF!"}},{"$error":"#REF!"},{"$error":"#REF!"}]
[null,"Öğrenci İşlemleri Süreci","10.6.Dikey Geçiş Sınavı ile Gelen Öğrenciler","UZEM",{"$f":"#REF!","v":{"$error":"#REF!"}},{"$error":"#REF!"},{"$error":"#REF!"}]
[null,"Öğrenci İşlemleri Süreci","10.7.Değişim Program. veya Hareket. ile Gelen Öğren.","ENSTİTÜLER",{"$f":"#REF!","v":{"$error":"#REF!"}},{"$error":"#REF!"},{"$error":"#REF!"}]
[null,"Öğrenci İşlemleri Süreci","10.8.UZEM Tarafından Kabul Edilen Öğrenciler","ENSTİTÜLER",{"$f":"#REF!","v":{"$error":"#REF!"}},{"$error":"#REF!"},{"$error":"#REF!"}]
[null,"Öğrenci İşlemleri Süreci","10.9.Yüksek Lisans ve Doktora Öğr. Kayıt ve Kabul İşl.","Akademik Birimler",{"$f":"#REF!","v":{"$error":"#REF!"}},{"$error":"#REF!"},{"$error":"#REF!"}]
[null,"Eğitim ve Öğretim ile İlgili İşlemler","11.1.Ders Prog. ve Dağılım. Hazırlan. ve Duyurul.İşl.","Akademik Birimler",{"$f":"#REF!","v":{"$error":"#REF!"}},{"$error":"#REF!"},{"$error":"#REF!"}]
[null,"Eğitim ve Öğretim ile İlgili İşlemler","11.2.Ders Puantajlarının Hazırlanması İşlemleri","Akademik Birimler  ve UZEM",{"$f":"#REF!","v":{"$error":"#REF!"}},{"$error":"#REF!"},{"$error":"#REF!"}]
[null,"Eğitim ve Öğretim ile İlgili İşlemler","11.4.Öğrenci Danışmanının Belirlen. ve Bildirilmesi","Akademik Birimler  ve UZEM",{"$f":"#REF!","v":{"$error":"#REF!"}},{"$error":"#REF!"},{"$error":"#REF!"}]
[null,"Eğitim ve Öğretim ile İlgili İşlemler","11.5.Sınav Programlarının İlanı","Akademik Birimler  ve UZEM",{"$f":"#REF!","v":{"$error":"#REF!"}},{"$error":"#REF!"},{"$error":"#REF!"}]
[null,"Eğitim ve Öğretim ile İlgili İşlemler","11.6.Gözetmenlik Görevlerinin Belirlenmesi ve İlanı","Akademik Birimler  ve UZEM",{"$f":"#REF!","v":{"$error":"#REF!"}},{"$error":"#REF!"},{"$error":"#REF!"}]
[null,"Emniyet ve Güvenlik Hizmetleri","24.1.Afet ve Acil Durum Yönetimi İşlemleri","İMİD, Sivil Savunma Uzmanlığı",{"$f":"#REF!","v":{"$error":"#REF!"}},{"$f":"IF(E133>18.99,\"YÜKSEK\",IF(E133>18.99<9.99,\"ORTA\",IF(E133>9.99,\"ORTA\",IF(E133>0,\"DÜŞÜK\"))))","v":{"$error":"#REF!"}},{"$f":"IF(E133>18.99,\"1\",IF(E133>18.99<9.99,\"2\",IF(E133>9.99,\"2\",IF(E133>0,\"3\"))))","v":{"$error":"#REF!"}}]
[null,"Emniyet ve Güvenlik Hizmetleri","24.2.İş Sağlığı ve Güvenliği İşlemler","İMİD",{"$f":"#REF!","v":{"$error":"#REF!"}},{"$error":"#REF!"},{"$error":"#REF!"}]
[null,"Gelir İşlemleri ","12.18.Bağış ve Yardım Gelirleri","SKSD Başkanlığı, Fakülte, Y.okul, Enst. ve UZEM",{"$f":"#REF!","v":{"$error":"#REF!"}},{"$error":"#REF!"},{"$error":"#REF!"}]
[null,"Gelir İşlemleri ","12.19.Ceza, Tazminat vb. Gelirleri","SKSD Başkanlığı, Fakülte, Y.okul, Enst. ve UZEM",{"$f":"#REF!","v":{"$error":"#REF!"}},{"$error":"#REF!"},{"$error":"#REF!"}]
[null,"Burs İşlemleri Süreci","6.1.Öğrenci Yemek Bursu İşlemleri","SKSD Başkanlığı, Fakülte, Y.okul, Enst. ve UZEM",{"$f":"#REF!","v":{"$error":"#REF!"}},{"$error":"#REF!"},{"$error":"#REF!"}]
[null,"Burs İşlemleri Süreci","6.2.KYK Kredi ve Burs İşlemleri","Personel Daire Başkanlığı",{"$f":"#REF!","v":{"$error":"#REF!"}},{"$error":"#REF!"},{"$error":"#REF!"}]
[null,"Burs İşlemleri Süreci","6.3.Diğer Burs İşlemleri Süreci","Personel Daire Başkanlığı, İdari ve Akademik Birimler",{"$f":"#REF!","v":{"$error":"#REF!"}},{"$error":"#REF!"},{"$error":"#REF!"}]
[null,"Personel Özlük İşlemleri Süreci","9.14.Mecburi Hizmet Yükümlülükleri İşlemleri","Harcama Birimleri, SGDB, Döner Ser.İşl.",{"$f":"#REF!","v":{"$error":"#REF!"}},{"$error":"#REF!"},{"$error":"#REF!"}]
[null,"Personel Özlük İşlemleri Süreci","9.15.Hizmet içi Eğitim İşlemleri","Harcama Birimleri, SGDB, Döner Ser.İşl.",{"$f":"#REF!","v":{"$error":"#REF!"}},{"$error":"#REF!"},{"$error":"#REF!"}]
[null,"Personel Özlük İşlemleri Süreci","9.12.Mal Beyanı İşlemleri","Personel Daire Başkanlığı, İdari ve Akademik Birimler",{"$f":"#REF!","v":{"$error":"#REF!"}},{"$error":"#REF!"},{"$error":"#REF!"}]
[null,"Öğrenci İşlemleri Süreci","10.12.Öğrenci Kimlik Kartı İşlemleri Süreci","Öğrenci İşleri D.Bşk., Akademik Birimler",{"$f":"#REF!","v":{"$error":"#REF!"}},{"$error":"#REF!"},{"$error":"#REF!"}]
[null,"Öğrenci İşlemleri Süreci","10.13.Öğrenci Belge İşlemleri Süreci","Öğrenci İşleri D.Bşk.",{"$f":"#REF!","v":{"$error":"#REF!"}},{"$error":"#REF!"},{"$error":"#REF!"}]
[null,"Öğrenci İşlemleri Süreci","10.17.Mezuniyet İşlemleri","Öğrenci İşleri D.Bşk. Akademik Birimler",{"$f":"#REF!","v":{"$error":"#REF!"}},{"$error":"#REF!"},{"$error":"#REF!"}]
[null,"Genel Hizmetler Süreci","21.1.Temizlik Hizmet İşlemleri Süreci","İMİD, Döner Serm.İşl.",{"$f":"#REF!","v":{"$error":"#REF!"}},{"$error":"#REF!"},{"$error":"#REF!"}]
[null,"Genel Hizmetler Süreci","21.3.İçme ve Kullanma Suyu işlemleri","İMİD",{"$f":"#REF!","v":{"$error":"#REF!"}},{"$error":"#REF!"},{"$error":"#REF!"}]
[null,"Eğitim ve Öğretim ile İlgili İşlemler","11.3.Ders Muafiyeti ve İntibak İşlemleri","Akademik Birimler  ve UZEM",{"$f":"#REF!","v":{"$error":"#REF!"}},{"$error":"#REF!"},{"$error":"#REF!"}]
[null,"Genel Hizmetler Süreci","21.2.Telekomünikasyon Süreci (Tel., Faks, İnternet)","İMİD, BİDB, İdari ve Akademik Birimler",{"$f":"#REF!","v":{"$error":"#REF!"}},{"$error":"#REF!"},{"$error":"#REF!"}]
[null,"Öğrenci İşlemleri Süreci","10.1.Önlisans ve Lisans Öğrenci Kayıt ve Kabul İşlem.","Personel Daire Başkanlığı İdari ve Akademik Birimler",{"$f":"#REF!","v":{"$error":"#REF!"}},{"$error":"#REF!"},{"$error":"#REF!"}]
[null,"Gelir İşlemleri ","12.20.Diğer Gelirler","Personel Daire Başkanlığı",{"$f":"#REF!","v":{"$error":"#REF!"}},{"$error":"#REF!"},{"$error":"#REF!"}]
[null,"Personel Özlük İşlemleri Süreci","9.11.Görevden Ayrıl. İşlem. (Emek.-İstifa-Nakil-Ölüm)","Öğrenci İşl.D.Bşk., Fakülte, Yüksekokul, Enstitüler ve UZEM",{"$f":"#REF!","v":{"$error":"#REF!"}},{"$error":"#REF!"},{"$error":"#REF!"}]
[null,"Personel Özlük İşlemleri Süreci","9.13.Pasaport Başvuru İşlemleri","Harcama Birimleri SGDB, Döner Ser.İşl.",{"$f":"#REF!","v":{"$error":"#REF!"}},{"$error":"#REF!"},{"$error":"#REF!"}]
[null,"Muhasebe, Kesin Hesap ve Raporlama Süreci","18.5.Mali Danışmanlık İşlemleri","SGDB",{"$f":"#REF!","v":{"$error":"#REF!"}},{"$error":"#REF!"},{"$error":"#REF!"}]
[null,"Öğrenci İşlemleri Süreci","10.16.Kayıt Dondurma İşlemleri","Öğrenci İşleri D.Bşk. Akademik Birimler",{"$f":"#REF!","v":{"$error":"#REF!"}},{"$error":"#REF!"},{"$error":"#REF!"}]
[null,"Eğitim ve Öğretim ile İlgili İşlemler","11.8. Sınav Sonuçlarına Yap. İtirazlar ve Değer. Süreci","Akademik Birimler",{"$f":"#REF!","v":{"$error":"#REF!"}},{"$error":"#REF!"},{"$error":"#REF!"}]
[null,"Genel Hizmetler Süreci","21.6.Öğrenci ve Personel Memnuniyeti İşlemleri ","Genel Sekreterlik, İdari ve Akademik Birimler",{"$f":"#REF!","v":{"$error":"#REF!"}},{"$error":"#REF!"},{"$error":"#REF!"}]
[null,"Enerji Verimliliği (Üretim, Tüketim ve Tasarruf) Süreci","23.1.Aydınlatma ve Elektrik Sarfiyatı","Personel Daire Başkanlığı İdari ve Akademik Birimler",{"$f":"#REF!","v":{"$error":"#REF!"}},{"$error":"#REF!"},{"$error":"#REF!"}]
[null,"Enerji Verimliliği (Üretim, Tüketim ve Tasarruf) Süreci","23.2.Isıtma İşlemleri","Harcama Birimleri, SGDB",{"$f":"#REF!","v":{"$error":"#REF!"}},{"$error":"#REF!"},{"$error":"#REF!"}]
[null,"Enerji Verimliliği (Üretim, Tüketim ve Tasarruf) Süreci","23.3.Akaryakıt Tüketimi","Harcama Birimleri, SGDB",{"$f":"#REF!","v":{"$error":"#REF!"}},{"$error":"#REF!"},{"$error":"#REF!"}]
[null,"Personel Özlük İşlemleri Süreci","9.9.İzin İşlemleri Süreci","Harcama Birimleri, SGDB",{"$f":"#REF!","v":{"$error":"#REF!"}},{"$error":"#REF!"},{"$error":"#REF!"}]
[null,"Yargı, Soruşturma ve Hukuki Müşavirlik Hizmetleri ","7.5.Akademik Personel Soruşturma İşlemleri","Hukuk Müşavirliği İdari ve Akademik Birimler",{"$f":"#REF!","v":{"$error":"#REF!"}},{"$error":"#REF!"},{"$error":"#REF!"}]
[null,"Yargı, Soruşturma ve Hukuki Müşavirlik Hizmetleri ","7.6.İdari Personel Soruşturma İşlemleri","Hukuk Müşavirliği İdari ve Akademik Birimler",{"$f":"#REF!","v":{"$error":"#REF!"}},{"$error":"#REF!"},{"$error":"#REF!"}]
[null,"Öğrenci İşlemleri Süreci","10.14.Öğrenci Askerlik İşlemleri","Öğrenci İşleri D.Bşk. Akademik Birimler",{"$f":"#REF!","v":{"$error":"#REF!"}},{"$error":"#REF!"},{"$error":"#REF!"}]
[null,"Yargı, Soruşturma ve Hukuki Müşavirlik Hizmetleri ","7.4.Öğrenci Soruşturma İşlemleri","Hukuk Müşavirliği İdari ve Akademik Birimler",{"$f":"#REF!","v":{"$error":"#REF!"}},{"$f":"IF(E165>18.99,\"YÜKSEK\",IF(E165>18.99<9.99,\"ORTA\",IF(E165>9.99,\"ORTA\",IF(E165>0,\"DÜŞÜK\"))))","v":{"$error":"#REF!"}},{"$error":"#REF!"}]

{"sheet":"ÖNCELİK2","index":9,"n_rows":187,"n_cols":7,"rows_kept":187,"cut":false,"hidden":true,"merged":[[1,1,1,6]]}
[]
[null,"ÇANKIRI KARATEKİN ÜNİVERSİTESİ DENETİM ÖNCELİĞİ "]
[null,"ÜST SÜREÇLER","DENETİM ALANLARI (DENETİM EVRENİ)","DENETLENECEK BİRİMLER","RİSK PUANI","PUAN SONUCU","ÖNCELİK"]
[null,{"$f":"#REF!","v":{"$error":"#REF!"}},{"$f":"#REF!","v":{"$error":"#REF!"}},{"$f":"#REF!","v":{"$error":"#REF!"}},{"$f":"#REF!","v":{"$error":"#REF!"}},{"$f":"IF(E4>18.99,\"YÜKSEK\",IF(E4>18.99<9.99,\"ORTA\",IF(E4>9.99,\"ORTA\",IF(E4>0,\"DÜŞÜK\"))))","v":{"$error":"#REF!"}},{"$f":"IF(E4>18.99,\"1\",IF(E4>18.99<9.99,\"2\",IF(E4>9.99,\"2\",IF(E4>0,\"3\"))))","v":{"$error":"#REF!"}}]
[null,{"$f":"#REF!","v":{"$error":"#REF!"}},{"$f":"#REF!","v":{"$error":"#REF!"}},{"$f":"#REF!","v":{"$error":"#REF!"}},{"$f":"#REF!","v":{"$error":"#REF!"}},{"$error":"#REF!"},{"$error":"#REF!"}]
[null,{"$f":"#REF!","v":{"$error":"#REF!"}},{"$f":"#REF!","v":{"$error":"#REF!"}},{"$f":"#REF!","v":{"$error":"#REF!"}},{"$f":"#REF!","v":{"$error":"#REF!"}},{"$error":"#REF!"},{"$error":"#REF!"}]
[null,{"$f":"#REF!","v":{"$error":"#REF!"}},{"$f":"#REF!","v":{"$error":"#REF!"}},{"$f":"#REF!","v":{"$error":"#REF!"}},{"$f":"#REF!","v":{"$error":"#REF!"}},{"$error":"#REF!"},{"$error":"#REF!"}]
[null,{"$f":"#REF!","v":{"$error":"#REF!"}},{"$f":"#REF!","v":{"$error":"#REF!"}},{"$f":"#REF!","v":{"$error":"#REF!"}},{"$f":"#REF!","v":{"$error":"#REF!"}},{"$error":"#REF!"},{"$error":"#REF!"}]
[null,{"$f":"#REF!","v":{"$error":"#REF!"}},{"$f":"#REF!","v":{"$error":"#REF!"}},{"$f":"#REF!","v":{"$error":"#REF!"}},{"$f":"#REF!","v":{"$error":"#REF!"}},{"$error":"#REF!"},{"$error":"#REF!"}]
[null,{"$f":"#REF!","v":{"$error":"#REF!"}},{"$f":"#REF!","v":{"$error":"#REF!"}},{"$f":"#REF!","v":{"$error":"#REF!"}},{"$f":"#REF!","v":{"$error":"#REF!"}},{"$error":"#REF!"},{"$error":"#REF!"}]
[null,{"$f":"#REF!","v":{"$error":"#REF!"}},{"$f":"#REF!","v":{"$error":"#REF!"}},{"$f":"#REF!","v":{"$error":"#REF!"}},{"$f":"#REF!","v":{"$error":"#REF!"}},{"$error":"#REF!"},{"$error":"#REF!"}]
[null,{"$f":"#REF!","v":{"$error":"#REF!"}},{"$f":"#REF!","v":{"$error":"#REF!"}},{"$f":"#REF!","v":{"$error":"#REF!"}},{"$f":"#REF!","v":{"$error":"#REF!"}},{"$error":"#REF!"},{"$error":"#REF!"}]
[null,{"$f":"#REF!","v":{"$error":"#REF!"}},{"$f":"#REF!","v":{"$error":"#REF!"}},{"$f":"#REF!","v":{"$error":"#REF!"}},{"$f":"#REF!","v":{"$error":"#REF!"}},{"$error":"#REF!"},{"$error":"#REF!"}]
[null,{"$f":"#REF!","v":{"$error":"#REF!"}},{"$f":"#REF!","v":{"$error":"#REF!"}},{"$f":"#REF!","v":{"$error":"#REF!"}},{"$f":"#REF!","v":{"$error":"#REF!"}},{"$error":"#REF!"},{"$error":"#REF!"}]
[null,{"$f":"#REF!","v":{"$error":"#REF!"}},{"$f":"#REF!","v":{"$error":"#REF!"}},{"$f":"#REF!","v":{"$error":"#REF!"}},{"$f":"#REF!","v":{"$error":"#REF!"}},{"$error":"#REF!"},{"$error":"#REF!"}]
[null,{"$f":"#REF!","v":{"$error":"#REF!"}},{"$f":"#REF!","v":{"$error":"#REF!"}},{"$f":"#REF!","v":{"$error":"#REF!"}},{"$f":"#REF!","v":{"$error":"#REF!"}},{"$error":"#REF!"},{"$error":"#REF!"}]
[null,{"$f":"#REF!","v":{"$error":"#REF!"}},{"$f":"#REF!","v":{"$error":"#REF!"}},{"$f":"#REF!","v":{"$error":"#REF!"}},{"$f":"#REF!","v":{"$error":"#REF!"}},{"$error":"#REF!"},{"$error":"#REF!"}]
[null,{"$f":"#REF!","v":{"$error":"#REF!"}},{"$f":"#REF!","v":{"$error":"#REF!"}},{"$f":"#REF!","v":{"$error":"#REF!"}},{"$f":"#REF!","v":{"$error":"#REF!"}},{"$error":"#REF!"},{"$error":"#REF!"}]
[null,{"$f":"#REF!","v":{"$error":"#REF!"}},{"$f":"#REF!","v":{"$error":"#REF!"}},{"$f":"#REF!","v":{"$error":"#REF!"}},{"$f":"#REF!","v":{"$error":"#REF!"}},{"$error":"#REF!"},{"$error":"#REF!"}]
[null,{"$f":"#REF!","v":{"$error":"#REF!"}},{"$f":"#REF!","v":{"$error":"#REF!"}},{"$f":"#REF!","v":{"$error":"#REF!"}},{"$f":"#REF!","v":{"$error":"#REF!"}},{"$error":"#REF!"},{"$error":"#REF!"}]
[null,{"$f":"#REF!","v":{"$error":"#REF!"}},{"$f":"#REF!","v":{"$error":"#REF!"}},{"$f":"#REF!","v":{"$error":"#REF!"}},{"$f":"#REF!","v":{"$error":"#REF!"}},{"$error":"#REF!"},{"$error":"#REF!"}]
[null,{"$f":"#REF!","v":{"$error":"#REF!"}},{"$f":"#REF!","v":{"$error":"#REF!"}},{"$f":"#REF!","v":{"$error":"#REF!"}},{"$f":"#REF!","v":{"$error":"#REF!"}},{"$error":"#REF!"},{"$error":"#REF!"}]
[null,{"$f":"#REF!","v":{"$error":"#REF!"}},{"$f":"#REF!","v":{"$error":"#REF!"}},{"$f":"#REF!","v":{"$error":"#REF!"}},{"$f":"#REF!","v":{"$error":"#REF!"}},{"$error":"#REF!"},{"$error":"#REF!"}]
[null,{"$f":"#REF!","v":{"$error":"#REF!"}},{"$f":"#REF!","v":{"$error":"#REF!"}},{"$f":"#REF!","v":{"$error":"#REF!"}},{"$f":"#REF!","v":{"$error":"#REF!"}},{"$error":"#REF!"},{"$error":"#REF!"}]
[null,{"$f":"#REF!","v":{"$error":"#REF!"}},{"$f":"#REF!","v":{"$error":"#REF!"}},{"$f":"#REF!","v":{"$error":"#REF!"}},{"$f":"#REF!","v":{"$error":"#REF!"}},{"$error":"#REF!"},{"$error":"#REF!"}]
[null,{"$f":"#REF!","v":{"$error":"#REF!"}},{"$f":"#REF!","v":{"$error":"#REF!"}},{"$f":"#REF!","v":{"$error":"#REF!"}},{"$f":"#REF!","v":{"$error":"#REF!"}},{"$error":"#REF!"},{"$error":"#REF!"}]
[null,{"$f":"#REF!","v":{"$error":"#REF!"}},{"$f":"#REF!","v":{"$error":"#REF!"}},{"$f":"#REF!","v":{"$error":"#REF!"}},{"$f":"#REF!","v":{"$error":"#REF!"}},{"$error":"#REF!"},{"$error":"#REF!"}]
[null,{"$f":"#REF!","v":{"$error":"#REF!"}},{"$f":"#REF!","v":{"$error":"#REF!"}},{"$f":"#REF!","v":{"$error":"#REF!"}},{"$f":"#REF!","v":{"$error":"#REF!"}},{"$error":"#REF!"},{"$error":"#REF!"}]
[null,{"$f":"#REF!","v":{"$error":"#REF!"}},{"$f":"#REF!","v":{"$error":"#REF!"}},{"$f":"#REF!","v":{"$error":"#REF!"}},{"$f":"#REF!","v":{"$error":"#REF!"}},{"$error":"#REF!"},{"$error":"#REF!"}]
[null,{"$f":"#REF!","v":{"$error":"#REF!"}},{"$f":"#REF!","v":{"$error":"#REF!"}},{"$f":"#REF!","v":{"$error":"#REF!"}},{"$f":"#REF!","v":{"$error":"#REF!"}},{"$error":"#REF!"},{"$error":"#REF!"}]
[null,{"$f":"#REF!","v":{"$error":"#REF!"}},{"$f":"#REF!","v":{"$error":"#REF!"}},{"$f":"#REF!","v":{"$error":"#REF!"}},{"$f":"#REF!","v":{"$error":"#REF!"}},{"$error":"#REF!"},{"$error":"#REF!"}]
[null,{"$f":"#REF!","v":{"$error":"#REF!"}},{"$f":"#REF!","v":{"$error":"#REF!"}},{"$f":"#REF!","v":{"$error":"#REF!"}},{"$f":"#REF!","v":{"$error":"#REF!"}},{"$error":"#REF!"},{"$error":"#REF!"}]
[null,{"$f":"#REF!","v":{"$error":"#REF!"}},{"$f":"#REF!","v":{"$error":"#REF!"}},{"$f":"#REF!","v":{"$error":"#REF!"}},{"$f":"#REF!","v":{"$error":"#REF!"}},{"$error":"#REF!"},{"$error":"#REF!"}]
[null,{"$f":"#REF!","v":{"$error":"#REF!"}},{"$f":"#REF!","v":{"$error":"#REF!"}},{"$f":"#REF!","v":{"$error":"#REF!"}},{"$f":"#REF!","v":{"$error":"#REF!"}},{"$error":"#REF!"},{"$error":"#REF!"}]
[null,{"$f":"#REF!","v":{"$error":"#REF!"}},{"$f":"#REF!","v":{"$error":"#REF!"}},{"$f":"#REF!","v":{"$error":"#REF!"}},{"$f":"#REF!","v":{"$error":"#REF!"}},{"$error":"#REF!"},{"$error":"#REF!"}]
[null,{"$f":"#REF!","v":{"$error":"#REF!"}},{"$f":"#REF!","v":{"$error":"#REF!"}},{"$f":"#REF!","v":{"$error":"#REF!"}},{"$f":"#REF!","v":{"$error":"#REF!"}},{"$f":"IF(E36>18.99,\"YÜKSEK\",IF(E36>18.99<9.99,\"ORTA\",IF(E36>9.99,\"ORTA\",IF(E36>0,\"DÜŞÜK\"))))","v":{"$error":"#REF!"}},{"$f":"IF(E36>18.99,\"1\",IF(E36>18.99<9.99,\"2\",IF(E36>9.99,\"2\",IF(E36>0,\"3\"))))","v":{"$error":"#REF!"}}]
[null,{"$f":"#REF!","v":{"$error":"#REF!"}},{"$f":"#REF!","v":{"$error":"#REF!"}},{"$f":"#REF!","v":{"$error":"#REF!"}},{"$f":"#REF!","v":{"$error":"#REF!"}},{"$error":"#REF!"},{"$error":"#REF!"}]
[null,{"$f":"#REF!","v":{"$error":"#REF!"}},{"$f":"#REF!","v":{"$error":"#REF!"}},{"$f":"#REF!","v":{"$error":"#REF!"}},{"$f":"#REF!","v":{"$error":"#REF!"}},{"$error":"#REF!"},{"$error":"#REF!"}]
[null,{"$f":"#REF!","v":{"$error":"#REF!"}},{"$f":"#REF!","v":{"$error":"#REF!"}},{"$f":"#REF!","v":{"$error":"#REF!"}},{"$f":"#REF!","v":{"$error":"#REF!"}},{"$error":"#REF!"},{"$error":"#REF!"}]
[null,{"$f":"#REF!","v":{"$error":"#REF!"}},{"$f":"#REF!","v":{"$error":"#REF!"}},{"$f":"#REF!","v":{"$error":"#REF!"}},{"$f":"#REF!","v":{"$error":"#REF!"}},{"$error":"#REF!"},{"$error":"#REF!"}]
[null,{"$f":"#REF!","v":{"$error":"#REF!"}},{"$f":"#REF!","v":{"$error":"#REF!"}},{"$f":"#REF!","v":{"$error":"#REF!"}},{"$f":"#REF!","v":{"$error":"#REF!"}},{"$error":"#REF!"},{"$error":"#REF!"}]
[null,{"$f":"#REF!","v":{"$error":"#REF!"}},{"$f":"#REF!","v":{"$error":"#REF!"}},{"$f":"#REF!","v":{"$error":"#REF!"}},{"$f":"#REF!","v":{"$error":"#REF!"}},{"$error":"#REF!"},{"$error":"#REF!"}]
[null,{"$f":"#REF!","v":{"$error":"#REF!"}},{"$f":"#REF!","v":{"$error":"#REF!"}},{"$f":"#REF!","v":{"$error":"#REF!"}},{"$f":"#REF!","v":{"$error":"#REF!"}},{"$error":"#REF!"},{"$error":"#REF!"}]
[null,{"$f":"#REF!","v":{"$error":"#REF!"}},{"$f":"#REF!","v":{"$error":"#REF!"}},{"$f":"#REF!","v":{"$error":"#REF!"}},{"$f":"#REF!","v":{"$error":"#REF!"}},{"$error":"#REF!"},{"$error":"#REF!"}]
[null,{"$f":"#REF!","v":{"$error":"#REF!"}},{"$f":"#REF!","v":{"$error":"#REF!"}},{"$f":"#REF!","v":{"$error":"#REF!"}},{"$f":"#REF!","v":{"$error":"#REF!"}},{"$error":"#REF!"},{"$error":"#REF!"}]
[null,{"$f":"#REF!","v":{"$error":"#REF!"}},{"$f":"#REF!","v":{"$error":"#REF!"}},{"$f":"#REF!","v":{"$error":"#REF!"}},{"$f":"#REF!","v":{"$error":"#REF!"}},{"$error":"#REF!"},{"$error":"#REF!"}]
[null,{"$f":"#REF!","v":{"$error":"#REF!"}},{"$f":"#REF!","v":{"$error":"#REF!"}},{"$f":"#REF!","v":{"$error":"#REF!"}},{"$f":"#REF!","v":{"$error":"#REF!"}},{"$error":"#REF!"},{"$error":"#REF!"}]
[null,{"$f":"#REF!","v":{"$error":"#REF!"}},{"$f":"#REF!","v":{"$error":"#REF!"}},{"$f":"#REF!","v":{"$error":"#REF!"}},{"$f":"#REF!","v":{"$error":"#REF!"}},{"$error":"#REF!"},{"$error":"#REF!"}]
[null,{"$f":"#REF!","v":{"$error":"#REF!"}},{"$f":"#REF!","v":{"$error":"#REF!"}},{"$f":"#REF!","v":{"$error":"#REF!"}},{"$f":"#REF!","v":{"$error":"#REF!"}},{"$error":"#REF!"},{"$error":"#REF!"}]
[null,{"$f":"#REF!","v":{"$error":"#REF!"}},{"$f":"#REF!","v":{"$error":"#REF!"}},{"$f":"#REF!","v":{"$error":"#REF!"}},{"$f":"#REF!","v":{"$error":"#REF!"}},{"$error":"#REF!"},{"$error":"#REF!"}]
[null,{"$f":"#REF!","v":{"$error":"#REF!"}},{"$f":"#REF!","v":{"$error":"#REF!"}},{"$f":"#REF!","v":{"$error":"#REF!"}},{"$f":"#REF!","v":{"$error":"#REF!"}},{"$error":"#REF!"},{"$error":"#REF!"}]
[null,{"$f":"#REF!","v":{"$error":"#REF!"}},{"$f":"#REF!","v":{"$error":"#REF!"}},{"$f":"#REF!","v":{"$error":"#REF!"}},{"$f":"#REF!","v":{"$error":"#REF!"}},{"$error":"#REF!"},{"$error":"#REF!"}]
[null,{"$f":"#REF!","v":{"$error":"#REF!"}},{"$f":"#REF!","v":{"$error":"#REF!"}},{"$f":"#REF!","v":{"$error":"#REF!"}},{"$f":"#REF!","v":{"$error":"#REF!"}},{"$error":"#REF!"},{"$error":"#REF!"}]
[null,{"$f":"#REF!","v":{"$error":"#REF!"}},{"$f":"#REF!","v":{"$error":"#REF!"}},{"$f":"#REF!","v":{"$error":"#REF!"}},{"$f":"#REF!","v":{"$error":"#REF!"}},{"$error":"#REF!"},{"$error":"#REF!"}]
[null,{"$f":"#REF!","v":{"$error":"#REF!"}},{"$f":"#REF!","v":{"$error":"#REF!"}},{"$f":"#REF!","v":{"$error":"#REF!"}},{"$f":"#REF!","v":{"$error":"#REF!"}},{"$error":"#REF!"},{"$error":"#REF!"}]
[null,{"$f":"#REF!","v":{"$error":"#REF!"}},{"$f":"#REF!","v":{"$error":"#REF!"}},{"$f":"#REF!","v":{"$error":"#REF!"}},{"$f":"#REF!","v":{"$error":"#REF!"}},{"$error":"#REF!"},{"$error":"#REF!"}]
[null,{"$f":"#REF!","v":{"$error":"#REF!"}},{"$f":"#REF!","v":{"$error":"#REF!"}},{"$f":"#REF!","v":{"$error":"#REF!"}},{"$f":"#REF!","v":{"$error":"#REF!"}},{"$error":"#REF!"},{"$error":"#REF!"}]
[null,{"$f":"#REF!","v":{"$error":"#REF!"}},{"$f":"#REF!","v":{"$error":"#REF!"}},{"$f":"#REF!","v":{"$error":"#REF!"}},{"$f":"#REF!","v":{"$error":"#REF!"}},{"$error":"#REF!"},{"$error":"#REF!"}]
[null,{"$f":"#REF!","v":{"$error":"#REF!"}},{"$f":"#REF!","v":{"$error":"#REF!"}},{"$f":"#REF!","v":{"$error":"#REF!"}},{"$f":"#REF!","v":{"$error":"#REF!"}},{"$error":"#REF!"},{"$error":"#REF!"}]
[null,{"$f":"#REF!","v":{"$error":"#REF!"}},{"$f":"#REF!","v":{"$error":"#REF!"}},{"$f":"#REF!","v":{"$error":"#REF!"}},{"$f":"#REF!","v":{"$error":"#REF!"}},{"$error":"#REF!"},{"$error":"#REF!"}]
[null,{"$f":"#REF!","v":{"$error":"#REF!"}},{"$f":"#REF!","v":{"$error":"#REF!"}},{"$f":"#REF!","v":{"$error":"#REF!"}},{"$f":"#REF!","v":{"$error":"#REF!"}},{"$error":"#REF!"},{"$error":"#REF!"}]
[null,{"$f":"#REF!","v":{"$error":"#REF!"}},{"$f":"#REF!","v":{"$error":"#REF!"}},{"$f":"#REF!","v":{"$error":"#REF!"}},{"$f":"#REF!","v":{"$error":"#REF!"}},{"$error":"#REF!"},{"$error":"#REF!"}]
[null,{"$f":"#REF!","v":{"$error":"#REF!"}},{"$f":"#REF!","v":{"$error":"#REF!"}},{"$f":"#REF!","v":{"$error":"#REF!"}},{"$f":"#REF!","v":{"$error":"#REF!"}},{"$error":"#REF!"},{"$error":"#REF!"}]
[null,{"$f":"#REF!","v":{"$error":"#REF!"}},{"$f":"#REF!","v":{"$error":"#REF!"}},{"$f":"#REF!","v":{"$error":"#REF!"}},{"$f":"#REF!","v":{"$error":"#REF!"}},{"$error":"#REF!"},{"$error":"#REF!"}]
[null,{"$f":"#REF!","v":{"$error":"#REF!"}},{"$f":"#REF!","v":{"$error":"#REF!"}},{"$f":"#REF!","v":{"$error":"#REF!"}},{"$f":"#REF!","v":{"$error":"#REF!"}},{"$error":"#REF!"},{"$error":"#REF!"}]
[null,{"$f":"#REF!","v":{"$error":"#REF!"}},{"$f":"#REF!","v":{"$error":"#REF!"}},{"$f":"#REF!","v":{"$error":"#REF!"}},{"$f":"#REF!","v":{"$error":"#REF!"}},{"$error":"#REF!"},{"$error":"#REF!"}]
[null,{"$f":"#REF!","v":{"$error":"#REF!"}},{"$f":"#REF!","v":{"$error":"#REF!"}},{"$f":"#REF!","v":{"$error":"#REF!"}},{"$f":"#REF!","v":{"$error":"#REF!"}},{"$error":"#REF!"},{"$error":"#REF!"}]
[null,{"$f":"#REF!","v":{"$error":"#REF!"}},{"$f":"#REF!","v":{"$error":"#REF!"}},{"$f":"#REF!","v":{"$error":"#REF!"}},{"$f":"#REF!","v":{"$error":"#REF!"}},{"$f":"IF(E68>18.99,\"YÜKSEK\",IF(E68>18.99<9.99,\"ORTA\",IF(E68>9.99,\"ORTA\",IF(E68>0,\"DÜŞÜK\"))))","v":{"$error":"#REF!"}},{"$f":"IF(E68>18.99,\"1\",IF(E68>18.99<9.99,\"2\",IF(E68>9.99,\"2\",IF(E68>0,\"3\"))))","v":{"$error":"#REF!"}}]
[null,{"$f":"#REF!","v":{"$error":"#REF!"}},{"$f":"#REF!","v":{"$error":"#REF!"}},{"$f":"#REF!","v":{"$error":"#REF!"}},{"$f":"#REF!","v":{"$error":"#REF!"}},{"$error":"#REF!"},{"$error":"#REF!"}]
[null,{"$f":"#REF!","v":{"$error":"#REF!"}},{"$f":"#REF!","v":{"$error":"#REF!"}},{"$f":"#REF!","v":{"$error":"#REF!"}},{"$f":"#REF!","v":{"$error":"#REF!"}},{"$error":"#REF!"},{"$error":"#REF!"}]
[null,{"$f":"#REF!","v":{"$error":"#REF!"}},{"$f":"#REF!","v":{"$error":"#REF!"}},{"$f":"#REF!","v":{"$error":"#REF!"}},{"$f":"#REF!","v":{"$error":"#REF!"}},{"$error":"#REF!"},{"$error":"#REF!"}]
[null,{"$f":"#REF!","v":{"$error":"#REF!"}},{"$f":"#REF!","v":{"$error":"#REF!"}},{"$f":"#REF!","v":{"$error":"#REF!"}},{"$f":"#REF!","v":{"$error":"#REF!"}},{"$error":"#REF!"},{"$error":"#REF!"}]
[null,{"$f":"#REF!","v":{"$error":"#REF!"}},{"$f":"#REF!","v":{"$error":"#REF!"}},{"$f":"#REF!","v":{"$error":"#REF!"}},{"$f":"#REF!","v":{"$error":"#REF!"}},{"$error":"#REF!"},{"$error":"#REF!"}]
[null,{"$f":"#REF!","v":{"$error":"#REF!"}},{"$f":"#REF!","v":{"$error":"#REF!"}},{"$f":"#REF!","v":{"$error":"#REF!"}},{"$f":"#REF!","v":{"$error":"#REF!"}},{"$error":"#REF!"},{"$error":"#REF!"}]
[null,{"$f":"#REF!","v":{"$error":"#REF!"}},{"$f":"#REF!","v":{"$error":"#REF!"}},{"$f":"#REF!","v":{"$error":"#REF!"}},{"$f":"#REF!","v":{"$error":"#REF!"}},{"$error":"#REF!"},{"$error":"#REF!"}]
[null,{"$f":"#REF!","v":{"$error":"#REF!"}},{"$f":"#REF!","v":{"$error":"#REF!"}},{"$f":"#REF!","v":{"$error":"#REF!"}},{"$f":"#REF!","v":{"$error":"#REF!"}},{"$error":"#REF!"},{"$error":"#REF!"}]
[null,{"$f":"#REF!","v":{"$error":"#REF!"}},{"$f":"#REF!","v":{"$error":"#REF!"}},{"$f":"#REF!","v":{"$error":"#REF!"}},{"$f":"#REF!","v":{"$error":"#REF!"}},{"$error":"#REF!"},{"$error":"#REF!"}]
[null,{"$f":"#REF!","v":{"$error":"#REF!"}},{"$f":"#REF!","v":{"$error":"#REF!"}},{"$f":"#REF!","v":{"$error":"#REF!"}},{"$f":"#REF!","v":{"$error":"#REF!"}},{"$error":"#REF!"},{"$error":"#REF!"}]
[null,{"$f":"#REF!","v":{"$error":"#REF!"}},{"$f":"#REF!","v":{"$error":"#REF!"}},{"$f":"#REF!","v":{"$error":"#REF!"}},{"$f":"#REF!","v":{"$error":"#REF!"}},{"$error":"#REF!"},{"$error":"#REF!"}]
[null,{"$f":"#REF!","v":{"$error":"#REF!"}},{"$f":"#REF!","v":{"$error":"#REF!"}},{"$f":"#REF!","v":{"$error":"#REF!"}},{"$f":"#REF!","v":{"$error":"#REF!"}},{"$error":"#REF!"},{"$error":"#REF!"}]
[null,{"$f":"#REF!","v":{"$error":"#REF!"}},{"$f":"#REF!","v":{"$error":"#REF!"}},{"$f":"#REF!","v":{"$error":"#REF!"}},{"$f":"#REF!","v":{"$error":"#REF!"}},{"$error":"#REF!"},{"$error":"#REF!"}]
[null,{"$f":"#REF!","v":{"$error":"#REF!"}},{"$f":"#REF!","v":{"$error":"#REF!"}},{"$f":"#REF!","v":{"$error":"#REF!"}},{"$f":"#REF!","v":{"$error":"#REF!"}},{"$error":"#REF!"},{"$error":"#REF!"}]
[null,{"$f":"#REF!","v":{"$error":"#REF!"}},{"$f":"#REF!","v":{"$error":"#REF!"}},{"$f":"#REF!","v":{"$error":"#REF!"}},{"$f":"#REF!","v":{"$error":"#REF!"}},{"$error":"#REF!"},{"$error":"#REF!"}]
[null,{"$f":"#REF!","v":{"$error":"#REF!"}},{"$f":"#REF!","v":{"$error":"#REF!"}},{"$f":"#REF!","v":{"$error":"#REF!"}},{"$f":"#REF!","v":{"$error":"#REF!"}},{"$error":"#REF!"},{"$error":"#REF!"}]
[null,{"$f":"#REF!","v":{"$error":"#REF!"}},{"$f":"#REF!","v":{"$error":"#REF!"}},{"$f":"#REF!","v":{"$error":"#REF!"}},{"$f":"#REF!","v":{"$error":"#REF!"}},{"$error":"#REF!"},{"$error":"#REF!"}]
[null,{"$f":"#REF!","v":{"$error":"#REF!"}},{"$f":"#REF!","v":{"$error":"#REF!"}},{"$f":"#REF!","v":{"$error":"#REF!"}},{"$f":"#REF!","v":{"$error":"#REF!"}},{"$error":"#REF!"},{"$error":"#REF!"}]
[null,{"$f":"#REF!","v":{"$error":"#REF!"}},{"$f":"#REF!","v":{"$error":"#REF!"}},{"$f":"#REF!","v":{"$error":"#REF!"}},{"$f":"#REF!","v":{"$error":"#REF!"}},{"$error":"#REF!"},{"$error":"#REF!"}]
[null,{"$f":"#REF!","v":{"$error":"#REF!"}},{"$f":"#REF!","v":{"$error":"#REF!"}},{"$f":"#REF!","v":{"$error":"#REF!"}},{"$f":"#REF!","v":{"$error":"#REF!"}},{"$error":"#REF!"},{"$error":"#REF!"}]
[null,{"$f":"#REF!","v":{"$error":"#REF!"}},{"$f":"#REF!","v":{"$error":"#REF!"}},{"$f":"#REF!","v":{"$error":"#REF!"}},{"$f":"#REF!","v":{"$error":"#REF!"}},{"$error":"#REF!"},{"$error":"#REF!"}]
[null,{"$f":"#REF!","v":{"$error":"#REF!"}},{"$f":"#REF!","v":{"$error":"#REF!"}},{"$f":"#REF!","v":{"$error":"#REF!"}},{"$f":"#REF!","v":{"$error":"#REF!"}},{"$error":"#REF!"},{"$error":"#REF!"}]
[null,{"$f":"#REF!","v":{"$error":"#REF!"}},{"$f":"#REF!","v":{"$error":"#REF!"}},{"$f":"#REF!","v":{"$error":"#REF!"}},{"$f":"#REF!","v":{"$error":"#REF!"}},{"$error":"#REF!"},{"$error":"#REF!"}]
[null,{"$f":"#REF!","v":{"$error":"#REF!"}},{"$f":"#REF!","v":{"$error":"#REF!"}},{"$f":"#REF!","v":{"$error":"#REF!"}},{"$f":"#REF!","v":{"$error":"#REF!"}},{"$error":"#REF!"},{"$error":"#REF!"}]
[null,{"$f":"#REF!","v":{"$error":"#REF!"}},{"$f":"#REF!","v":{"$error":"#REF!"}},{"$f":"#REF!","v":{"$error":"#REF!"}},{"$f":"#REF!","v":{"$error":"#REF!"}},{"$error":"#REF!"},{"$error":"#REF!"}]
[null,{"$f":"#REF!","v":{"$error":"#REF!"}},{"$f":"#REF!","v":{"$error":"#REF!"}},{"$f":"#REF!","v":{"$error":"#REF!"}},{"$f":"#REF!","v":{"$error":"#REF!"}},{"$error":"#REF!"},{"$error":"#REF!"}]
[null,{"$f":"#REF!","v":{"$error":"#REF!"}},{"$f":"#REF!","v":{"$error":"#REF!"}},{"$f":"#REF!","v":{"$error":"#REF!"}},{"$f":"#REF!","v":{"$error":"#REF!"}},{"$error":"#REF!"},{"$error":"#REF!"}]
[null,{"$f":"#REF!","v":{"$error":"#REF!"}},{"$f":"#REF!","v":{"$error":"#REF!"}},{"$f":"#REF!","v":{"$error":"#REF!"}},{"$f":"#REF!","v":{"$error":"#REF!"}},{"$error":"#REF!"},{"$error":"#REF!"}]
[null,{"$f":"#REF!","v":{"$error":"#REF!"}},{"$f":"#REF!","v":{"$error":"#REF!"}},{"$f":"#REF!","v":{"$error":"#REF!"}},{"$f":"#REF!","v":{"$error":"#REF!"}},{"$error":"#REF!"},{"$error":"#REF!"}]
[null,{"$f":"#REF!","v":{"$error":"#REF!"}},{"$f":"#REF!","v":{"$error":"#REF!"}},{"$f":"#REF!","v":{"$error":"#REF!"}},{"$f":"#REF!","v":{"$error":"#REF!"}},{"$error":"#REF!"},{"$error":"#REF!"}]
[null,{"$f":"#REF!","v":{"$error":"#REF!"}},{"$f":"#REF!","v":{"$error":"#REF!"}},{"$f":"#REF!","v":{"$error":"#REF!"}},{"$f":"#REF!","v":{"$error":"#REF!"}},{"$error":"#REF!"},{"$error":"#REF!"}]
[null,{"$f":"#REF!","v":{"$error":"#REF!"}},{"$f":"#REF!","v":{"$error":"#REF!"}},{"$f":"#REF!","v":{"$error":"#REF!"}},{"$f":"#REF!","v":{"$error":"#REF!"}},{"$f":"IF(E100>18.99,\"YÜKSEK\",IF(E100>18.99<9.99,\"ORTA\",IF(E100>9.99,\"ORTA\",IF(E100>0,\"DÜŞÜK\"))))","v":{"$error":"#REF!"}},{"$f":"IF(E100>18.99,\"1\",IF(E100>18.99<9.99,\"2\",IF(E100>9.99,\"2\",IF(E100>0,\"3\"))))","v":{"$error":"#REF!"}}]
[null,{"$f":"#REF!","v":{"$error":"#REF!"}},{"$f":"#REF!","v":{"$error":"#REF!"}},{"$f":"#REF!","v":{"$error":"#REF!"}},{"$f":"#REF!","v":{"$error":"#REF!"}},{"$error":"#REF!"},{"$error":"#REF!"}]
[null,{"$f":"#REF!","v":{"$error":"#REF!"}},{"$f":"#REF!","v":{"$error":"#REF!"}},{"$f":"#REF!","v":{"$error":"#REF!"}},{"$f":"#REF!","v":{"$error":"#REF!"}},{"$error":"#REF!"},{"$error":"#REF!"}]
[null,{"$f":"#REF!","v":{"$error":"#REF!"}},{"$f":"#REF!","v":{"$error":"#REF!"}},{"$f":"#REF!","v":{"$error":"#REF!"}},{"$f":"#REF!","v":{"$error":"#REF!"}},{"$error":"#REF!"},{"$error":"#REF!"}]
[null,{"$f":"#REF!","v":{"$error":"#REF!"}},{"$f":"#REF!","v":{"$error":"#REF!"}},{"$f":"#REF!","v":{"$error":"#REF!"}},{"$f":"#REF!","v":{"$error":"#REF!"}},{"$error":"#REF!"},{"$error":"#REF!"}]
[null,{"$f":"#REF!","v":{"$error":"#REF!"}},{"$f":"#REF!","v":{"$error":"#REF!"}},{"$f":"#REF!","v":{"$error":"#REF!"}},{"$f":"#REF!","v":{"$error":"#REF!"}},{"$error":"#REF!"},{"$error":"#REF!"}]
[null,{"$f":"#REF!","v":{"$error":"#REF!"}},{"$f":"#REF!","v":{"$error":"#REF!"}},{"$f":"#REF!","v":{"$error":"#REF!"}},{"$f":"#REF!","v":{"$error":"#REF!"}},{"$error":"#REF!"},{"$error":"#REF!"}]
[null,{"$f":"#REF!","v":{"$error":"#REF!"}},{"$f":"#REF!","v":{"$error":"#REF!"}},{"$f":"#REF!","v":{"$error":"#REF!"}},{"$f":"#REF!","v":{"$error":"#REF!"}},{"$error":"#REF!"},{"$error":"#REF!"}]
[null,{"$f":"#REF!","v":{"$error":"#REF!"}},{"$f":"#REF!","v":{"$error":"#REF!"}},{"$f":"#REF!","v":{"$error":"#REF!"}},{"$f":"#REF!","v":{"$error":"#REF!"}},{"$error":"#REF!"},{"$error":"#REF!"}]
[null,{"$f":"#REF!","v":{"$error":"#REF!"}},{"$f":"#REF!","v":{"$error":"#REF!"}},{"$f":"#REF!","v":{"$error":"#REF!"}},{"$f":"#REF!","v":{"$error":"#REF!"}},{"$error":"#REF!"},{"$error":"#REF!"}]
[null,{"$f":"#REF!","v":{"$error":"#REF!"}},{"$f":"#REF!","v":{"$error":"#REF!"}},{"$f":"#REF!","v":{"$error":"#REF!"}},{"$f":"#REF!","v":{"$error":"#REF!"}},{"$error":"#REF!"},{"$error":"#REF!"}]
[null,{"$f":"#REF!","v":{"$error":"#REF!"}},{"$f":"#REF!","v":{"$error":"#REF!"}},{"$f":"#REF!","v":{"$error":"#REF!"}},{"$f":"#REF!","v":{"$error":"#REF!"}},{"$error":"#REF!"},{"$error":"#REF!"}]
[null,{"$f":"#REF!","v":{"$error":"#REF!"}},{"$f":"#REF!","v":{"$error":"#REF!"}},{"$f":"#REF!","v":{"$error":"#REF!"}},{"$f":"#REF!","v":{"$error":"#REF!"}},{"$error":"#REF!"},{"$error":"#REF!"}]
[null,{"$f":"#REF!","v":{"$error":"#REF!"}},{"$f":"#REF!","v":{"$error":"#REF!"}},{"$f":"#REF!","v":{"$error":"#REF!"}},{"$f":"#REF!","v":{"$error":"#REF!"}},{"$error":"#REF!"},{"$error":"#REF!"}]
[null,{"$f":"#REF!","v":{"$error":"#REF!"}},{"$f":"#REF!","v":{"$error":"#REF!"}},{"$f":"#REF!","v":{"$error":"#REF!"}},{"$f":"#REF!","v":{"$error":"#REF!"}},{"$error":"#REF!"},{"$error":"#REF!"}]
[null,{"$f":"#REF!","v":{"$error":"#REF!"}},{"$f":"#REF!","v":{"$error":"#REF!"}},{"$f":"#REF!","v":{"$error":"#REF!"}},{"$f":"#REF!","v":{"$error":"#REF!"}},{"$error":"#REF!"},{"$error":"#REF!"}]
[null,{"$f":"#REF!","v":{"$error":"#REF!"}},{"$f":"#REF!","v":{"$error":"#REF!"}},{"$f":"#REF!","v":{"$error":"#REF!"}},{"$f":"#REF!","v":{"$error":"#REF!"}},{"$error":"#REF!"},{"$error":"#REF!"}]
[null,{"$f":"#REF!","v":{"$error":"#REF!"}},{"$f":"#REF!","v":{"$error":"#REF!"}},{"$f":"#REF!","v":{"$error":"#REF!"}},{"$f":"#REF!","v":{"$error":"#REF!"}},{"$error":"#REF!"},{"$error":"#REF!"}]
[null,{"$f":"#REF!","v":{"$error":"#REF!"}},{"$f":"#REF!","v":{"$error":"#REF!"}},{"$f":"#REF!","v":{"$error":"#REF!"}},{"$f":"#REF!","v":{"$error":"#REF!"}},{"$error":"#REF!"},{"$error":"#REF!"}]
[null,{"$f":"#REF!","v":{"$error":"#REF!"}},{"$f":"#REF!","v":{"$error":"#REF!"}},{"$f":"#REF!","v":{"$error":"#REF!"}},{"$f":"#REF!","v":{"$error":"#REF!"}},{"$error":"#REF!"},{"$error":"#REF!"}]
[null,{"$f":"#REF!","v":{"$error":"#REF!"}},{"$f":"#REF!","v":{"$error":"#REF!"}},{"$f":"#REF!","v":{"$error":"#REF!"}},{"$f":"#REF!","v":{"$error":"#REF!"}},{"$error":"#REF!"},{"$error":"#REF!"}]
[null,{"$f":"#REF!","v":{"$error":"#REF!"}},{"$f":"#REF!","v":{"$error":"#REF!"}},{"$f":"#REF!","v":{"$error":"#REF!"}},{"$f":"#REF!","v":{"$error":"#REF!"}},{"$error":"#REF!"},{"$error":"#REF!"}]
[null,{"$f":"#REF!","v":{"$error":"#REF!"}},{"$f":"#REF!","v":{"$error":"#REF!"}},{"$f":"#REF!","v":{"$error":"#REF!"}},{"$f":"#REF!","v":{"$error":"#REF!"}},{"$error":"#REF!"},{"$error":"#REF!"}]
[null,{"$f":"#REF!","v":{"$error":"#REF!"}},{"$f":"#REF!","v":{"$error":"#REF!"}},{"$f":"#REF!","v":{"$error":"#REF!"}},{"$f":"#REF!","v":{"$error":"#REF!"}},{"$error":"#REF!"},{"$error":"#REF!"}]
[null,{"$f":"#REF!","v":{"$error":"#REF!"}},{"$f":"#REF!","v":{"$error":"#REF!"}},{"$f":"#REF!","v":{"$error":"#REF!"}},{"$f":"#REF!","v":{"$error":"#REF!"}},{"$error":"#REF!"},{"$error":"#REF!"}]
[null,{"$f":"#REF!","v":{"$error":"#REF!"}},{"$f":"#REF!","v":{"$error":"#REF!"}},{"$f":"#REF!","v":{"$error":"#REF!"}},{"$f":"#REF!","v":{"$error":"#REF!"}},{"$error":"#REF!"},{"$error":"#REF!"}]
[null,{"$f":"#REF!","v":{"$error":"#REF!"}},{"$f":"#REF!","v":{"$error":"#REF!"}},{"$f":"#REF!","v":{"$error":"#REF!"}},{"$f":"#REF!","v":{"$error":"#REF!"}},{"$error":"#REF!"},{"$error":"#REF!"}]
[null,{"$f":"#REF!","v":{"$error":"#REF!"}},{"$f":"#REF!","v":{"$error":"#REF!"}},{"$f":"#REF!","v":{"$error":"#REF!"}},{"$f":"#REF!","v":{"$error":"#REF!"}},{"$error":"#REF!"},{"$error":"#REF!"}]
[null,{"$f":"#REF!","v":{"$error":"#REF!"}},{"$f":"#REF!","v":{"$error":"#REF!"}},{"$f":"#REF!","v":{"$error":"#REF!"}},{"$f":"#REF!","v":{"$error":"#REF!"}},{"$error":"#REF!"},{"$error":"#REF!"}]
[null,{"$f":"#REF!","v":{"$error":"#REF!"}},{"$f":"#REF!","v":{"$error":"#REF!"}},{"$f":"#REF!","v":{"$error":"#REF!"}},{"$f":"#REF!","v":{"$error":"#REF!"}},{"$error":"#REF!"},{"$error":"#REF!"}]
[null,{"$f":"#REF!","v":{"$error":"#REF!"}},{"$f":"#REF!","v":{"$error":"#REF!"}},{"$f":"#REF!","v":{"$error":"#REF!"}},{"$f":"#REF!","v":{"$error":"#REF!"}},{"$error":"#REF!"},{"$error":"#REF!"}]
[null,{"$f":"#REF!","v":{"$error":"#REF!"}},{"$f":"#REF!","v":{"$error":"#REF!"}},{"$f":"#REF!","v":{"$error":"#REF!"}},{"$f":"#REF!","v":{"$error":"#REF!"}},{"$error":"#REF!"},{"$error":"#REF!"}]
[null,{"$f":"#REF!","v":{"$error":"#REF!"}},{"$f":"#REF!","v":{"$error":"#REF!"}},{"$f":"#REF!","v":{"$error":"#REF!"}},{"$f":"#REF!","v":{"$error":"#REF!"}},{"$f":"IF(E132>18.99,\"YÜKSEK\",IF(E132>18.99<9.99,\"ORTA\",IF(E132>9.99,\"ORTA\",IF(E132>0,\"DÜŞÜK\"))))","v":{"$error":"#REF!"}},{"$f":"IF(E132>18.99,\"1\",IF(E132>18.99<9.99,\"2\",IF(E132>9.99,\"2\",IF(E132>0,\"3\"))))","v":{"$error":"#REF!"}}]
[null,{"$f":"#REF!","v":{"$error":"#REF!"}},{"$f":"#REF!","v":{"$error":"#REF!"}},{"$f":"#REF!","v":{"$error":"#REF!"}},{"$f":"#REF!","v":{"$error":"#REF!"}},{"$error":"#REF!"},{"$error":"#REF!"}]
[null,{"$f":"#REF!","v":{"$error":"#REF!"}},{"$f":"#REF!","v":{"$error":"#REF!"}},{"$f":"#REF!","v":{"$error":"#REF!"}},{"$f":"#REF!","v":{"$error":"#REF!"}},{"$error":"#REF!"},{"$error":"#REF!"}]
[null,{"$f":"#REF!","v":{"$error":"#REF!"}},{"$f":"#REF!","v":{"$error":"#REF!"}},{"$f":"#REF!","v":{"$error":"#REF!"}},{"$f":"#REF!","v":{"$error":"#REF!"}},{"$error":"#REF!"},{"$error":"#REF!"}]
[null,{"$f":"#REF!","v":{"$error":"#REF!"}},{"$f":"#REF!","v":{"$error":"#REF!"}},{"$f":"#REF!","v":{"$error":"#REF!"}},{"$f":"#REF!","v":{"$error":"#REF!"}},{"$error":"#REF!"},{"$error":"#REF!"}]
[null,{"$f":"#REF!","v":{"$error":"#REF!"}},{"$f":"#REF!","v":{"$error":"#REF!"}},{"$f":"#REF!","v":{"$error":"#REF!"}},{"$f":"#REF!","v":{"$error":"#REF!"}},{"$error":"#REF!"},{"$error":"#REF!"}]
[null,{"$f":"#REF!","v":{"$error":"#REF!"}},{"$f":"#REF!","v":{"$error":"#REF!"}},{"$f":"#REF!","v":{"$error":"#REF!"}},{"$f":"#REF!","v":{"$error":"#REF!"}},{"$error":"#REF!"},{"$error":"#REF!"}]
[null,{"$f":"#REF!","v":{"$error":"#REF!"}},{"$f":"#REF!","v":{"$error":"#REF!"}},{"$f":"#REF!","v":{"$error":"#REF!"}},{"$f":"#REF!","v":{"$error":"#REF!"}},{"$error":"#REF!"},{"$error":"#REF!"}]
[null,{"$f":"#REF!","v":{"$error":"#REF!"}},{"$f":"#REF!","v":{"$error":"#REF!"}},{"$f":"#REF!","v":{"$error":"#REF!"}},{"$f":"#REF!","v":{"$error":"#REF!"}},{"$error":"#REF!"},{"$error":"#REF!"}]
[null,{"$f":"#REF!","v":{"$error":"#REF!"}},{"$f":"#REF!","v":{"$error":"#REF!"}},{"$f":"#REF!","v":{"$error":"#REF!"}},{"$f":"#REF!","v":{"$error":"#REF!"}},{"$error":"#REF!"},{"$error":"#REF!"}]
[null,{"$f":"#REF!","v":{"$error":"#REF!"}},{"$f":"#REF!","v":{"$error":"#REF!"}},{"$f":"#REF!","v":{"$error":"#REF!"}},{"$f":"#REF!","v":{"$error":"#REF!"}},{"$error":"#REF!"},{"$error":"#REF!"}]
[null,{"$f":"#REF!","v":{"$error":"#REF!"}},{"$f":"#REF!","v":{"$error":"#REF!"}},{"$f":"#REF!","v":{"$error":"#REF!"}},{"$f":"#REF!","v":{"$error":"#REF!"}},{"$error":"#REF!"},{"$error":"#REF!"}]
[null,{"$f":"#REF!","v":{"$error":"#REF!"}},{"$f":"#REF!","v":{"$error":"#REF!"}},{"$f":"#REF!","v":{"$error":"#REF!"}},{"$f":"#REF!","v":{"$error":"#REF!"}},{"$error":"#REF!"},{"$error":"#REF!"}]
[null,{"$f":"#REF!","v":{"$error":"#REF!"}},{"$f":"#REF!","v":{"$error":"#REF!"}},{"$f":"#REF!","v":{"$error":"#REF!"}},{"$f":"#REF!","v":{"$error":"#REF!"}},{"$error":"#REF!"},{"$error":"#REF!"}]
[null,{"$f":"#REF!","v":{"$error":"#REF!"}},{"$f":"#REF!","v":{"$error":"#REF!"}},{"$f":"#REF!","v":{"$error":"#REF!"}},{"$f":"#REF!","v":{"$error":"#REF!"}},{"$error":"#REF!"},{"$error":"#REF!"}]
[null,{"$f":"#REF!","v":{"$error":"#REF!"}},{"$f":"#REF!","v":{"$error":"#REF!"}},{"$f":"#REF!","v":{"$error":"#REF!"}},{"$f":"#REF!","v":{"$error":"#REF!"}},{"$error":"#REF!"},{"$error":"#REF!"}]
[null,{"$f":"#REF!","v":{"$error":"#REF!"}},{"$f":"#REF!","v":{"$error":"#REF!"}},{"$f":"#REF!","v":{"$error":"#REF!"}},{"$f":"#REF!","v":{"$error":"#REF!"}},{"$error":"#REF!"},{"$error":"#REF!"}]
[null,{"$f":"#REF!","v":{"$error":"#REF!"}},{"$f":"#REF!","v":{"$error":"#REF!"}},{"$f":"#REF!","v":{"$error":"#REF!"}},{"$f":"#REF!","v":{"$error":"#REF!"}},{"$error":"#REF!"},{"$error":"#REF!"}]
[null,{"$f":"#REF!","v":{"$error":"#REF!"}},{"$f":"#REF!","v":{"$error":"#REF!"}},{"$f":"#REF!","v":{"$error":"#REF!"}},{"$f":"#REF!","v":{"$error":"#REF!"}},{"$error":"#REF!"},{"$error":"#REF!"}]
[null,{"$f":"#REF!","v":{"$error":"#REF!"}},{"$f":"#REF!","v":{"$error":"#REF!"}},{"$f":"#REF!","v":{"$error":"#REF!"}},{"$f":"#REF!","v":{"$error":"#REF!"}},{"$error":"#REF!"},{"$error":"#REF!"}]
[null,{"$f":"#REF!","v":{"$error":"#REF!"}},{"$f":"#REF!","v":{"$error":"#REF!"}},{"$f":"#REF!","v":{"$error":"#REF!"}},{"$f":"#REF!","v":{"$error":"#REF!"}},{"$error":"#REF!"},{"$error":"#REF!"}]
[null,{"$f":"#REF!","v":{"$error":"#REF!"}},{"$f":"#REF!","v":{"$error":"#REF!"}},{"$f":"#REF!","v":{"$error":"#REF!"}},{"$f":"#REF!","v":{"$error":"#REF!"}},{"$error":"#REF!"},{"$error":"#REF!"}]
[null,{"$f":"#REF!","v":{"$error":"#REF!"}},{"$f":"#REF!","v":{"$error":"#REF!"}},{"$f":"#REF!","v":{"$error":"#REF!"}},{"$f":"#REF!","v":{"$error":"#REF!"}},{"$error":"#REF!"},{"$error":"#REF!"}]
[null,{"$f":"#REF!","v":{"$error":"#REF!"}},{"$f":"#REF!","v":{"$error":"#REF!"}},{"$f":"#REF!","v":{"$error":"#REF!"}},{"$f":"#REF!","v":{"$error":"#REF!"}},{"$error":"#REF!"},{"$error":"#REF!"}]
[null,{"$f":"#REF!","v":{"$error":"#REF!"}},{"$f":"#REF!","v":{"$error":"#REF!"}},{"$f":"#REF!","v":{"$error":"#REF!"}},{"$f":"#REF!","v":{"$error":"#REF!"}},{"$error":"#REF!"},{"$error":"#REF!"}]
[null,{"$f":"#REF!","v":{"$error":"#REF!"}},{"$f":"#REF!","v":{"$error":"#REF!"}},{"$f":"#REF!","v":{"$error":"#REF!"}},{"$f":"#REF!","v":{"$error":"#REF!"}},{"$error":"#REF!"},{"$error":"#REF!"}]
[null,{"$f":"#REF!","v":{"$error":"#REF!"}},{"$f":"#REF!","v":{"$error":"#REF!"}},{"$f":"#REF!","v":{"$error":"#REF!"}},{"$f":"#REF!","v":{"$error":"#REF!"}},{"$error":"#REF!"},{"$error":"#REF!"}]
[null,{"$f":"#REF!","v":{"$error":"#REF!"}},{"$f":"#REF!","v":{"$error":"#REF!"}},{"$f":"#REF!","v":{"$error":"#REF!"}},{"$f":"#REF!","v":{"$error":"#REF!"}},{"$error":"#REF!"},{"$error":"#REF!"}]
[null,{"$f":"#REF!","v":{"$error":"#REF!"}},{"$f":"#REF!","v":{"$error":"#REF!"}},{"$f":"#REF!","v":{"$error":"#REF!"}},{"$f":"#REF!","v":{"$error":"#REF!"}},{"$error":"#REF!"},{"$error":"#REF!"}]
[null,{"$f":"#REF!","v":{"$error":"#REF!"}},{"$f":"#REF!","v":{"$error":"#REF!"}},{"$f":"#REF!","v":{"$error":"#REF!"}},{"$f":"#REF!","v":{"$error":"#REF!"}},{"$error":"#REF!"},{"$error":"#REF!"}]
[null,{"$f":"#REF!","v":{"$error":"#REF!"}},{"$f":"#REF!","v":{"$error":"#REF!"}},{"$f":"#REF!","v":{"$error":"#REF!"}},{"$f":"#REF!","v":{"$error":"#REF!"}},{"$error":"#REF!"},{"$error":"#REF!"}]
[null,{"$f":"#REF!","v":{"$error":"#REF!"}},{"$f":"#REF!","v":{"$error":"#REF!"}},{"$f":"#REF!","v":{"$error":"#REF!"}},{"$f":"#REF!","v":{"$error":"#REF!"}},{"$error":"#REF!"},{"$error":"#REF!"}]
[null,{"$f":"#REF!","v":{"$error":"#REF!"}},{"$f":"#REF!","v":{"$error":"#REF!"}},{"$f":"#REF!","v":{"$error":"#REF!"}},{"$f":"#REF!","v":{"$error":"#REF!"}},{"$f":"IF(E164>18.99,\"YÜKSEK\",IF(E164>18.99<9.99,\"ORTA\",IF(E164>9.99,\"ORTA\",IF(E164>0,\"DÜŞÜK\"))))","v":{"$error":"#REF!"}},{"$error":"#REF!"}]
[null,{"$f":"#REF!","v":{"$error":"#REF!"}},{"$f":"#REF!","v":{"$error":"#REF!"}},{"$f":"#REF!","v":{"$error":"#REF!"}},{"$f":"#REF!","v":{"$error":"#REF!"}},{"$error":"#REF!"},{"$error":"#REF!"}]
[null,null,{"$f":"#REF!","v":{"$error":"#REF!"}}]
[null,null,{"$f":"#REF!","v":{"$error":"#REF!"}}]
[null,null,"Öğrenci ve personel değişim programları süreci"]
[null,null,{"$f":"#REF!","v":{"$error":"#REF!"}}]
[null,null,{"$f":"#REF!","v":{"$error":"#REF!"}}]
[null,null,{"$f":"#REF!","v":{"$error":"#REF!"}}]
[null,null,{"$f":"#REF!","v":{"$error":"#REF!"}}]
[null,null,{"$f":"#REF!","v":{"$error":"#REF!"}}]
[null,null,{"$f":"#REF!","v":{"$error":"#REF!"}}]
[null,null,{"$f":"#REF!","v":{"$error":"#REF!"}}]
[null,null,{"$f":"#REF!","v":{"$error":"#REF!"}}]
[null,null,{"$f":"#REF!","v":{"$error":"#REF!"}}]
[null,null,{"$f":"#REF!","v":{"$error":"#REF!"}}]
[null,null,{"$f":"#REF!","v":{"$error":"#REF!"}}]
[null,null,{"$f":"#REF!","v":{"$error":"#REF!"}}]
[null,null,{"$f":"#REF!","v":{"$error":"#REF!"}}]
[null,null,{"$f":"#REF!","v":{"$error":"#REF!"}}]
[null,null,{"$f":"#REF!","v":{"$error":"#REF!"}}]
[null,null,{"$f":"#REF!","v":{"$error":"#REF!"}}]
[null,null,{"$f":"#REF!","v":{"$error":"#REF!"}}]
[null,null,{"$f":"#REF!","v":{"$error":"#REF!"}}]
[null,null,{"$f":"#REF!","v":{"$error":"#REF!"}}]

{"sheet":"Sayfa1","index":10,"n_rows":164,"n_cols":7,"rows_kept":164,"cut":false,"hidden":true,"merged":[]}
[]
[]
[null,"ÜST SÜREÇLER","DENETİM ALANLARI (DENETİM EVRENİ)","DENETLENECEK BİRİMLER","RİSK PUANI","PUAN SONUCU","ÖNCELİK"]
[null,{"$f":"#REF!","v":{"$error":"#REF!"}},{"$f":"#REF!","v":{"$error":"#REF!"}},{"$f":"#REF!","v":{"$error":"#REF!"}},{"$f":"#REF!","v":{"$error":"#REF!"}},{"$f":"IF(E4>18.99,\"YÜKSEK\",IF(E4>18.99<9.99,\"ORTA\",IF(E4>9.99,\"ORTA\",IF(E4>0,\"DÜŞÜK\"))))","v":{"$error":"#REF!"}},{"$f":"IF(E4>18.99,\"1\",IF(E4>18.99<9.99,\"2\",IF(E4>9.99,\"2\",IF(E4>0,\"3\"))))","v":{"$error":"#REF!"}}]
[null,{"$f":"#REF!","v":{"$error":"#REF!"}},{"$f":"#REF!","v":{"$error":"#REF!"}},{"$f":"#REF!","v":{"$error":"#REF!"}},{"$f":"#REF!","v":{"$error":"#REF!"}},{"$error":"#REF!"},{"$error":"#REF!"}]
[null,{"$f":"#REF!","v":{"$error":"#REF!"}},{"$f":"#REF!","v":{"$error":"#REF!"}},{"$f":"#REF!","v":{"$error":"#REF!"}},{"$f":"#REF!","v":{"$error":"#REF!"}},{"$error":"#REF!"},{"$error":"#REF!"}]
[null,{"$f":"#REF!","v":{"$error":"#REF!"}},{"$f":"#REF!","v":{"$error":"#REF!"}},{"$f":"#REF!","v":{"$error":"#REF!"}},{"$f":"#REF!","v":{"$error":"#REF!"}},{"$error":"#REF!"},{"$error":"#REF!"}]
[null,{"$f":"#REF!","v":{"$error":"#REF!"}},{"$f":"#REF!","v":{"$error":"#REF!"}},{"$f":"#REF!","v":{"$error":"#REF!"}},{"$f":"#REF!","v":{"$error":"#REF!"}},{"$error":"#REF!"},{"$error":"#REF!"}]
[null,{"$f":"#REF!","v":{"$error":"#REF!"}},{"$f":"#REF!","v":{"$error":"#REF!"}},{"$f":"#REF!","v":{"$error":"#REF!"}},{"$f":"#REF!","v":{"$error":"#REF!"}},{"$error":"#REF!"},{"$error":"#REF!"}]
[null,{"$f":"#REF!","v":{"$error":"#REF!"}},{"$f":"#REF!","v":{"$error":"#REF!"}},{"$f":"#REF!","v":{"$error":"#REF!"}},{"$f":"#REF!","v":{"$error":"#REF!"}},{"$error":"#REF!"},{"$error":"#REF!"}]
[null,{"$f":"#REF!","v":{"$error":"#REF!"}},{"$f":"#REF!","v":{"$error":"#REF!"}},{"$f":"#REF!","v":{"$error":"#REF!"}},{"$f":"#REF!","v":{"$error":"#REF!"}},{"$error":"#REF!"},{"$error":"#REF!"}]
[null,{"$f":"#REF!","v":{"$error":"#REF!"}},{"$f":"#REF!","v":{"$error":"#REF!"}},{"$f":"#REF!","v":{"$error":"#REF!"}},{"$f":"#REF!","v":{"$error":"#REF!"}},{"$error":"#REF!"},{"$error":"#REF!"}]
[null,{"$f":"#REF!","v":{"$error":"#REF!"}},{"$f":"#REF!","v":{"$error":"#REF!"}},{"$f":"#REF!","v":{"$error":"#REF!"}},{"$f":"#REF!","v":{"$error":"#REF!"}},{"$error":"#REF!"},{"$error":"#REF!"}]
[null,{"$f":"#REF!","v":{"$error":"#REF!"}},{"$f":"#REF!","v":{"$error":"#REF!"}},{"$f":"#REF!","v":{"$error":"#REF!"}},{"$f":"#REF!","v":{"$error":"#REF!"}},{"$error":"#REF!"},{"$error":"#REF!"}]
[null,{"$f":"#REF!","v":{"$error":"#REF!"}},{"$f":"#REF!","v":{"$error":"#REF!"}},{"$f":"#REF!","v":{"$error":"#REF!"}},{"$f":"#REF!","v":{"$error":"#REF!"}},{"$error":"#REF!"},{"$error":"#REF!"}]
[null,{"$f":"#REF!","v":{"$error":"#REF!"}},{"$f":"#REF!","v":{"$error":"#REF!"}},{"$f":"#REF!","v":{"$error":"#REF!"}},{"$f":"#REF!","v":{"$error":"#REF!"}},{"$error":"#REF!"},{"$error":"#REF!"}]
[null,{"$f":"#REF!","v":{"$error":"#REF!"}},{"$f":"#REF!","v":{"$error":"#REF!"}},{"$f":"#REF!","v":{"$error":"#REF!"}},{"$f":"#REF!","v":{"$error":"#REF!"}},{"$error":"#REF!"},{"$error":"#REF!"}]
[null,{"$f":"#REF!","v":{"$error":"#REF!"}},{"$f":"#REF!","v":{"$error":"#REF!"}},{"$f":"#REF!","v":{"$error":"#REF!"}},{"$f":"#REF!","v":{"$error":"#REF!"}},{"$error":"#REF!"},{"$error":"#REF!"}]
[null,{"$f":"#REF!","v":{"$error":"#REF!"}},{"$f":"#REF!","v":{"$error":"#REF!"}},{"$f":"#REF!","v":{"$error":"#REF!"}},{"$f":"#REF!","v":{"$error":"#REF!"}},{"$error":"#REF!"},{"$error":"#REF!"}]
[null,{"$f":"#REF!","v":{"$error":"#REF!"}},{"$f":"#REF!","v":{"$error":"#REF!"}},{"$f":"#REF!","v":{"$error":"#REF!"}},{"$f":"#REF!","v":{"$error":"#REF!"}},{"$error":"#REF!"},{"$error":"#REF!"}]
[null,{"$f":"#REF!","v":{"$error":"#REF!"}},{"$f":"#REF!","v":{"$error":"#REF!"}},{"$f":"#REF!","v":{"$error":"#REF!"}},{"$f":"#REF!","v":{"$error":"#REF!"}},{"$error":"#REF!"},{"$error":"#REF!"}]
[null,{"$f":"#REF!","v":{"$error":"#REF!"}},{"$f":"#REF!","v":{"$error":"#REF!"}},{"$f":"#REF!","v":{"$error":"#REF!"}},{"$f":"#REF!","v":{"$error":"#REF!"}},{"$error":"#REF!"},{"$error":"#REF!"}]
[null,{"$f":"#REF!","v":{"$error":"#REF!"}},{"$f":"#REF!","v":{"$error":"#REF!"}},{"$f":"#REF!","v":{"$error":"#REF!"}},{"$f":"#REF!","v":{"$error":"#REF!"}},{"$error":"#REF!"},{"$error":"#REF!"}]
[null,{"$f":"#REF!","v":{"$error":"#REF!"}},{"$f":"#REF!","v":{"$error":"#REF!"}},{"$f":"#REF!","v":{"$error":"#REF!"}},{"$f":"#REF!","v":{"$error":"#REF!"}},{"$error":"#REF!"},{"$error":"#REF!"}]
[null,{"$f":"#REF!","v":{"$error":"#REF!"}},{"$f":"#REF!","v":{"$error":"#REF!"}},{"$f":"#REF!","v":{"$error":"#REF!"}},{"$f":"#REF!","v":{"$error":"#REF!"}},{"$error":"#REF!"},{"$error":"#REF!"}]
[null,{"$f":"#REF!","v":{"$error":"#REF!"}},{"$f":"#REF!","v":{"$error":"#REF!"}},{"$f":"#REF!","v":{"$error":"#REF!"}},{"$f":"#REF!","v":{"$error":"#REF!"}},{"$error":"#REF!"},{"$error":"#REF!"}]
[null,{"$f":"#REF!","v":{"$error":"#REF!"}},{"$f":"#REF!","v":{"$error":"#REF!"}},{"$f":"#REF!","v":{"$error":"#REF!"}},{"$f":"#REF!","v":{"$error":"#REF!"}},{"$error":"#REF!"},{"$error":"#REF!"}]
[null,{"$f":"#REF!","v":{"$error":"#REF!"}},{"$f":"#REF!","v":{"$error":"#REF!"}},{"$f":"#REF!","v":{"$error":"#REF!"}},{"$f":"#REF!","v":{"$error":"#REF!"}},{"$error":"#REF!"},{"$error":"#REF!"}]
[null,{"$f":"#REF!","v":{"$error":"#REF!"}},{"$f":"#REF!","v":{"$error":"#REF!"}},{"$f":"#REF!","v":{"$error":"#REF!"}},{"$f":"#REF!","v":{"$error":"#REF!"}},{"$error":"#REF!"},{"$error":"#REF!"}]
[null,{"$f":"#REF!","v":{"$error":"#REF!"}},{"$f":"#REF!","v":{"$error":"#REF!"}},{"$f":"#REF!","v":{"$error":"#REF!"}},{"$f":"#REF!","v":{"$error":"#REF!"}},{"$error":"#REF!"},{"$error":"#REF!"}]
[null,{"$f":"#REF!","v":{"$error":"#REF!"}},{"$f":"#REF!","v":{"$error":"#REF!"}},{"$f":"#REF!","v":{"$error":"#REF!"}},{"$f":"#REF!","v":{"$error":"#REF!"}},{"$error":"#REF!"},{"$error":"#REF!"}]
[null,{"$f":"#REF!","v":{"$error":"#REF!"}},{"$f":"#REF!","v":{"$error":"#REF!"}},{"$f":"#REF!","v":{"$error":"#REF!"}},{"$f":"#REF!","v":{"$error":"#REF!"}},{"$error":"#REF!"},{"$error":"#REF!"}]
[null,{"$f":"#REF!","v":{"$error":"#REF!"}},{"$f":"#REF!","v":{"$error":"#REF!"}},{"$f":"#REF!","v":{"$error":"#REF!"}},{"$f":"#REF!","v":{"$error":"#REF!"}},{"$error":"#REF!"},{"$error":"#REF!"}]
[null,{"$f":"#REF!","v":{"$error":"#REF!"}},{"$f":"#REF!","v":{"$error":"#REF!"}},{"$f":"#REF!","v":{"$error":"#REF!"}},{"$f":"#REF!","v":{"$error":"#REF!"}},{"$error":"#REF!"},{"$error":"#REF!"}]
[null,{"$f":"#REF!","v":{"$error":"#REF!"}},{"$f":"#REF!","v":{"$error":"#REF!"}},{"$f":"#REF!","v":{"$error":"#REF!"}},{"$f":"#REF!","v":{"$error":"#REF!"}},{"$error":"#REF!"},{"$error":"#REF!"}]
[null,{"$f":"#REF!","v":{"$error":"#REF!"}},{"$f":"#REF!","v":{"$error":"#REF!"}},{"$f":"#REF!","v":{"$error":"#REF!"}},{"$f":"#REF!","v":{"$error":"#REF!"}},{"$f":"IF(E36>18.99,\"YÜKSEK\",IF(E36>18.99<9.99,\"ORTA\",IF(E36>9.99,\"ORTA\",IF(E36>0,\"DÜŞÜK\"))))","v":{"$error":"#REF!"}},{"$f":"IF(E36>18.99,\"1\",IF(E36>18.99<9.99,\"2\",IF(E36>9.99,\"2\",IF(E36>0,\"3\"))))","v":{"$error":"#REF!"}}]
[null,{"$f":"#REF!","v":{"$error":"#REF!"}},{"$f":"#REF!","v":{"$error":"#REF!"}},{"$f":"#REF!","v":{"$error":"#REF!"}},{"$f":"#REF!","v":{"$error":"#REF!"}},{"$error":"#REF!"},{"$error":"#REF!"}]
[null,{"$f":"#REF!","v":{"$error":"#REF!"}},{"$f":"#REF!","v":{"$error":"#REF!"}},{"$f":"#REF!","v":{"$error":"#REF!"}},{"$f":"#REF!","v":{"$error":"#REF!"}},{"$error":"#REF!"},{"$error":"#REF!"}]
[null,{"$f":"#REF!","v":{"$error":"#REF!"}},{"$f":"#REF!","v":{"$error":"#REF!"}},{"$f":"#REF!","v":{"$error":"#REF!"}},{"$f":"#REF!","v":{"$error":"#REF!"}},{"$error":"#REF!"},{"$error":"#REF!"}]
[null,{"$f":"#REF!","v":{"$error":"#REF!"}},{"$f":"#REF!","v":{"$error":"#REF!"}},{"$f":"#REF!","v":{"$error":"#REF!"}},{"$f":"#REF!","v":{"$error":"#REF!"}},{"$error":"#REF!"},{"$error":"#REF!"}]
[null,{"$f":"#REF!","v":{"$error":"#REF!"}},{"$f":"#REF!","v":{"$error":"#REF!"}},{"$f":"#REF!","v":{"$error":"#REF!"}},{"$f":"#REF!","v":{"$error":"#REF!"}},{"$error":"#REF!"},{"$error":"#REF!"}]
[null,{"$f":"#REF!","v":{"$error":"#REF!"}},{"$f":"#REF!","v":{"$error":"#REF!"}},{"$f":"#REF!","v":{"$error":"#REF!"}},{"$f":"#REF!","v":{"$error":"#REF!"}},{"$error":"#REF!"},{"$error":"#REF!"}]
[null,{"$f":"#REF!","v":{"$error":"#REF!"}},{"$f":"#REF!","v":{"$error":"#REF!"}},{"$f":"#REF!","v":{"$error":"#REF!"}},{"$f":"#REF!","v":{"$error":"#REF!"}},{"$error":"#REF!"},{"$error":"#REF!"}]
[null,{"$f":"#REF!","v":{"$error":"#REF!"}},{"$f":"#REF!","v":{"$error":"#REF!"}},{"$f":"#REF!","v":{"$error":"#REF!"}},{"$f":"#REF!","v":{"$error":"#REF!"}},{"$error":"#REF!"},{"$error":"#REF!"}]
[null,{"$f":"#REF!","v":{"$error":"#REF!"}},{"$f":"#REF!","v":{"$error":"#REF!"}},{"$f":"#REF!","v":{"$error":"#REF!"}},{"$f":"#REF!","v":{"$error":"#REF!"}},{"$error":"#REF!"},{"$error":"#REF!"}]
[null,{"$f":"#REF!","v":{"$error":"#REF!"}},{"$f":"#REF!","v":{"$error":"#REF!"}},{"$f":"#REF!","v":{"$error":"#REF!"}},{"$f":"#REF!","v":{"$error":"#REF!"}},{"$error":"#REF!"},{"$error":"#REF!"}]
[null,{"$f":"#REF!","v":{"$error":"#REF!"}},{"$f":"#REF!","v":{"$error":"#REF!"}},{"$f":"#REF!","v":{"$error":"#REF!"}},{"$f":"#REF!","v":{"$error":"#REF!"}},{"$error":"#REF!"},{"$error":"#REF!"}]
[null,{"$f":"#REF!","v":{"$error":"#REF!"}},{"$f":"#REF!","v":{"$error":"#REF!"}},{"$f":"#REF!","v":{"$error":"#REF!"}},{"$f":"#REF!","v":{"$error":"#REF!"}},{"$error":"#REF!"},{"$error":"#REF!"}]
[null,{"$f":"#REF!","v":{"$error":"#REF!"}},{"$f":"#REF!","v":{"$error":"#REF!"}},{"$f":"#REF!","v":{"$error":"#REF!"}},{"$f":"#REF!","v":{"$error":"#REF!"}},{"$error":"#REF!"},{"$error":"#REF!"}]
[null,{"$f":"#REF!","v":{"$error":"#REF!"}},{"$f":"#REF!","v":{"$error":"#REF!"}},{"$f":"#REF!","v":{"$error":"#REF!"}},{"$f":"#REF!","v":{"$error":"#REF!"}},{"$error":"#REF!"},{"$error":"#REF!"}]
[null,{"$f":"#REF!","v":{"$error":"#REF!"}},{"$f":"#REF!","v":{"$error":"#REF!"}},{"$f":"#REF!","v":{"$error":"#REF!"}},{"$f":"#REF!","v":{"$error":"#REF!"}},{"$error":"#REF!"},{"$error":"#REF!"}]
[null,{"$f":"#REF!","v":{"$error":"#REF!"}},{"$f":"#REF!","v":{"$error":"#REF!"}},{"$f":"#REF!","v":{"$error":"#REF!"}},{"$f":"#REF!","v":{"$error":"#REF!"}},{"$error":"#REF!"},{"$error":"#REF!"}]
[null,{"$f":"#REF!","v":{"$error":"#REF!"}},{"$f":"#REF!","v":{"$error":"#REF!"}},{"$f":"#REF!","v":{"$error":"#REF!"}},{"$f":"#REF!","v":{"$error":"#REF!"}},{"$error":"#REF!"},{"$error":"#REF!"}]
[null,{"$f":"#REF!","v":{"$error":"#REF!"}},{"$f":"#REF!","v":{"$error":"#REF!"}},{"$f":"#REF!","v":{"$error":"#REF!"}},{"$f":"#REF!","v":{"$error":"#REF!"}},{"$error":"#REF!"},{"$error":"#REF!"}]
[null,{"$f":"#REF!","v":{"$error":"#REF!"}},{"$f":"#REF!","v":{"$error":"#REF!"}},{"$f":"#REF!","v":{"$error":"#REF!"}},{"$f":"#REF!","v":{"$error":"#REF!"}},{"$error":"#REF!"},{"$error":"#REF!"}]
[null,{"$f":"#REF!","v":{"$error":"#REF!"}},{"$f":"#REF!","v":{"$error":"#REF!"}},{"$f":"#REF!","v":{"$error":"#REF!"}},{"$f":"#REF!","v":{"$error":"#REF!"}},{"$error":"#REF!"},{"$error":"#REF!"}]
[null,{"$f":"#REF!","v":{"$error":"#REF!"}},{"$f":"#REF!","v":{"$error":"#REF!"}},{"$f":"#REF!","v":{"$error":"#REF!"}},{"$f":"#REF!","v":{"$error":"#REF!"}},{"$error":"#REF!"},{"$error":"#REF!"}]
[null,{"$f":"#REF!","v":{"$error":"#REF!"}},{"$f":"#REF!","v":{"$error":"#REF!"}},{"$f":"#REF!","v":{"$error":"#REF!"}},{"$f":"#REF!","v":{"$error":"#REF!"}},{"$error":"#REF!"},{"$error":"#REF!"}]
[null,{"$f":"#REF!","v":{"$error":"#REF!"}},{"$f":"#REF!","v":{"$error":"#REF!"}},{"$f":"#REF!","v":{"$error":"#REF!"}},{"$f":"#REF!","v":{"$error":"#REF!"}},{"$error":"#REF!"},{"$error":"#REF!"}]
[null,{"$f":"#REF!","v":{"$error":"#REF!"}},{"$f":"#REF!","v":{"$error":"#REF!"}},{"$f":"#REF!","v":{"$error":"#REF!"}},{"$f":"#REF!","v":{"$error":"#REF!"}},{"$error":"#REF!"},{"$error":"#REF!"}]
[null,{"$f":"#REF!","v":{"$error":"#REF!"}},{"$f":"#REF!","v":{"$error":"#REF!"}},{"$f":"#REF!","v":{"$error":"#REF!"}},{"$f":"#REF!","v":{"$error":"#REF!"}},{"$error":"#REF!"},{"$error":"#REF!"}]
[null,{"$f":"#REF!","v":{"$error":"#REF!"}},{"$f":"#REF!","v":{"$error":"#REF!"}},{"$f":"#REF!","v":{"$error":"#REF!"}},{"$f":"#REF!","v":{"$error":"#REF!"}},{"$error":"#REF!"},{"$error":"#REF!"}]
[null,{"$f":"#REF!","v":{"$error":"#REF!"}},{"$f":"#REF!","v":{"$error":"#REF!"}},{"$f":"#REF!","v":{"$error":"#REF!"}},{"$f":"#REF!","v":{"$error":"#REF!"}},{"$error":"#REF!"},{"$error":"#REF!"}]
[null,{"$f":"#REF!","v":{"$error":"#REF!"}},{"$f":"#REF!","v":{"$error":"#REF!"}},{"$f":"#REF!","v":{"$error":"#REF!"}},{"$f":"#REF!","v":{"$error":"#REF!"}},{"$error":"#REF!"},{"$error":"#REF!"}]
[null,{"$f":"#REF!","v":{"$error":"#REF!"}},{"$f":"#REF!","v":{"$error":"#REF!"}},{"$f":"#REF!","v":{"$error":"#REF!"}},{"$f":"#REF!","v":{"$error":"#REF!"}},{"$error":"#REF!"},{"$error":"#REF!"}]
[null,{"$f":"#REF!","v":{"$error":"#REF!"}},{"$f":"#REF!","v":{"$error":"#REF!"}},{"$f":"#REF!","v":{"$error":"#REF!"}},{"$f":"#REF!","v":{"$error":"#REF!"}},{"$error":"#REF!"},{"$error":"#REF!"}]
[null,{"$f":"#REF!","v":{"$error":"#REF!"}},{"$f":"#REF!","v":{"$error":"#REF!"}},{"$f":"#REF!","v":{"$error":"#REF!"}},{"$f":"#REF!","v":{"$error":"#REF!"}},{"$error":"#REF!"},{"$error":"#REF!"}]
[null,{"$f":"#REF!","v":{"$error":"#REF!"}},{"$f":"#REF!","v":{"$error":"#REF!"}},{"$f":"#REF!","v":{"$error":"#REF!"}},{"$f":"#REF!","v":{"$error":"#REF!"}},{"$f":"IF(E68>18.99,\"YÜKSEK\",IF(E68>18.99<9.99,\"ORTA\",IF(E68>9.99,\"ORTA\",IF(E68>0,\"DÜŞÜK\"))))","v":{"$error":"#REF!"}},{"$f":"IF(E68>18.99,\"1\",IF(E68>18.99<9.99,\"2\",IF(E68>9.99,\"2\",IF(E68>0,\"3\"))))","v":{"$error":"#REF!"}}]
[null,{"$f":"#REF!","v":{"$error":"#REF!"}},{"$f":"#REF!","v":{"$error":"#REF!"}},{"$f":"#REF!","v":{"$error":"#REF!"}},{"$f":"#REF!","v":{"$error":"#REF!"}},{"$error":"#REF!"},{"$error":"#REF!"}]
[null,{"$f":"#REF!","v":{"$error":"#REF!"}},{"$f":"#REF!","v":{"$error":"#REF!"}},{"$f":"#REF!","v":{"$error":"#REF!"}},{"$f":"#REF!","v":{"$error":"#REF!"}},{"$error":"#REF!"},{"$error":"#REF!"}]
[null,{"$f":"#REF!","v":{"$error":"#REF!"}},{"$f":"#REF!","v":{"$error":"#REF!"}},{"$f":"#REF!","v":{"$error":"#REF!"}},{"$f":"#REF!","v":{"$error":"#REF!"}},{"$error":"#REF!"},{"$error":"#REF!"}]
[null,{"$f":"#REF!","v":{"$error":"#REF!"}},{"$f":"#REF!","v":{"$error":"#REF!"}},{"$f":"#REF!","v":{"$error":"#REF!"}},{"$f":"#REF!","v":{"$error":"#REF!"}},{"$error":"#REF!"},{"$error":"#REF!"}]
[null,{"$f":"#REF!","v":{"$error":"#REF!"}},{"$f":"#REF!","v":{"$error":"#REF!"}},{"$f":"#REF!","v":{"$error":"#REF!"}},{"$f":"#REF!","v":{"$error":"#REF!"}},{"$error":"#REF!"},{"$error":"#REF!"}]
[null,{"$f":"#REF!","v":{"$error":"#REF!"}},{"$f":"#REF!","v":{"$error":"#REF!"}},{"$f":"#REF!","v":{"$error":"#REF!"}},{"$f":"#REF!","v":{"$error":"#REF!"}},{"$error":"#REF!"},{"$error":"#REF!"}]
[null,{"$f":"#REF!","v":{"$error":"#REF!"}},{"$f":"#REF!","v":{"$error":"#REF!"}},{"$f":"#REF!","v":{"$error":"#REF!"}},{"$f":"#REF!","v":{"$error":"#REF!"}},{"$error":"#REF!"},{"$error":"#REF!"}]
[null,{"$f":"#REF!","v":{"$error":"#REF!"}},{"$f":"#REF!","v":{"$error":"#REF!"}},{"$f":"#REF!","v":{"$error":"#REF!"}},{"$f":"#REF!","v":{"$error":"#REF!"}},{"$error":"#REF!"},{"$error":"#REF!"}]
[null,{"$f":"#REF!","v":{"$error":"#REF!"}},{"$f":"#REF!","v":{"$error":"#REF!"}},{"$f":"#REF!","v":{"$error":"#REF!"}},{"$f":"#REF!","v":{"$error":"#REF!"}},{"$error":"#REF!"},{"$error":"#REF!"}]
[null,{"$f":"#REF!","v":{"$error":"#REF!"}},{"$f":"#REF!","v":{"$error":"#REF!"}},{"$f":"#REF!","v":{"$error":"#REF!"}},{"$f":"#REF!","v":{"$error":"#REF!"}},{"$error":"#REF!"},{"$error":"#REF!"}]
[null,{"$f":"#REF!","v":{"$error":"#REF!"}},{"$f":"#REF!","v":{"$error":"#REF!"}},{"$f":"#REF!","v":{"$error":"#REF!"}},{"$f":"#REF!","v":{"$error":"#REF!"}},{"$error":"#REF!"},{"$error":"#REF!"}]
[null,{"$f":"#REF!","v":{"$error":"#REF!"}},{"$f":"#REF!","v":{"$error":"#REF!"}},{"$f":"#REF!","v":{"$error":"#REF!"}},{"$f":"#REF!","v":{"$error":"#REF!"}},{"$error":"#REF!"},{"$error":"#REF!"}]
[null,{"$f":"#REF!","v":{"$error":"#REF!"}},{"$f":"#REF!","v":{"$error":"#REF!"}},{"$f":"#REF!","v":{"$error":"#REF!"}},{"$f":"#REF!","v":{"$error":"#REF!"}},{"$error":"#REF!"},{"$error":"#REF!"}]
[null,{"$f":"#REF!","v":{"$error":"#REF!"}},{"$f":"#REF!","v":{"$error":"#REF!"}},{"$f":"#REF!","v":{"$error":"#REF!"}},{"$f":"#REF!","v":{"$error":"#REF!"}},{"$error":"#REF!"},{"$error":"#REF!"}]
[null,{"$f":"#REF!","v":{"$error":"#REF!"}},{"$f":"#REF!","v":{"$error":"#REF!"}},{"$f":"#REF!","v":{"$error":"#REF!"}},{"$f":"#REF!","v":{"$error":"#REF!"}},{"$error":"#REF!"},{"$error":"#REF!"}]
[null,{"$f":"#REF!","v":{"$error":"#REF!"}},{"$f":"#REF!","v":{"$error":"#REF!"}},{"$f":"#REF!","v":{"$error":"#REF!"}},{"$f":"#REF!","v":{"$error":"#REF!"}},{"$error":"#REF!"},{"$error":"#REF!"}]
[null,{"$f":"#REF!","v":{"$error":"#REF!"}},{"$f":"#REF!","v":{"$error":"#REF!"}},{"$f":"#REF!","v":{"$error":"#REF!"}},{"$f":"#REF!","v":{"$error":"#REF!"}},{"$error":"#REF!"},{"$error":"#REF!"}]
[null,{"$f":"#REF!","v":{"$error":"#REF!"}},{"$f":"#REF!","v":{"$error":"#REF!"}},{"$f":"#REF!","v":{"$error":"#REF!"}},{"$f":"#REF!","v":{"$error":"#REF!"}},{"$error":"#REF!"},{"$error":"#REF!"}]
[null,{"$f":"#REF!","v":{"$error":"#REF!"}},{"$f":"#REF!","v":{"$error":"#REF!"}},{"$f":"#REF!","v":{"$error":"#REF!"}},{"$f":"#REF!","v":{"$error":"#REF!"}},{"$error":"#REF!"},{"$error":"#REF!"}]
[null,{"$f":"#REF!","v":{"$error":"#REF!"}},{"$f":"#REF!","v":{"$error":"#REF!"}},{"$f":"#REF!","v":{"$error":"#REF!"}},{"$f":"#REF!","v":{"$error":"#REF!"}},{"$error":"#REF!"},{"$error":"#REF!"}]
[null,{"$f":"#REF!","v":{"$error":"#REF!"}},{"$f":"#REF!","v":{"$error":"#REF!"}},{"$f":"#REF!","v":{"$error":"#REF!"}},{"$f":"#REF!","v":{"$error":"#REF!"}},{"$error":"#REF!"},{"$error":"#REF!"}]
[null,{"$f":"#REF!","v":{"$error":"#REF!"}},{"$f":"#REF!","v":{"$error":"#REF!"}},{"$f":"#REF!","v":{"$error":"#REF!"}},{"$f":"#REF!","v":{"$error":"#REF!"}},{"$error":"#REF!"},{"$error":"#REF!"}]
[null,{"$f":"#REF!","v":{"$error":"#REF!"}},{"$f":"#REF!","v":{"$error":"#REF!"}},{"$f":"#REF!","v":{"$error":"#REF!"}},{"$f":"#REF!","v":{"$error":"#REF!"}},{"$error":"#REF!"},{"$error":"#REF!"}]
[null,{"$f":"#REF!","v":{"$error":"#REF!"}},{"$f":"#REF!","v":{"$error":"#REF!"}},{"$f":"#REF!","v":{"$error":"#REF!"}},{"$f":"#REF!","v":{"$error":"#REF!"}},{"$error":"#REF!"},{"$error":"#REF!"}]
[null,{"$f":"#REF!","v":{"$error":"#REF!"}},{"$f":"#REF!","v":{"$error":"#REF!"}},{"$f":"#REF!","v":{"$error":"#REF!"}},{"$f":"#REF!","v":{"$error":"#REF!"}},{"$error":"#REF!"},{"$error":"#REF!"}]
[null,{"$f":"#REF!","v":{"$error":"#REF!"}},{"$f":"#REF!","v":{"$error":"#REF!"}},{"$f":"#REF!","v":{"$error":"#REF!"}},{"$f":"#REF!","v":{"$error":"#REF!"}},{"$error":"#REF!"},{"$error":"#REF!"}]
[null,{"$f":"#REF!","v":{"$error":"#REF!"}},{"$f":"#REF!","v":{"$error":"#REF!"}},{"$f":"#REF!","v":{"$error":"#REF!"}},{"$f":"#REF!","v":{"$error":"#REF!"}},{"$error":"#REF!"},{"$error":"#REF!"}]
[null,{"$f":"#REF!","v":{"$error":"#REF!"}},{"$f":"#REF!","v":{"$error":"#REF!"}},{"$f":"#REF!","v":{"$error":"#REF!"}},{"$f":"#REF!","v":{"$error":"#REF!"}},{"$error":"#REF!"},{"$error":"#REF!"}]
[null,{"$f":"#REF!","v":{"$error":"#REF!"}},{"$f":"#REF!","v":{"$error":"#REF!"}},{"$f":"#REF!","v":{"$error":"#REF!"}},{"$f":"#REF!","v":{"$error":"#REF!"}},{"$error":"#REF!"},{"$error":"#REF!"}]
[null,{"$f":"#REF!","v":{"$error":"#REF!"}},{"$f":"#REF!","v":{"$error":"#REF!"}},{"$f":"#REF!","v":{"$error":"#REF!"}},{"$f":"#REF!","v":{"$error":"#REF!"}},{"$error":"#REF!"},{"$error":"#REF!"}]
[null,{"$f":"#REF!","v":{"$error":"#REF!"}},{"$f":"#REF!","v":{"$error":"#REF!"}},{"$f":"#REF!","v":{"$error":"#REF!"}},{"$f":"#REF!","v":{"$error":"#REF!"}},{"$error":"#REF!"},{"$error":"#REF!"}]
[null,{"$f":"#REF!","v":{"$error":"#REF!"}},{"$f":"#REF!","v":{"$error":"#REF!"}},{"$f":"#REF!","v":{"$error":"#REF!"}},{"$f":"#REF!","v":{"$error":"#REF!"}},{"$f":"IF(E100>18.99,\"YÜKSEK\",IF(E100>18.99<9.99,\"ORTA\",IF(E100>9.99,\"ORTA\",IF(E100>0,\"DÜŞÜK\"))))","v":{"$error":"#REF!"}},{"$f":"IF(E100>18.99,\"1\",IF(E100>18.99<9.99,\"2\",IF(E100>9.99,\"2\",IF(E100>0,\"3\"))))","v":{"$error":"#REF!"}}]
[null,{"$f":"#REF!","v":{"$error":"#REF!"}},{"$f":"#REF!","v":{"$error":"#REF!"}},{"$f":"#REF!","v":{"$error":"#REF!"}},{"$f":"#REF!","v":{"$error":"#REF!"}},{"$error":"#REF!"},{"$error":"#REF!"}]
[null,{"$f":"#REF!","v":{"$error":"#REF!"}},{"$f":"#REF!","v":{"$error":"#REF!"}},{"$f":"#REF!","v":{"$error":"#REF!"}},{"$f":"#REF!","v":{"$error":"#REF!"}},{"$error":"#REF!"},{"$error":"#REF!"}]
[null,{"$f":"#REF!","v":{"$error":"#REF!"}},{"$f":"#REF!","v":{"$error":"#REF!"}},{"$f":"#REF!","v":{"$error":"#REF!"}},{"$f":"#REF!","v":{"$error":"#REF!"}},{"$error":"#REF!"},{"$error":"#REF!"}]
[null,{"$f":"#REF!","v":{"$error":"#REF!"}},{"$f":"#REF!","v":{"$error":"#REF!"}},{"$f":"#REF!","v":{"$error":"#REF!"}},{"$f":"#REF!","v":{"$error":"#REF!"}},{"$error":"#REF!"},{"$error":"#REF!"}]
[null,{"$f":"#REF!","v":{"$error":"#REF!"}},{"$f":"#REF!","v":{"$error":"#REF!"}},{"$f":"#REF!","v":{"$error":"#REF!"}},{"$f":"#REF!","v":{"$error":"#REF!"}},{"$error":"#REF!"},{"$error":"#REF!"}]
[null,{"$f":"#REF!","v":{"$error":"#REF!"}},{"$f":"#REF!","v":{"$error":"#REF!"}},{"$f":"#REF!","v":{"$error":"#REF!"}},{"$f":"#REF!","v":{"$error":"#REF!"}},{"$error":"#REF!"},{"$error":"#REF!"}]
[null,{"$f":"#REF!","v":{"$error":"#REF!"}},{"$f":"#REF!","v":{"$error":"#REF!"}},{"$f":"#REF!","v":{"$error":"#REF!"}},{"$f":"#REF!","v":{"$error":"#REF!"}},{"$error":"#REF!"},{"$error":"#REF!"}]
[null,{"$f":"#REF!","v":{"$error":"#REF!"}},{"$f":"#REF!","v":{"$error":"#REF!"}},{"$f":"#REF!","v":{"$error":"#REF!"}},{"$f":"#REF!","v":{"$error":"#REF!"}},{"$error":"#REF!"},{"$error":"#REF!"}]
[null,{"$f":"#REF!","v":{"$error":"#REF!"}},{"$f":"#REF!","v":{"$error":"#REF!"}},{"$f":"#REF!","v":{"$error":"#REF!"}},{"$f":"#REF!","v":{"$error":"#REF!"}},{"$error":"#REF!"},{"$error":"#REF!"}]
[null,{"$f":"#REF!","v":{"$error":"#REF!"}},{"$f":"#REF!","v":{"$error":"#REF!"}},{"$f":"#REF!","v":{"$error":"#REF!"}},{"$f":"#REF!","v":{"$error":"#REF!"}},{"$error":"#REF!"},{"$error":"#REF!"}]
[null,{"$f":"#REF!","v":{"$error":"#REF!"}},{"$f":"#REF!","v":{"$error":"#REF!"}},{"$f":"#REF!","v":{"$error":"#REF!"}},{"$f":"#REF!","v":{"$error":"#REF!"}},{"$error":"#REF!"},{"$error":"#REF!"}]
[null,{"$f":"#REF!","v":{"$error":"#REF!"}},{"$f":"#REF!","v":{"$error":"#REF!"}},{"$f":"#REF!","v":{"$error":"#REF!"}},{"$f":"#REF!","v":{"$error":"#REF!"}},{"$error":"#REF!"},{"$error":"#REF!"}]
[null,{"$f":"#REF!","v":{"$error":"#REF!"}},{"$f":"#REF!","v":{"$error":"#REF!"}},{"$f":"#REF!","v":{"$error":"#REF!"}},{"$f":"#REF!","v":{"$error":"#REF!"}},{"$error":"#REF!"},{"$error":"#REF!"}]
[null,{"$f":"#REF!","v":{"$error":"#REF!"}},{"$f":"#REF!","v":{"$error":"#REF!"}},{"$f":"#REF!","v":{"$error":"#REF!"}},{"$f":"#REF!","v":{"$error":"#REF!"}},{"$error":"#REF!"},{"$error":"#REF!"}]
[null,{"$f":"#REF!","v":{"$error":"#REF!"}},{"$f":"#REF!","v":{"$error":"#REF!"}},{"$f":"#REF!","v":{"$error":"#REF!"}},{"$f":"#REF!","v":{"$error":"#REF!"}},{"$error":"#REF!"},{"$error":"#REF!"}]
[null,{"$f":"#REF!","v":{"$error":"#REF!"}},{"$f":"#REF!","v":{"$error":"#REF!"}},{"$f":"#REF!","v":{"$error":"#REF!"}},{"$f":"#REF!","v":{"$error":"#REF!"}},{"$error":"#REF!"},{"$error":"#REF!"}]
[null,{"$f":"#REF!","v":{"$error":"#REF!"}},{"$f":"#REF!","v":{"$error":"#REF!"}},{"$f":"#REF!","v":{"$error":"#REF!"}},{"$f":"#REF!","v":{"$error":"#REF!"}},{"$error":"#REF!"},{"$error":"#REF!"}]
[null,{"$f":"#REF!","v":{"$error":"#REF!"}},{"$f":"#REF!","v":{"$error":"#REF!"}},{"$f":"#REF!","v":{"$error":"#REF!"}},{"$f":"#REF!","v":{"$error":"#REF!"}},{"$error":"#REF!"},{"$error":"#REF!"}]
[null,{"$f":"#REF!","v":{"$error":"#REF!"}},{"$f":"#REF!","v":{"$error":"#REF!"}},{"$f":"#REF!","v":{"$error":"#REF!"}},{"$f":"#REF!","v":{"$error":"#REF!"}},{"$error":"#REF!"},{"$error":"#REF!"}]
[null,{"$f":"#REF!","v":{"$error":"#REF!"}},{"$f":"#REF!","v":{"$error":"#REF!"}},{"$f":"#REF!","v":{"$error":"#REF!"}},{"$f":"#REF!","v":{"$error":"#REF!"}},{"$error":"#REF!"},{"$error":"#REF!"}]
[null,{"$f":"#REF!","v":{"$error":"#REF!"}},{"$f":"#REF!","v":{"$error":"#REF!"}},{"$f":"#REF!","v":{"$error":"#REF!"}},{"$f":"#REF!","v":{"$error":"#REF!"}},{"$error":"#REF!"},{"$error":"#REF!"}]
[null,{"$f":"#REF!","v":{"$error":"#REF!"}},{"$f":"#REF!","v":{"$error":"#REF!"}},{"$f":"#REF!","v":{"$error":"#REF!"}},{"$f":"#REF!","v":{"$error":"#REF!"}},{"$error":"#REF!"},{"$error":"#REF!"}]
[null,{"$f":"#REF!","v":{"$error":"#REF!"}},{"$f":"#REF!","v":{"$error":"#REF!"}},{"$f":"#REF!","v":{"$error":"#REF!"}},{"$f":"#REF!","v":{"$error":"#REF!"}},{"$error":"#REF!"},{"$error":"#REF!"}]
[null,{"$f":"#REF!","v":{"$error":"#REF!"}},{"$f":"#REF!","v":{"$error":"#REF!"}},{"$f":"#REF!","v":{"$error":"#REF!"}},{"$f":"#REF!","v":{"$error":"#REF!"}},{"$error":"#REF!"},{"$error":"#REF!"}]
[null,{"$f":"#REF!","v":{"$error":"#REF!"}},{"$f":"#REF!","v":{"$error":"#REF!"}},{"$f":"#REF!","v":{"$error":"#REF!"}},{"$f":"#REF!","v":{"$error":"#REF!"}},{"$error":"#REF!"},{"$error":"#REF!"}]
[null,{"$f":"#REF!","v":{"$error":"#REF!"}},{"$f":"#REF!","v":{"$error":"#REF!"}},{"$f":"#REF!","v":{"$error":"#REF!"}},{"$f":"#REF!","v":{"$error":"#REF!"}},{"$error":"#REF!"},{"$error":"#REF!"}]
[null,{"$f":"#REF!","v":{"$error":"#REF!"}},{"$f":"#REF!","v":{"$error":"#REF!"}},{"$f":"#REF!","v":{"$error":"#REF!"}},{"$f":"#REF!","v":{"$error":"#REF!"}},{"$error":"#REF!"},{"$error":"#REF!"}]
[null,{"$f":"#REF!","v":{"$error":"#REF!"}},{"$f":"#REF!","v":{"$error":"#REF!"}},{"$f":"#REF!","v":{"$error":"#REF!"}},{"$f":"#REF!","v":{"$error":"#REF!"}},{"$error":"#REF!"},{"$error":"#REF!"}]
[null,{"$f":"#REF!","v":{"$error":"#REF!"}},{"$f":"#REF!","v":{"$error":"#REF!"}},{"$f":"#REF!","v":{"$error":"#REF!"}},{"$f":"#REF!","v":{"$error":"#REF!"}},{"$error":"#REF!"},{"$error":"#REF!"}]
[null,{"$f":"#REF!","v":{"$error":"#REF!"}},{"$f":"#REF!","v":{"$error":"#REF!"}},{"$f":"#REF!","v":{"$error":"#REF!"}},{"$f":"#REF!","v":{"$error":"#REF!"}},{"$error":"#REF!"},{"$error":"#REF!"}]
[null,{"$f":"#REF!","v":{"$error":"#REF!"}},{"$f":"#REF!","v":{"$error":"#REF!"}},{"$f":"#REF!","v":{"$error":"#REF!"}},{"$f":"#REF!","v":{"$error":"#REF!"}},{"$error":"#REF!"},{"$error":"#REF!"}]
[null,{"$f":"#REF!","v":{"$error":"#REF!"}},{"$f":"#REF!","v":{"$error":"#REF!"}},{"$f":"#REF!","v":{"$error":"#REF!"}},{"$f":"#REF!","v":{"$error":"#REF!"}},{"$f":"IF(E132>18.99,\"YÜKSEK\",IF(E132>18.99<9.99,\"ORTA\",IF(E132>9.99,\"ORTA\",IF(E132>0,\"DÜŞÜK\"))))","v":{"$error":"#REF!"}},{"$f":"IF(E132>18.99,\"1\",IF(E132>18.99<9.99,\"2\",IF(E132>9.99,\"2\",IF(E132>0,\"3\"))))","v":{"$error":"#REF!"}}]
[null,{"$f":"#REF!","v":{"$error":"#REF!"}},{"$f":"#REF!","v":{"$error":"#REF!"}},{"$f":"#REF!","v":{"$error":"#REF!"}},{"$f":"#REF!","v":{"$error":"#REF!"}},{"$error":"#REF!"},{"$error":"#REF!"}]
[null,{"$f":"#REF!","v":{"$error":"#REF!"}},{"$f":"#REF!","v":{"$error":"#REF!"}},{"$f":"#REF!","v":{"$error":"#REF!"}},{"$f":"#REF!","v":{"$error":"#REF!"}},{"$error":"#REF!"},{"$error":"#REF!"}]
[null,{"$f":"#REF!","v":{"$error":"#REF!"}},{"$f":"#REF!","v":{"$error":"#REF!"}},{"$f":"#REF!","v":{"$error":"#REF!"}},{"$f":"#REF!","v":{"$error":"#REF!"}},{"$error":"#REF!"},{"$error":"#REF!"}]
[null,{"$f":"#REF!","v":{"$error":"#REF!"}},{"$f":"#REF!","v":{"$error":"#REF!"}},{"$f":"#REF!","v":{"$error":"#REF!"}},{"$f":"#REF!","v":{"$error":"#REF!"}},{"$error":"#REF!"},{"$error":"#REF!"}]
[null,{"$f":"#REF!","v":{"$error":"#REF!"}},{"$f":"#REF!","v":{"$error":"#REF!"}},{"$f":"#REF!","v":{"$error":"#REF!"}},{"$f":"#REF!","v":{"$error":"#REF!"}},{"$error":"#REF!"},{"$error":"#REF!"}]
[null,{"$f":"#REF!","v":{"$error":"#REF!"}},{"$f":"#REF!","v":{"$error":"#REF!"}},{"$f":"#REF!","v":{"$error":"#REF!"}},{"$f":"#REF!","v":{"$error":"#REF!"}},{"$error":"#REF!"},{"$error":"#REF!"}]
[null,{"$f":"#REF!","v":{"$error":"#REF!"}},{"$f":"#REF!","v":{"$error":"#REF!"}},{"$f":"#REF!","v":{"$error":"#REF!"}},{"$f":"#REF!","v":{"$error":"#REF!"}},{"$error":"#REF!"},{"$error":"#REF!"}]
[null,{"$f":"#REF!","v":{"$error":"#REF!"}},{"$f":"#REF!","v":{"$error":"#REF!"}},{"$f":"#REF!","v":{"$error":"#REF!"}},{"$f":"#REF!","v":{"$error":"#REF!"}},{"$error":"#REF!"},{"$error":"#REF!"}]
[null,{"$f":"#REF!","v":{"$error":"#REF!"}},{"$f":"#REF!","v":{"$error":"#REF!"}},{"$f":"#REF!","v":{"$error":"#REF!"}},{"$f":"#REF!","v":{"$error":"#REF!"}},{"$error":"#REF!"},{"$error":"#REF!"}]
[null,{"$f":"#REF!","v":{"$error":"#REF!"}},{"$f":"#REF!","v":{"$error":"#REF!"}},{"$f":"#REF!","v":{"$error":"#REF!"}},{"$f":"#REF!","v":{"$error":"#REF!"}},{"$error":"#REF!"},{"$error":"#REF!"}]
[null,{"$f":"#REF!","v":{"$error":"#REF!"}},{"$f":"#REF!","v":{"$error":"#REF!"}},{"$f":"#REF!","v":{"$error":"#REF!"}},{"$f":"#REF!","v":{"$error":"#REF!"}},{"$error":"#REF!"},{"$error":"#REF!"}]
[null,{"$f":"#REF!","v":{"$error":"#REF!"}},{"$f":"#REF!","v":{"$error":"#REF!"}},{"$f":"#REF!","v":{"$error":"#REF!"}},{"$f":"#REF!","v":{"$error":"#REF!"}},{"$error":"#REF!"},{"$error":"#REF!"}]
[null,{"$f":"#REF!","v":{"$error":"#REF!"}},{"$f":"#REF!","v":{"$error":"#REF!"}},{"$f":"#REF!","v":{"$error":"#REF!"}},{"$f":"#REF!","v":{"$error":"#REF!"}},{"$error":"#REF!"},{"$error":"#REF!"}]
[null,{"$f":"#REF!","v":{"$error":"#REF!"}},{"$f":"#REF!","v":{"$error":"#REF!"}},{"$f":"#REF!","v":{"$error":"#REF!"}},{"$f":"#REF!","v":{"$error":"#REF!"}},{"$error":"#REF!"},{"$error":"#REF!"}]
[null,{"$f":"#REF!","v":{"$error":"#REF!"}},{"$f":"#REF!","v":{"$error":"#REF!"}},{"$f":"#REF!","v":{"$error":"#REF!"}},{"$f":"#REF!","v":{"$error":"#REF!"}},{"$error":"#REF!"},{"$error":"#REF!"}]
[null,{"$f":"#REF!","v":{"$error":"#REF!"}},{"$f":"#REF!","v":{"$error":"#REF!"}},{"$f":"#REF!","v":{"$error":"#REF!"}},{"$f":"#REF!","v":{"$error":"#REF!"}},{"$error":"#REF!"},{"$error":"#REF!"}]
[null,{"$f":"#REF!","v":{"$error":"#REF!"}},{"$f":"#REF!","v":{"$error":"#REF!"}},{"$f":"#REF!","v":{"$error":"#REF!"}},{"$f":"#REF!","v":{"$error":"#REF!"}},{"$error":"#REF!"},{"$error":"#REF!"}]
[null,{"$f":"#REF!","v":{"$error":"#REF!"}},{"$f":"#REF!","v":{"$error":"#REF!"}},{"$f":"#REF!","v":{"$error":"#REF!"}},{"$f":"#REF!","v":{"$error":"#REF!"}},{"$error":"#REF!"},{"$error":"#REF!"}]
[null,{"$f":"#REF!","v":{"$error":"#REF!"}},{"$f":"#REF!","v":{"$error":"#REF!"}},{"$f":"#REF!","v":{"$error":"#REF!"}},{"$f":"#REF!","v":{"$error":"#REF!"}},{"$error":"#REF!"},{"$error":"#REF!"}]
[null,{"$f":"#REF!","v":{"$error":"#REF!"}},{"$f":"#REF!","v":{"$error":"#REF!"}},{"$f":"#REF!","v":{"$error":"#REF!"}},{"$f":"#REF!","v":{"$error":"#REF!"}},{"$error":"#REF!"},{"$error":"#REF!"}]
[null,{"$f":"#REF!","v":{"$error":"#REF!"}},{"$f":"#REF!","v":{"$error":"#REF!"}},{"$f":"#REF!","v":{"$error":"#REF!"}},{"$f":"#REF!","v":{"$error":"#REF!"}},{"$error":"#REF!"},{"$error":"#REF!"}]
[null,{"$f":"#REF!","v":{"$error":"#REF!"}},{"$f":"#REF!","v":{"$error":"#REF!"}},{"$f":"#REF!","v":{"$error":"#REF!"}},{"$f":"#REF!","v":{"$error":"#REF!"}},{"$error":"#REF!"},{"$error":"#REF!"}]
[null,{"$f":"#REF!","v":{"$error":"#REF!"}},{"$f":"#REF!","v":{"$error":"#REF!"}},{"$f":"#REF!","v":{"$error":"#REF!"}},{"$f":"#REF!","v":{"$error":"#REF!"}},{"$error":"#REF!"},{"$error":"#REF!"}]
[null,{"$f":"#REF!","v":{"$error":"#REF!"}},{"$f":"#REF!","v":{"$error":"#REF!"}},{"$f":"#REF!","v":{"$error":"#REF!"}},{"$f":"#REF!","v":{"$error":"#REF!"}},{"$error":"#REF!"},{"$error":"#REF!"}]
[null,{"$f":"#REF!","v":{"$error":"#REF!"}},{"$f":"#REF!","v":{"$error":"#REF!"}},{"$f":"#REF!","v":{"$error":"#REF!"}},{"$f":"#REF!","v":{"$error":"#REF!"}},{"$error":"#REF!"},{"$error":"#REF!"}]
[null,{"$f":"#REF!","v":{"$error":"#REF!"}},{"$f":"#REF!","v":{"$error":"#REF!"}},{"$f":"#REF!","v":{"$error":"#REF!"}},{"$f":"#REF!","v":{"$error":"#REF!"}},{"$error":"#REF!"},{"$error":"#REF!"}]
[null,{"$f":"#REF!","v":{"$error":"#REF!"}},{"$f":"#REF!","v":{"$error":"#REF!"}},{"$f":"#REF!","v":{"$error":"#REF!"}},{"$f":"#REF!","v":{"$error":"#REF!"}},{"$error":"#REF!"},{"$error":"#REF!"}]
[null,{"$f":"#REF!","v":{"$error":"#REF!"}},{"$f":"#REF!","v":{"$error":"#REF!"}},{"$f":"#REF!","v":{"$error":"#REF!"}},{"$f":"#REF!","v":{"$error":"#REF!"}},{"$error":"#REF!"},{"$error":"#REF!"}]
[null,{"$f":"#REF!","v":{"$error":"#REF!"}},{"$f":"#REF!","v":{"$error":"#REF!"}},{"$f":"#REF!","v":{"$error":"#REF!"}},{"$f":"#REF!","v":{"$error":"#REF!"}},{"$error":"#REF!"},{"$error":"#REF!"}]
[null,{"$f":"#REF!","v":{"$error":"#REF!"}},{"$f":"#REF!","v":{"$error":"#REF!"}},{"$f":"#REF!","v":{"$error":"#REF!"}},{"$f":"#REF!","v":{"$error":"#REF!"}},{"$error":"#REF!"},{"$error":"#REF!"}]
[null,{"$f":"#REF!","v":{"$error":"#REF!"}},{"$f":"#REF!","v":{"$error":"#REF!"}},{"$f":"#REF!","v":{"$error":"#REF!"}},{"$f":"#REF!","v":{"$error":"#REF!"}},{"$error":"#REF!"},{"$error":"#REF!"}]
[null,{"$f":"#REF!","v":{"$error":"#REF!"}},{"$f":"#REF!","v":{"$error":"#REF!"}},{"$f":"#REF!","v":{"$error":"#REF!"}},{"$f":"#REF!","v":{"$error":"#REF!"}},{"$f":"IF(E164>18.99,\"YÜKSEK\",IF(E164>18.99<9.99,\"ORTA\",IF(E164>9.99,\"ORTA\",IF(E164>0,\"DÜŞÜK\"))))","v":{"$error":"#REF!"}},{"$error":"#REF!"}]

{"sheet":"Sayfa3","index":11,"n_rows":188,"n_cols":7,"rows_kept":188,"cut":false,"hidden":true,"merged":[]}
[]
[]
[null,"ÜST SÜREÇLER","DENETİM ALANLARI (DENETİM EVRENİ)","DENETLENECEK BİRİMLER","RİSK PUANI","PUAN SONUCU","ÖNCELİK"]
[null,null,"Evrak İşlemleri Süreci"]
[null,{"$f":"#REF!","v":{"$error":"#REF!"}},{"$f":"#REF!","v":{"$error":"#REF!"}},{"$f":"#REF!","v":{"$error":"#REF!"}},{"$f":"#REF!","v":{"$error":"#REF!"}},{"$f":"IF(E5>18.99,\"YÜKSEK\",IF(E5>18.99<9.99,\"ORTA\",IF(E5>9.99,\"ORTA\",IF(E5>0,\"DÜŞÜK\"))))","v":{"$error":"#REF!"}},{"$f":"IF(E5>18.99,\"1\",IF(E5>18.99<9.99,\"2\",IF(E5>9.99,\"2\",IF(E5>0,\"3\"))))","v":{"$error":"#REF!"}}]
[null,{"$f":"#REF!","v":{"$error":"#REF!"}},{"$f":"#REF!","v":{"$error":"#REF!"}},{"$f":"#REF!","v":{"$error":"#REF!"}},{"$f":"#REF!","v":{"$error":"#REF!"}},{"$error":"#REF!"},{"$error":"#REF!"}]
[null,{"$f":"#REF!","v":{"$error":"#REF!"}},{"$f":"#REF!","v":{"$error":"#REF!"}},{"$f":"#REF!","v":{"$error":"#REF!"}},{"$f":"#REF!","v":{"$error":"#REF!"}},{"$error":"#REF!"},{"$error":"#REF!"}]
[null,{"$f":"#REF!","v":{"$error":"#REF!"}},{"$f":"#REF!","v":{"$error":"#REF!"}},{"$f":"#REF!","v":{"$error":"#REF!"}},{"$f":"#REF!","v":{"$error":"#REF!"}},{"$error":"#REF!"},{"$error":"#REF!"}]
[null,{"$f":"#REF!","v":{"$error":"#REF!"}},{"$f":"#REF!","v":{"$error":"#REF!"}},{"$f":"#REF!","v":{"$error":"#REF!"}},{"$f":"#REF!","v":{"$error":"#REF!"}},{"$error":"#REF!"},{"$error":"#REF!"}]
[null,null,"Öğrenci ve personel değişim programları süreci"]
[null,{"$f":"#REF!","v":{"$error":"#REF!"}},{"$f":"#REF!","v":{"$error":"#REF!"}},{"$f":"#REF!","v":{"$error":"#REF!"}},{"$f":"#REF!","v":{"$error":"#REF!"}},{"$error":"#REF!"},{"$error":"#REF!"}]
[null,{"$f":"#REF!","v":{"$error":"#REF!"}},{"$f":"#REF!","v":{"$error":"#REF!"}},{"$f":"#REF!","v":{"$error":"#REF!"}},{"$f":"#REF!","v":{"$error":"#REF!"}},{"$error":"#REF!"},{"$error":"#REF!"}]
[null,{"$f":"#REF!","v":{"$error":"#REF!"}},{"$f":"#REF!","v":{"$error":"#REF!"}},{"$f":"#REF!","v":{"$error":"#REF!"}},{"$f":"#REF!","v":{"$error":"#REF!"}},{"$error":"#REF!"},{"$error":"#REF!"}]
[null,{"$f":"#REF!","v":{"$error":"#REF!"}},{"$f":"#REF!","v":{"$error":"#REF!"}},{"$f":"#REF!","v":{"$error":"#REF!"}},{"$f":"#REF!","v":{"$error":"#REF!"}},{"$error":"#REF!"},{"$error":"#REF!"}]
[null,{"$f":"#REF!","v":{"$error":"#REF!"}},{"$f":"#REF!","v":{"$error":"#REF!"}},{"$f":"#REF!","v":{"$error":"#REF!"}}]
[null,{"$f":"#REF!","v":{"$error":"#REF!"}},{"$f":"#REF!","v":{"$error":"#REF!"}},{"$f":"#REF!","v":{"$error":"#REF!"}},{"$f":"#REF!","v":{"$error":"#REF!"}},{"$error":"#REF!"},{"$error":"#REF!"}]
[null,{"$f":"#REF!","v":{"$error":"#REF!"}},{"$f":"#REF!","v":{"$error":"#REF!"}},{"$f":"#REF!","v":{"$error":"#REF!"}},{"$f":"#REF!","v":{"$error":"#REF!"}},{"$error":"#REF!"},{"$error":"#REF!"}]
[null,{"$f":"#REF!","v":{"$error":"#REF!"}},{"$f":"#REF!","v":{"$error":"#REF!"}},{"$f":"#REF!","v":{"$error":"#REF!"}},null,null,false]
[null,{"$f":"#REF!","v":{"$error":"#REF!"}},{"$f":"#REF!","v":{"$error":"#REF!"}},{"$f":"#REF!","v":{"$error":"#REF!"}},{"$f":"#REF!","v":{"$error":"#REF!"}},{"$error":"#REF!"},{"$error":"#REF!"}]
[null,{"$f":"#REF!","v":{"$error":"#REF!"}},{"$f":"#REF!","v":{"$error":"#REF!"}},{"$f":"#REF!","v":{"$error":"#REF!"}},{"$f":"#REF!","v":{"$error":"#REF!"}},{"$error":"#REF!"},{"$error":"#REF!"}]
[null,{"$f":"#REF!","v":{"$error":"#REF!"}},{"$f":"#REF!","v":{"$error":"#REF!"}},{"$f":"#REF!","v":{"$error":"#REF!"}},{"$f":"#REF!","v":{"$error":"#REF!"}},{"$error":"#REF!"},{"$error":"#REF!"}]
[null,{"$f":"#REF!","v":{"$error":"#REF!"}},{"$f":"#REF!","v":{"$error":"#REF!"}},{"$f":"#REF!","v":{"$error":"#REF!"}},{"$f":"#REF!","v":{"$error":"#REF!"}},{"$error":"#REF!"},{"$error":"#REF!"}]
[null,{"$f":"#REF!","v":{"$error":"#REF!"}},{"$f":"#REF!","v":{"$error":"#REF!"}},{"$f":"#REF!","v":{"$error":"#REF!"}},{"$f":"#REF!","v":{"$error":"#REF!"}},{"$error":"#REF!"},{"$error":"#REF!"}]
[null,{"$f":"#REF!","v":{"$error":"#REF!"}},{"$f":"#REF!","v":{"$error":"#REF!"}},{"$f":"#REF!","v":{"$error":"#REF!"}},{"$f":"#REF!","v":{"$error":"#REF!"}},{"$error":"#REF!"},{"$error":"#REF!"}]
[null,{"$f":"#REF!","v":{"$error":"#REF!"}},{"$f":"#REF!","v":{"$error":"#REF!"}},{"$f":"#REF!","v":{"$error":"#REF!"}},{"$f":"#REF!","v":{"$error":"#REF!"}},{"$error":"#REF!"},{"$error":"#REF!"}]
[null,{"$f":"#REF!","v":{"$error":"#REF!"}},{"$f":"#REF!","v":{"$error":"#REF!"}},{"$f":"#REF!","v":{"$error":"#REF!"}},{"$f":"#REF!","v":{"$error":"#REF!"}},{"$error":"#REF!"},{"$error":"#REF!"}]
[null,{"$f":"#REF!","v":{"$error":"#REF!"}},{"$f":"#REF!","v":{"$error":"#REF!"}},{"$f":"#REF!","v":{"$error":"#REF!"}},null,null,false]
[null,{"$f":"#REF!","v":{"$error":"#REF!"}},{"$f":"#REF!","v":{"$error":"#REF!"}},{"$f":"#REF!","v":{"$error":"#REF!"}},{"$f":"#REF!","v":{"$error":"#REF!"}},{"$error":"#REF!"},{"$error":"#REF!"}]
[null,{"$f":"#REF!","v":{"$error":"#REF!"}},{"$f":"#REF!","v":{"$error":"#REF!"}},{"$f":"#REF!","v":{"$error":"#REF!"}},{"$f":"#REF!","v":{"$error":"#REF!"}},{"$error":"#REF!"},{"$error":"#REF!"}]
[null,{"$f":"#REF!","v":{"$error":"#REF!"}},{"$f":"#REF!","v":{"$error":"#REF!"}},{"$f":"#REF!","v":{"$error":"#REF!"}},{"$f":"#REF!","v":{"$error":"#REF!"}},{"$error":"#REF!"},{"$error":"#REF!"}]
[null,{"$f":"#REF!","v":{"$error":"#REF!"}},{"$f":"#REF!","v":{"$error":"#REF!"}},{"$f":"#REF!","v":{"$error":"#REF!"}},{"$f":"#REF!","v":{"$error":"#REF!"}},{"$error":"#REF!"},{"$error":"#REF!"}]
[null,{"$f":"#REF!","v":{"$error":"#REF!"}},{"$f":"#REF!","v":{"$error":"#REF!"}},{"$f":"#REF!","v":{"$error":"#REF!"}},{"$f":"#REF!","v":{"$error":"#REF!"}},{"$error":"#REF!"},{"$error":"#REF!"}]
[null,{"$f":"#REF!","v":{"$error":"#REF!"}},{"$f":"#REF!","v":{"$error":"#REF!"}},{"$f":"#REF!","v":{"$error":"#REF!"}},{"$f":"#REF!","v":{"$error":"#REF!"}},{"$error":"#REF!"},{"$error":"#REF!"}]
[null,{"$f":"#REF!","v":{"$error":"#REF!"}},{"$f":"#REF!","v":{"$error":"#REF!"}},{"$f":"#REF!","v":{"$error":"#REF!"}},{"$f":"#REF!","v":{"$error":"#REF!"}},{"$error":"#REF!"},{"$error":"#REF!"}]
[null,{"$f":"#REF!","v":{"$error":"#REF!"}},{"$f":"#REF!","v":{"$error":"#REF!"}},{"$f":"#REF!","v":{"$error":"#REF!"}},{"$f":"#REF!","v":{"$error":"#REF!"}},{"$error":"#REF!"},{"$error":"#REF!"}]
[null,{"$f":"#REF!","v":{"$error":"#REF!"}},{"$f":"#REF!","v":{"$error":"#REF!"}},{"$f":"#REF!","v":{"$error":"#REF!"}},{"$f":"#REF!","v":{"$error":"#REF!"}},{"$error":"#REF!"},{"$error":"#REF!"}]
[null,{"$f":"#REF!","v":{"$error":"#REF!"}},{"$f":"#REF!","v":{"$error":"#REF!"}},{"$f":"#REF!","v":{"$error":"#REF!"}},{"$f":"#REF!","v":{"$error":"#REF!"}},{"$error":"#REF!"},{"$error":"#REF!"}]
[null,{"$f":"#REF!","v":{"$error":"#REF!"}},{"$f":"#REF!","v":{"$error":"#REF!"}},{"$f":"#REF!","v":{"$error":"#REF!"}},{"$f":"#REF!","v":{"$error":"#REF!"}},{"$error":"#REF!"},{"$error":"#REF!"}]
[null,{"$f":"#REF!","v":{"$error":"#REF!"}},{"$f":"#REF!","v":{"$error":"#REF!"}},{"$f":"#REF!","v":{"$error":"#REF!"}},{"$f":"#REF!","v":{"$error":"#REF!"}},{"$error":"#REF!"},{"$error":"#REF!"}]
[null,{"$f":"#REF!","v":{"$error":"#REF!"}},{"$f":"#REF!","v":{"$error":"#REF!"}},{"$f":"#REF!","v":{"$error":"#REF!"}},{"$f":"#REF!","v":{"$error":"#REF!"}},{"$error":"#REF!"},{"$error":"#REF!"}]
[null,{"$f":"#REF!","v":{"$error":"#REF!"}},{"$f":"#REF!","v":{"$error":"#REF!"}},{"$f":"#REF!","v":{"$error":"#REF!"}},{"$f":"#REF!","v":{"$error":"#REF!"}},{"$error":"#REF!"},{"$error":"#REF!"}]
[null,{"$f":"#REF!","v":{"$error":"#REF!"}},{"$f":"#REF!","v":{"$error":"#REF!"}},{"$f":"#REF!","v":{"$error":"#REF!"}},{"$f":"#REF!","v":{"$error":"#REF!"}},{"$error":"#REF!"},{"$error":"#REF!"}]
[null,{"$f":"#REF!","v":{"$error":"#REF!"}},{"$f":"#REF!","v":{"$error":"#REF!"}},{"$f":"#REF!","v":{"$error":"#REF!"}},{"$f":"#REF!","v":{"$error":"#REF!"}},{"$error":"#REF!"},{"$error":"#REF!"}]
[null,{"$f":"#REF!","v":{"$error":"#REF!"}},{"$f":"#REF!","v":{"$error":"#REF!"}},{"$f":"#REF!","v":{"$error":"#REF!"}},{"$f":"#REF!","v":{"$error":"#REF!"}},{"$error":"#REF!"},{"$error":"#REF!"}]
[null,{"$f":"#REF!","v":{"$error":"#REF!"}},{"$f":"#REF!","v":{"$error":"#REF!"}},{"$f":"#REF!","v":{"$error":"#REF!"}},{"$f":"#REF!","v":{"$error":"#REF!"}},{"$error":"#REF!"},{"$error":"#REF!"}]
[null,{"$f":"#REF!","v":{"$error":"#REF!"}},{"$f":"#REF!","v":{"$error":"#REF!"}},{"$f":"#REF!","v":{"$error":"#REF!"}},{"$f":"#REF!","v":{"$error":"#REF!"}},{"$error":"#REF!"},{"$error":"#REF!"}]
[null,{"$f":"#REF!","v":{"$error":"#REF!"}},{"$f":"#REF!","v":{"$error":"#REF!"}},{"$f":"#REF!","v":{"$error":"#REF!"}},{"$f":"#REF!","v":{"$error":"#REF!"}},{"$error":"#REF!"},{"$error":"#REF!"}]
[null,{"$f":"#REF!","v":{"$error":"#REF!"}},{"$f":"#REF!","v":{"$error":"#REF!"}},{"$f":"#REF!","v":{"$error":"#REF!"}},{"$f":"#REF!","v":{"$error":"#REF!"}},{"$error":"#REF!"},{"$error":"#REF!"}]
[null,{"$f":"#REF!","v":{"$error":"#REF!"}},{"$f":"#REF!","v":{"$error":"#REF!"}},{"$f":"#REF!","v":{"$error":"#REF!"}},{"$f":"#REF!","v":{"$error":"#REF!"}},{"$error":"#REF!"},{"$error":"#REF!"}]
[null,{"$f":"#REF!","v":{"$error":"#REF!"}},{"$f":"#REF!","v":{"$error":"#REF!"}},{"$f":"#REF!","v":{"$error":"#REF!"}},{"$f":"#REF!","v":{"$error":"#REF!"}},{"$error":"#REF!"},{"$error":"#REF!"}]
[null,{"$f":"#REF!","v":{"$error":"#REF!"}},{"$f":"#REF!","v":{"$error":"#REF!"}},{"$f":"#REF!","v":{"$error":"#REF!"}},{"$f":"#REF!","v":{"$error":"#REF!"}},{"$error":"#REF!"},{"$error":"#REF!"}]
[null,{"$f":"#REF!","v":{"$error":"#REF!"}},{"$f":"#REF!","v":{"$error":"#REF!"}},{"$f":"#REF!","v":{"$error":"#REF!"}},{"$f":"#REF!","v":{"$error":"#REF!"}},{"$error":"#REF!"},{"$error":"#REF!"}]
[null,{"$f":"#REF!","v":{"$error":"#REF!"}},{"$f":"#REF!","v":{"$error":"#REF!"}},{"$f":"#REF!","v":{"$error":"#REF!"}},{"$f":"#REF!","v":{"$error":"#REF!"}},{"$error":"#REF!"},{"$error":"#REF!"}]
[null,{"$f":"#REF!","v":{"$error":"#REF!"}},{"$f":"#REF!","v":{"$error":"#REF!"}},{"$f":"#REF!","v":{"$error":"#REF!"}},{"$f":"#REF!","v":{"$error":"#REF!"}},{"$error":"#REF!"},{"$error":"#REF!"}]
[null,{"$f":"#REF!","v":{"$error":"#REF!"}},{"$f":"#REF!","v":{"$error":"#REF!"}},{"$f":"#REF!","v":{"$error":"#REF!"}},{"$f":"#REF!","v":{"$error":"#REF!"}},{"$error":"#REF!"},{"$error":"#REF!"}]
[null,{"$f":"#REF!","v":{"$error":"#REF!"}},{"$f":"#REF!","v":{"$error":"#REF!"}},{"$f":"#REF!","v":{"$error":"#REF!"}},{"$f":"#REF!","v":{"$error":"#REF!"}},{"$error":"#REF!"},{"$error":"#REF!"}]
[null,{"$f":"#REF!","v":{"$error":"#REF!"}},{"$f":"#REF!","v":{"$error":"#REF!"}},{"$f":"#REF!","v":{"$error":"#REF!"}},{"$f":"#REF!","v":{"$error":"#REF!"}},{"$error":"#REF!"},{"$error":"#REF!"}]
[null,{"$f":"#REF!","v":{"$error":"#REF!"}},{"$f":"#REF!","v":{"$error":"#REF!"}},{"$f":"#REF!","v":{"$error":"#REF!"}},{"$f":"#REF!","v":{"$error":"#REF!"}},{"$error":"#REF!"},{"$error":"#REF!"}]
[null,{"$f":"#REF!","v":{"$error":"#REF!"}},{"$f":"#REF!","v":{"$error":"#REF!"}},{"$f":"#REF!","v":{"$error":"#REF!"}},{"$f":"#REF!","v":{"$error":"#REF!"}},{"$error":"#REF!"},{"$error":"#REF!"}]
[null,{"$f":"#REF!","v":{"$error":"#REF!"}},{"$f":"#REF!","v":{"$error":"#REF!"}},{"$f":"#REF!","v":{"$error":"#REF!"}},{"$f":"#REF!","v":{"$error":"#REF!"}},{"$error":"#REF!"},{"$error":"#REF!"}]
[null,{"$f":"#REF!","v":{"$error":"#REF!"}},{"$f":"#REF!","v":{"$error":"#REF!"}},{"$f":"#REF!","v":{"$error":"#REF!"}},{"$f":"#REF!","v":{"$error":"#REF!"}},{"$error":"#REF!"},{"$error":"#REF!"}]
[null,{"$f":"#REF!","v":{"$error":"#REF!"}},{"$f":"#REF!","v":{"$error":"#REF!"}},{"$f":"#REF!","v":{"$error":"#REF!"}},{"$f":"#REF!","v":{"$error":"#REF!"}},{"$error":"#REF!"},{"$error":"#REF!"}]
[null,{"$f":"#REF!","v":{"$error":"#REF!"}},{"$f":"#REF!","v":{"$error":"#REF!"}},{"$f":"#REF!","v":{"$error":"#REF!"}},{"$f":"#REF!","v":{"$error":"#REF!"}},{"$error":"#REF!"},{"$error":"#REF!"}]
[null,{"$f":"#REF!","v":{"$error":"#REF!"}},{"$f":"#REF!","v":{"$error":"#REF!"}},{"$f":"#REF!","v":{"$error":"#REF!"}},{"$f":"#REF!","v":{"$error":"#REF!"}},{"$error":"#REF!"},{"$error":"#REF!"}]
[null,{"$f":"#REF!","v":{"$error":"#REF!"}},{"$f":"#REF!","v":{"$error":"#REF!"}},{"$f":"#REF!","v":{"$error":"#REF!"}},{"$f":"#REF!","v":{"$error":"#REF!"}},{"$error":"#REF!"},{"$error":"#REF!"}]
[null,{"$f":"#REF!","v":{"$error":"#REF!"}},{"$f":"#REF!","v":{"$error":"#REF!"}},{"$f":"#REF!","v":{"$error":"#REF!"}},{"$f":"#REF!","v":{"$error":"#REF!"}},{"$error":"#REF!"},{"$error":"#REF!"}]
[null,{"$f":"#REF!","v":{"$error":"#REF!"}},{"$f":"#REF!","v":{"$error":"#REF!"}},{"$f":"#REF!","v":{"$error":"#REF!"}},{"$f":"#REF!","v":{"$error":"#REF!"}},{"$error":"#REF!"},{"$error":"#REF!"}]
[null,{"$f":"#REF!","v":{"$error":"#REF!"}},{"$f":"#REF!","v":{"$error":"#REF!"}},{"$f":"#REF!","v":{"$error":"#REF!"}},{"$f":"#REF!","v":{"$error":"#REF!"}},{"$error":"#REF!"},{"$error":"#REF!"}]
[null,{"$f":"#REF!","v":{"$error":"#REF!"}},{"$f":"#REF!","v":{"$error":"#REF!"}},{"$f":"#REF!","v":{"$error":"#REF!"}},{"$f":"#REF!","v":{"$error":"#REF!"}},{"$f":"IF(E69>18.99,\"YÜKSEK\",IF(E69>18.99<9.99,\"ORTA\",IF(E69>9.99,\"ORTA\",IF(E69>0,\"DÜŞÜK\"))))","v":{"$error":"#REF!"}},{"$f":"IF(E69>18.99,\"1\",IF(E69>18.99<9.99,\"2\",IF(E69>9.99,\"2\",IF(E69>0,\"3\"))))","v":{"$error":"#REF!"}}]
[null,{"$f":"#REF!","v":{"$error":"#REF!"}},{"$f":"#REF!","v":{"$error":"#REF!"}},{"$f":"#REF!","v":{"$error":"#REF!"}},{"$f":"#REF!","v":{"$error":"#REF!"}},{"$error":"#REF!"},{"$error":"#REF!"}]
[null,{"$f":"#REF!","v":{"$error":"#REF!"}},{"$f":"#REF!","v":{"$error":"#REF!"}},{"$f":"#REF!","v":{"$error":"#REF!"}},{"$f":"#REF!","v":{"$error":"#REF!"}},{"$error":"#REF!"},{"$error":"#REF!"}]
[null,{"$f":"#REF!","v":{"$error":"#REF!"}},{"$f":"#REF!","v":{"$error":"#REF!"}},{"$f":"#REF!","v":{"$error":"#REF!"}},{"$f":"#REF!","v":{"$error":"#REF!"}},{"$error":"#REF!"},{"$error":"#REF!"}]
[null,{"$f":"#REF!","v":{"$error":"#REF!"}},{"$f":"#REF!","v":{"$error":"#REF!"}},{"$f":"#REF!","v":{"$error":"#REF!"}},{"$f":"#REF!","v":{"$error":"#REF!"}},{"$error":"#REF!"},{"$error":"#REF!"}]
[null,{"$f":"#REF!","v":{"$error":"#REF!"}},{"$f":"#REF!","v":{"$error":"#REF!"}},{"$f":"#REF!","v":{"$error":"#REF!"}},{"$f":"#REF!","v":{"$error":"#REF!"}},{"$error":"#REF!"},{"$error":"#REF!"}]
[null,{"$f":"#REF!","v":{"$error":"#REF!"}},{"$f":"#REF!","v":{"$error":"#REF!"}},{"$f":"#REF!","v":{"$error":"#REF!"}},{"$f":"#REF!","v":{"$error":"#REF!"}},{"$error":"#REF!"},{"$error":"#REF!"}]
[null,{"$f":"#REF!","v":{"$error":"#REF!"}},{"$f":"#REF!","v":{"$error":"#REF!"}},{"$f":"#REF!","v":{"$error":"#REF!"}},{"$f":"#REF!","v":{"$error":"#REF!"}},{"$error":"#REF!"},{"$error":"#REF!"}]
[null,{"$f":"#REF!","v":{"$error":"#REF!"}},{"$f":"#REF!","v":{"$error":"#REF!"}},{"$f":"#REF!","v":{"$error":"#REF!"}},{"$f":"#REF!","v":{"$error":"#REF!"}},{"$error":"#REF!"},{"$error":"#REF!"}]
[null,{"$f":"#REF!","v":{"$error":"#REF!"}},{"$f":"#REF!","v":{"$error":"#REF!"}},{"$f":"#REF!","v":{"$error":"#REF!"}},{"$f":"#REF!","v":{"$error":"#REF!"}},{"$error":"#REF!"},{"$error":"#REF!"}]
[null,{"$f":"#REF!","v":{"$error":"#REF!"}},{"$f":"#REF!","v":{"$error":"#REF!"}},{"$f":"#REF!","v":{"$error":"#REF!"}},{"$f":"#REF!","v":{"$error":"#REF!"}},{"$error":"#REF!"},{"$error":"#REF!"}]
[null,{"$f":"#REF!","v":{"$error":"#REF!"}},{"$f":"#REF!","v":{"$error":"#REF!"}},{"$f":"#REF!","v":{"$error":"#REF!"}},{"$f":"#REF!","v":{"$error":"#REF!"}},{"$error":"#REF!"},{"$error":"#REF!"}]
[null,{"$f":"#REF!","v":{"$error":"#REF!"}},{"$f":"#REF!","v":{"$error":"#REF!"}},{"$f":"#REF!","v":{"$error":"#REF!"}},{"$f":"#REF!","v":{"$error":"#REF!"}},{"$error":"#REF!"},{"$error":"#REF!"}]
[null,{"$f":"#REF!","v":{"$error":"#REF!"}},{"$f":"#REF!","v":{"$error":"#REF!"}},{"$f":"#REF!","v":{"$error":"#REF!"}},{"$f":"#REF!","v":{"$error":"#REF!"}},{"$error":"#REF!"},{"$error":"#REF!"}]
[null,{"$f":"#REF!","v":{"$error":"#REF!"}},{"$f":"#REF!","v":{"$error":"#REF!"}},{"$f":"#REF!","v":{"$error":"#REF!"}},{"$f":"#REF!","v":{"$error":"#REF!"}},{"$error":"#REF!"},{"$error":"#REF!"}]
[null,{"$f":"#REF!","v":{"$error":"#REF!"}},{"$f":"#REF!","v":{"$error":"#REF!"}},{"$f":"#REF!","v":{"$error":"#REF!"}},{"$f":"#REF!","v":{"$error":"#REF!"}},{"$error":"#REF!"},{"$error":"#REF!"}]
[null,{"$f":"#REF!","v":{"$error":"#REF!"}},{"$f":"#REF!","v":{"$error":"#REF!"}},{"$f":"#REF!","v":{"$error":"#REF!"}},{"$f":"#REF!","v":{"$error":"#REF!"}},{"$error":"#REF!"},{"$error":"#REF!"}]
[null,{"$f":"#REF!","v":{"$error":"#REF!"}},{"$f":"#REF!","v":{"$error":"#REF!"}},{"$f":"#REF!","v":{"$error":"#REF!"}},{"$f":"#REF!","v":{"$error":"#REF!"}},{"$error":"#REF!"},{"$error":"#REF!"}]
[null,{"$f":"#REF!","v":{"$error":"#REF!"}},{"$f":"#REF!","v":{"$error":"#REF!"}},{"$f":"#REF!","v":{"$error":"#REF!"}},{"$f":"#REF!","v":{"$error":"#REF!"}},{"$error":"#REF!"},{"$error":"#REF!"}]
[null,{"$f":"#REF!","v":{"$error":"#REF!"}},{"$f":"#REF!","v":{"$error":"#REF!"}},{"$f":"#REF!","v":{"$error":"#REF!"}},{"$f":"#REF!","v":{"$error":"#REF!"}},{"$error":"#REF!"},{"$error":"#REF!"}]
[null,{"$f":"#REF!","v":{"$error":"#REF!"}},{"$f":"#REF!","v":{"$error":"#REF!"}},{"$f":"#REF!","v":{"$error":"#REF!"}},{"$f":"#REF!","v":{"$error":"#REF!"}},{"$error":"#REF!"},{"$error":"#REF!"}]
[null,{"$f":"#REF!","v":{"$error":"#REF!"}},{"$f":"#REF!","v":{"$error":"#REF!"}},{"$f":"#REF!","v":{"$error":"#REF!"}},{"$f":"#REF!","v":{"$error":"#REF!"}},{"$error":"#REF!"},{"$error":"#REF!"}]
[null,{"$f":"#REF!","v":{"$error":"#REF!"}},{"$f":"#REF!","v":{"$error":"#REF!"}},{"$f":"#REF!","v":{"$error":"#REF!"}},{"$f":"#REF!","v":{"$error":"#REF!"}},{"$error":"#REF!"},{"$error":"#REF!"}]
[null,{"$f":"#REF!","v":{"$error":"#REF!"}},{"$f":"#REF!","v":{"$error":"#REF!"}},{"$f":"#REF!","v":{"$error":"#REF!"}},{"$f":"#REF!","v":{"$error":"#REF!"}},{"$error":"#REF!"},{"$error":"#REF!"}]
[null,{"$f":"#REF!","v":{"$error":"#REF!"}},{"$f":"#REF!","v":{"$error":"#REF!"}},{"$f":"#REF!","v":{"$error":"#REF!"}},{"$f":"#REF!","v":{"$error":"#REF!"}},{"$error":"#REF!"},{"$error":"#REF!"}]
[null,{"$f":"#REF!","v":{"$error":"#REF!"}},{"$f":"#REF!","v":{"$error":"#REF!"}},{"$f":"#REF!","v":{"$error":"#REF!"}},{"$f":"#REF!","v":{"$error":"#REF!"}},{"$error":"#REF!"},{"$error":"#REF!"}]
[null,{"$f":"#REF!","v":{"$error":"#REF!"}},{"$f":"#REF!","v":{"$error":"#REF!"}},{"$f":"#REF!","v":{"$error":"#REF!"}},{"$f":"#REF!","v":{"$error":"#REF!"}},{"$error":"#REF!"},{"$error":"#REF!"}]
[null,{"$f":"#REF!","v":{"$error":"#REF!"}},{"$f":"#REF!","v":{"$error":"#REF!"}},{"$f":"#REF!","v":{"$error":"#REF!"}},{"$f":"#REF!","v":{"$error":"#REF!"}},{"$error":"#REF!"},{"$error":"#REF!"}]
[null,{"$f":"#REF!","v":{"$error":"#REF!"}},{"$f":"#REF!","v":{"$error":"#REF!"}},{"$f":"#REF!","v":{"$error":"#REF!"}},{"$f":"#REF!","v":{"$error":"#REF!"}},{"$error":"#REF!"},{"$error":"#REF!"}]
[null,{"$f":"#REF!","v":{"$error":"#REF!"}},{"$f":"#REF!","v":{"$error":"#REF!"}},{"$f":"#REF!","v":{"$error":"#REF!"}},{"$f":"#REF!","v":{"$error":"#REF!"}},{"$error":"#REF!"},{"$error":"#REF!"}]
[null,{"$f":"#REF!","v":{"$error":"#REF!"}},{"$f":"#REF!","v":{"$error":"#REF!"}},{"$f":"#REF!","v":{"$error":"#REF!"}},{"$f":"#REF!","v":{"$error":"#REF!"}},{"$error":"#REF!"},{"$error":"#REF!"}]
[null,{"$f":"#REF!","v":{"$error":"#REF!"}},{"$f":"#REF!","v":{"$error":"#REF!"}},{"$f":"#REF!","v":{"$error":"#REF!"}},{"$f":"#REF!","v":{"$error":"#REF!"}},{"$error":"#REF!"},{"$error":"#REF!"}]
[null,{"$f":"#REF!","v":{"$error":"#REF!"}},{"$f":"#REF!","v":{"$error":"#REF!"}},{"$f":"#REF!","v":{"$error":"#REF!"}},{"$f":"#REF!","v":{"$error":"#REF!"}},{"$error":"#REF!"},{"$error":"#REF!"}]
[null,{"$f":"#REF!","v":{"$error":"#REF!"}},{"$f":"#REF!","v":{"$error":"#REF!"}},{"$f":"#REF!","v":{"$error":"#REF!"}},{"$f":"#REF!","v":{"$error":"#REF!"}},{"$error":"#REF!"},{"$error":"#REF!"}]
[null,{"$f":"#REF!","v":{"$error":"#REF!"}},{"$f":"#REF!","v":{"$error":"#REF!"}},{"$f":"#REF!","v":{"$error":"#REF!"}},{"$f":"#REF!","v":{"$error":"#REF!"}},{"$error":"#REF!"},{"$error":"#REF!"}]
[null,{"$f":"#REF!","v":{"$error":"#REF!"}},{"$f":"#REF!","v":{"$error":"#REF!"}},{"$f":"#REF!","v":{"$error":"#REF!"}},{"$f":"#REF!","v":{"$error":"#REF!"}},{"$error":"#REF!"},{"$error":"#REF!"}]
[null,{"$f":"#REF!","v":{"$error":"#REF!"}},{"$f":"#REF!","v":{"$error":"#REF!"}},{"$f":"#REF!","v":{"$error":"#REF!"}},{"$f":"#REF!","v":{"$error":"#REF!"}},{"$error":"#REF!"},{"$error":"#REF!"}]
[null,{"$f":"#REF!","v":{"$error":"#REF!"}},{"$f":"#REF!","v":{"$error":"#REF!"}},{"$f":"#REF!","v":{"$error":"#REF!"}},{"$f":"#REF!","v":{"$error":"#REF!"}},{"$error":"#REF!"},{"$error":"#REF!"}]
[null,{"$f":"#REF!","v":{"$error":"#REF!"}},{"$f":"#REF!","v":{"$error":"#REF!"}},{"$f":"#REF!","v":{"$error":"#REF!"}},{"$f":"#REF!","v":{"$error":"#REF!"}},{"$error":"#REF!"},{"$error":"#REF!"}]
[null,{"$f":"#REF!","v":{"$error":"#REF!"}},{"$f":"#REF!","v":{"$error":"#REF!"}},{"$f":"#REF!","v":{"$error":"#REF!"}},{"$f":"#REF!","v":{"$error":"#REF!"}},{"$error":"#REF!"},{"$error":"#REF!"}]
[null,{"$f":"#REF!","v":{"$error":"#REF!"}},{"$f":"#REF!","v":{"$error":"#REF!"}},{"$f":"#REF!","v":{"$error":"#REF!"}},{"$f":"#REF!","v":{"$error":"#REF!"}},{"$error":"#REF!"},{"$error":"#REF!"}]
[null,{"$f":"#REF!","v":{"$error":"#REF!"}},{"$f":"#REF!","v":{"$error":"#REF!"}},{"$f":"#REF!","v":{"$error":"#REF!"}},{"$f":"#REF!","v":{"$error":"#REF!"}},{"$error":"#REF!"},{"$error":"#REF!"}]
[null,{"$f":"#REF!","v":{"$error":"#REF!"}},{"$f":"#REF!","v":{"$error":"#REF!"}},{"$f":"#REF!","v":{"$error":"#REF!"}},{"$f":"#REF!","v":{"$error":"#REF!"}},{"$error":"#REF!"},{"$error":"#REF!"}]
[null,{"$f":"#REF!","v":{"$error":"#REF!"}},{"$f":"#REF!","v":{"$error":"#REF!"}},{"$f":"#REF!","v":{"$error":"#REF!"}},{"$f":"#REF!","v":{"$error":"#REF!"}},{"$error":"#REF!"},{"$error":"#REF!"}]
[null,{"$f":"#REF!","v":{"$error":"#REF!"}},{"$f":"#REF!","v":{"$error":"#REF!"}},{"$f":"#REF!","v":{"$error":"#REF!"}},{"$f":"#REF!","v":{"$error":"#REF!"}},{"$error":"#REF!"},{"$error":"#REF!"}]
[null,{"$f":"#REF!","v":{"$error":"#REF!"}},{"$f":"#REF!","v":{"$error":"#REF!"}},{"$f":"#REF!","v":{"$error":"#REF!"}},{"$f":"#REF!","v":{"$error":"#REF!"}},{"$error":"#REF!"},{"$error":"#REF!"}]
[null,{"$f":"#REF!","v":{"$error":"#REF!"}},{"$f":"#REF!","v":{"$error":"#REF!"}},{"$f":"#REF!","v":{"$error":"#REF!"}},{"$f":"#REF!","v":{"$error":"#REF!"}},{"$error":"#REF!"},{"$error":"#REF!"}]
[null,{"$f":"#REF!","v":{"$error":"#REF!"}},{"$f":"#REF!","v":{"$error":"#REF!"}},{"$f":"#REF!","v":{"$error":"#REF!"}},{"$f":"#REF!","v":{"$error":"#REF!"}},{"$error":"#REF!"},{"$error":"#REF!"}]
[null,{"$f":"#REF!","v":{"$error":"#REF!"}},{"$f":"#REF!","v":{"$error":"#REF!"}},{"$f":"#REF!","v":{"$error":"#REF!"}},{"$f":"#REF!","v":{"$error":"#REF!"}},{"$error":"#REF!"},{"$error":"#REF!"}]
[null,{"$f":"#REF!","v":{"$error":"#REF!"}},{"$f":"#REF!","v":{"$error":"#REF!"}},{"$f":"#REF!","v":{"$error":"#REF!"}},{"$f":"#REF!","v":{"$error":"#REF!"}},{"$error":"#REF!"},{"$error":"#REF!"}]
[null,{"$f":"#REF!","v":{"$error":"#REF!"}},{"$f":"#REF!","v":{"$error":"#REF!"}},{"$f":"#REF!","v":{"$error":"#REF!"}},{"$f":"#REF!","v":{"$error":"#REF!"}},{"$error":"#REF!"},{"$error":"#REF!"}]
[null,{"$f":"#REF!","v":{"$error":"#REF!"}},{"$f":"#REF!","v":{"$error":"#REF!"}},{"$f":"#REF!","v":{"$error":"#REF!"}},{"$f":"#REF!","v":{"$error":"#REF!"}},{"$error":"#REF!"},{"$error":"#REF!"}]
[null,{"$f":"#REF!","v":{"$error":"#REF!"}},{"$f":"#REF!","v":{"$error":"#REF!"}},{"$f":"#REF!","v":{"$error":"#REF!"}},{"$f":"#REF!","v":{"$error":"#REF!"}},{"$error":"#REF!"},{"$error":"#REF!"}]
[null,{"$f":"#REF!","v":{"$error":"#REF!"}},{"$f":"#REF!","v":{"$error":"#REF!"}},{"$f":"#REF!","v":{"$error":"#REF!"}},{"$f":"#REF!","v":{"$error":"#REF!"}},{"$error":"#REF!"},{"$error":"#REF!"}]
[null,{"$f":"#REF!","v":{"$error":"#REF!"}},{"$f":"#REF!","v":{"$error":"#REF!"}},{"$f":"#REF!","v":{"$error":"#REF!"}},{"$f":"#REF!","v":{"$error":"#REF!"}},{"$error":"#REF!"},{"$error":"#REF!"}]
[null,{"$f":"#REF!","v":{"$error":"#REF!"}},{"$f":"#REF!","v":{"$error":"#REF!"}},{"$f":"#REF!","v":{"$error":"#REF!"}},{"$f":"#REF!","v":{"$error":"#REF!"}},{"$error":"#REF!"},{"$error":"#REF!"}]
[null,{"$f":"#REF!","v":{"$error":"#REF!"}},{"$f":"#REF!","v":{"$error":"#REF!"}},{"$f":"#REF!","v":{"$error":"#REF!"}},{"$f":"#REF!","v":{"$error":"#REF!"}},{"$error":"#REF!"},{"$error":"#REF!"}]
[null,{"$f":"#REF!","v":{"$error":"#REF!"}},{"$f":"#REF!","v":{"$error":"#REF!"}},{"$f":"#REF!","v":{"$error":"#REF!"}},{"$f":"#REF!","v":{"$error":"#REF!"}},{"$error":"#REF!"},{"$error":"#REF!"}]
[null,{"$f":"#REF!","v":{"$error":"#REF!"}},{"$f":"#REF!","v":{"$error":"#REF!"}},{"$f":"#REF!","v":{"$error":"#REF!"}},{"$f":"#REF!","v":{"$error":"#REF!"}},{"$error":"#REF!"},{"$error":"#REF!"}]
[null,{"$f":"#REF!","v":{"$error":"#REF!"}},{"$f":"#REF!","v":{"$error":"#REF!"}},{"$f":"#REF!","v":{"$error":"#REF!"}},{"$f":"#REF!","v":{"$error":"#REF!"}},{"$error":"#REF!"},{"$error":"#REF!"}]
[null,{"$f":"#REF!","v":{"$error":"#REF!"}},{"$f":"#REF!","v":{"$error":"#REF!"}},{"$f":"#REF!","v":{"$error":"#REF!"}},{"$f":"#REF!","v":{"$error":"#REF!"}},{"$error":"#REF!"},{"$error":"#REF!"}]
[null,{"$f":"#REF!","v":{"$error":"#REF!"}},{"$f":"#REF!","v":{"$error":"#REF!"}},{"$f":"#REF!","v":{"$error":"#REF!"}},{"$f":"#REF!","v":{"$error":"#REF!"}},{"$error":"#REF!"},{"$error":"#REF!"}]
[null,{"$f":"#REF!","v":{"$error":"#REF!"}},{"$f":"#REF!","v":{"$error":"#REF!"}},{"$f":"#REF!","v":{"$error":"#REF!"}},{"$f":"#REF!","v":{"$error":"#REF!"}},{"$error":"#REF!"},{"$error":"#REF!"}]
[null,{"$f":"#REF!","v":{"$error":"#REF!"}},{"$f":"#REF!","v":{"$error":"#REF!"}},{"$f":"#REF!","v":{"$error":"#REF!"}},{"$f":"#REF!","v":{"$error":"#REF!"}},{"$error":"#REF!"},{"$error":"#REF!"}]
[null,{"$f":"#REF!","v":{"$error":"#REF!"}},{"$f":"#REF!","v":{"$error":"#REF!"}},{"$f":"#REF!","v":{"$error":"#REF!"}},{"$f":"#REF!","v":{"$error":"#REF!"}},{"$f":"IF(E133>18.99,\"YÜKSEK\",IF(E133>18.99<9.99,\"ORTA\",IF(E133>9.99,\"ORTA\",IF(E133>0,\"DÜŞÜK\"))))","v":{"$error":"#REF!"}},{"$f":"IF(E133>18.99,\"1\",IF(E133>18.99<9.99,\"2\",IF(E133>9.99,\"2\",IF(E133>0,\"3\"))))","v":{"$error":"#REF!"}}]
[null,{"$f":"#REF!","v":{"$error":"#REF!"}},{"$f":"#REF!","v":{"$error":"#REF!"}},{"$f":"#REF!","v":{"$error":"#REF!"}},{"$f":"#REF!","v":{"$error":"#REF!"}},{"$error":"#REF!"},{"$error":"#REF!"}]
[null,{"$f":"#REF!","v":{"$error":"#REF!"}},{"$f":"#REF!","v":{"$error":"#REF!"}},{"$f":"#REF!","v":{"$error":"#REF!"}},{"$f":"#REF!","v":{"$error":"#REF!"}},{"$error":"#REF!"},{"$error":"#REF!"}]
[null,{"$f":"#REF!","v":{"$error":"#REF!"}},{"$f":"#REF!","v":{"$error":"#REF!"}},{"$f":"#REF!","v":{"$error":"#REF!"}},{"$f":"#REF!","v":{"$error":"#REF!"}},{"$error":"#REF!"},{"$error":"#REF!"}]
[null,{"$f":"#REF!","v":{"$error":"#REF!"}},{"$f":"#REF!","v":{"$error":"#REF!"}},{"$f":"#REF!","v":{"$error":"#REF!"}},{"$f":"#REF!","v":{"$error":"#REF!"}},{"$error":"#REF!"},{"$error":"#REF!"}]
[null,{"$f":"#REF!","v":{"$error":"#REF!"}},{"$f":"#REF!","v":{"$error":"#REF!"}},{"$f":"#REF!","v":{"$error":"#REF!"}},{"$f":"#REF!","v":{"$error":"#REF!"}},{"$error":"#REF!"},{"$error":"#REF!"}]
[null,{"$f":"#REF!","v":{"$error":"#REF!"}},{"$f":"#REF!","v":{"$error":"#REF!"}},{"$f":"#REF!","v":{"$error":"#REF!"}},{"$f":"#REF!","v":{"$error":"#REF!"}},{"$error":"#REF!"},{"$error":"#REF!"}]
[null,{"$f":"#REF!","v":{"$error":"#REF!"}},{"$f":"#REF!","v":{"$error":"#REF!"}},{"$f":"#REF!","v":{"$error":"#REF!"}},{"$f":"#REF!","v":{"$error":"#REF!"}},{"$error":"#REF!"},{"$error":"#REF!"}]
[null,{"$f":"#REF!","v":{"$error":"#REF!"}},{"$f":"#REF!","v":{"$error":"#REF!"}},{"$f":"#REF!","v":{"$error":"#REF!"}},{"$f":"#REF!","v":{"$error":"#REF!"}},{"$error":"#REF!"},{"$error":"#REF!"}]
[null,{"$f":"#REF!","v":{"$error":"#REF!"}},{"$f":"#REF!","v":{"$error":"#REF!"}},{"$f":"#REF!","v":{"$error":"#REF!"}},{"$f":"#REF!","v":{"$error":"#REF!"}},{"$error":"#REF!"},{"$error":"#REF!"}]
[null,{"$f":"#REF!","v":{"$error":"#REF!"}},{"$f":"#REF!","v":{"$error":"#REF!"}},{"$f":"#REF!","v":{"$error":"#REF!"}},{"$f":"#REF!","v":{"$error":"#REF!"}},{"$error":"#REF!"},{"$error":"#REF!"}]
[null,{"$f":"#REF!","v":{"$error":"#REF!"}},{"$f":"#REF!","v":{"$error":"#REF!"}},{"$f":"#REF!","v":{"$error":"#REF!"}},{"$f":"#REF!","v":{"$error":"#REF!"}},{"$error":"#REF!"},{"$error":"#REF!"}]
[null,{"$f":"#REF!","v":{"$error":"#REF!"}},{"$f":"#REF!","v":{"$error":"#REF!"}},{"$f":"#REF!","v":{"$error":"#REF!"}},{"$f":"#REF!","v":{"$error":"#REF!"}},{"$error":"#REF!"},{"$error":"#REF!"}]
[null,{"$f":"#REF!","v":{"$error":"#REF!"}},{"$f":"#REF!","v":{"$error":"#REF!"}},{"$f":"#REF!","v":{"$error":"#REF!"}},{"$f":"#REF!","v":{"$error":"#REF!"}},{"$error":"#REF!"},{"$error":"#REF!"}]
[null,{"$f":"#REF!","v":{"$error":"#REF!"}},{"$f":"#REF!","v":{"$error":"#REF!"}},{"$f":"#REF!","v":{"$error":"#REF!"}},{"$f":"#REF!","v":{"$error":"#REF!"}},{"$error":"#REF!"},{"$error":"#REF!"}]
[null,{"$f":"#REF!","v":{"$error":"#REF!"}},{"$f":"#REF!","v":{"$error":"#REF!"}},{"$f":"#REF!","v":{"$error":"#REF!"}},{"$f":"#REF!","v":{"$error":"#REF!"}},{"$error":"#REF!"},{"$error":"#REF!"}]
[null,{"$f":"#REF!","v":{"$error":"#REF!"}},{"$f":"#REF!","v":{"$error":"#REF!"}},{"$f":"#REF!","v":{"$error":"#REF!"}},{"$f":"#REF!","v":{"$error":"#REF!"}},{"$error":"#REF!"},{"$error":"#REF!"}]
[null,{"$f":"#REF!","v":{"$error":"#REF!"}},{"$f":"#REF!","v":{"$error":"#REF!"}},{"$f":"#REF!","v":{"$error":"#REF!"}},{"$f":"#REF!","v":{"$error":"#REF!"}},{"$error":"#REF!"},{"$error":"#REF!"}]
[null,{"$f":"#REF!","v":{"$error":"#REF!"}},{"$f":"#REF!","v":{"$error":"#REF!"}},{"$f":"#REF!","v":{"$error":"#REF!"}},{"$f":"#REF!","v":{"$error":"#REF!"}},{"$error":"#REF!"},{"$error":"#REF!"}]
[null,{"$f":"#REF!","v":{"$error":"#REF!"}},{"$f":"#REF!","v":{"$error":"#REF!"}},{"$f":"#REF!","v":{"$error":"#REF!"}},{"$f":"#REF!","v":{"$error":"#REF!"}},{"$error":"#REF!"},{"$error":"#REF!"}]
[null,{"$f":"#REF!","v":{"$error":"#REF!"}},{"$f":"#REF!","v":{"$error":"#REF!"}},{"$f":"#REF!","v":{"$error":"#REF!"}},{"$f":"#REF!","v":{"$error":"#REF!"}},{"$error":"#REF!"},{"$error":"#REF!"}]
[null,{"$f":"#REF!","v":{"$error":"#REF!"}},{"$f":"#REF!","v":{"$error":"#REF!"}},{"$f":"#REF!","v":{"$error":"#REF!"}},{"$f":"#REF!","v":{"$error":"#REF!"}},{"$error":"#REF!"},{"$error":"#REF!"}]
[null,{"$f":"#REF!","v":{"$error":"#REF!"}},{"$f":"#REF!","v":{"$error":"#REF!"}},{"$f":"#REF!","v":{"$error":"#REF!"}},{"$f":"#REF!","v":{"$error":"#REF!"}},{"$error":"#REF!"},{"$error":"#REF!"}]
[null,{"$f":"#REF!","v":{"$error":"#REF!"}},{"$f":"#REF!","v":{"$error":"#REF!"}},{"$f":"#REF!","v":{"$error":"#REF!"}},{"$f":"#REF!","v":{"$error":"#REF!"}},{"$error":"#REF!"},{"$error":"#REF!"}]
[null,{"$f":"#REF!","v":{"$error":"#REF!"}},{"$f":"#REF!","v":{"$error":"#REF!"}},{"$f":"#REF!","v":{"$error":"#REF!"}},{"$f":"#REF!","v":{"$error":"#REF!"}},{"$error":"#REF!"},{"$error":"#REF!"}]
[null,{"$f":"#REF!","v":{"$error":"#REF!"}},{"$f":"#REF!","v":{"$error":"#REF!"}},{"$f":"#REF!","v":{"$error":"#REF!"}},{"$f":"#REF!","v":{"$error":"#REF!"}},{"$error":"#REF!"},{"$error":"#REF!"}]
[null,{"$f":"#REF!","v":{"$error":"#REF!"}},{"$f":"#REF!","v":{"$error":"#REF!"}},{"$f":"#REF!","v":{"$error":"#REF!"}},{"$f":"#REF!","v":{"$error":"#REF!"}},{"$error":"#REF!"},{"$error":"#REF!"}]
[null,{"$f":"#REF!","v":{"$error":"#REF!"}},{"$f":"#REF!","v":{"$error":"#REF!"}},{"$f":"#REF!","v":{"$error":"#REF!"}},{"$f":"#REF!","v":{"$error":"#REF!"}},{"$error":"#REF!"},{"$error":"#REF!"}]
[null,{"$f":"#REF!","v":{"$error":"#REF!"}},{"$f":"#REF!","v":{"$error":"#REF!"}},{"$f":"#REF!","v":{"$error":"#REF!"}},{"$f":"#REF!","v":{"$error":"#REF!"}},{"$error":"#REF!"},{"$error":"#REF!"}]
[null,{"$f":"#REF!","v":{"$error":"#REF!"}},{"$f":"#REF!","v":{"$error":"#REF!"}},{"$f":"#REF!","v":{"$error":"#REF!"}},{"$f":"#REF!","v":{"$error":"#REF!"}},{"$error":"#REF!"},{"$error":"#REF!"}]
[null,{"$f":"#REF!","v":{"$error":"#REF!"}},{"$f":"#REF!","v":{"$error":"#REF!"}},{"$f":"#REF!","v":{"$error":"#REF!"}},{"$f":"#REF!","v":{"$error":"#REF!"}},{"$error":"#REF!"},{"$error":"#REF!"}]
[null,{"$f":"#REF!","v":{"$error":"#REF!"}},{"$f":"#REF!","v":{"$error":"#REF!"}},{"$f":"#REF!","v":{"$error":"#REF!"}},{"$f":"#REF!","v":{"$error":"#REF!"}},{"$error":"#REF!"},{"$error":"#REF!"}]
[null,{"$f":"#REF!","v":{"$error":"#REF!"}},{"$f":"#REF!","v":{"$error":"#REF!"}},{"$f":"#REF!","v":{"$error":"#REF!"}},{"$f":"#REF!","v":{"$error":"#REF!"}},{"$error":"#REF!"},{"$error":"#REF!"}]
[null,{"$f":"#REF!","v":{"$error":"#REF!"}},{"$f":"#REF!","v":{"$error":"#REF!"}},{"$f":"#REF!","v":{"$error":"#REF!"}},{"$f":"#REF!","v":{"$error":"#REF!"}},{"$error":"#REF!"},{"$error":"#REF!"}]
[null,{"$f":"#REF!","v":{"$error":"#REF!"}},{"$f":"#REF!","v":{"$error":"#REF!"}},{"$f":"#REF!","v":{"$error":"#REF!"}},{"$f":"#REF!","v":{"$error":"#REF!"}},{"$error":"#REF!"},{"$error":"#REF!"}]
[null,{"$f":"#REF!","v":{"$error":"#REF!"}},{"$f":"#REF!","v":{"$error":"#REF!"}},{"$f":"#REF!","v":{"$error":"#REF!"}},{"$f":"#REF!","v":{"$error":"#REF!"}},{"$error":"#REF!"},{"$error":"#REF!"}]
[null,{"$f":"#REF!","v":{"$error":"#REF!"}},{"$f":"#REF!","v":{"$error":"#REF!"}},{"$f":"#REF!","v":{"$error":"#REF!"}},{"$f":"#REF!","v":{"$error":"#REF!"}},{"$error":"#REF!"},{"$error":"#REF!"}]
[null,{"$f":"#REF!","v":{"$error":"#REF!"}},{"$f":"#REF!","v":{"$error":"#REF!"}},{"$f":"#REF!","v":{"$error":"#REF!"}},{"$f":"#REF!","v":{"$error":"#REF!"}},{"$error":"#REF!"},{"$error":"#REF!"}]
[null,{"$f":"#REF!","v":{"$error":"#REF!"}},{"$f":"#REF!","v":{"$error":"#REF!"}},{"$f":"#REF!","v":{"$error":"#REF!"}},{"$f":"#REF!","v":{"$error":"#REF!"}},{"$error":"#REF!"},{"$error":"#REF!"}]
[null,{"$f":"#REF!","v":{"$error":"#REF!"}},{"$f":"#REF!","v":{"$error":"#REF!"}},{"$f":"#REF!","v":{"$error":"#REF!"}},{"$f":"#REF!","v":{"$error":"#REF!"}},{"$error":"#REF!"},{"$error":"#REF!"}]
[null,{"$f":"#REF!","v":{"$error":"#REF!"}},{"$f":"#REF!","v":{"$error":"#REF!"}},{"$f":"#REF!","v":{"$error":"#REF!"}},{"$f":"#REF!","v":{"$error":"#REF!"}},{"$error":"#REF!"},{"$error":"#REF!"}]
[null,{"$f":"#REF!","v":{"$error":"#REF!"}},{"$f":"#REF!","v":{"$error":"#REF!"}},{"$f":"#REF!","v":{"$error":"#REF!"}},{"$f":"#REF!","v":{"$error":"#REF!"}},{"$error":"#REF!"},{"$error":"#REF!"}]
[null,{"$f":"#REF!","v":{"$error":"#REF!"}},{"$f":"#REF!","v":{"$error":"#REF!"}},{"$f":"#REF!","v":{"$error":"#REF!"}},{"$f":"#REF!","v":{"$error":"#REF!"}},{"$error":"#REF!"},{"$error":"#REF!"}]
[null,{"$f":"#REF!","v":{"$error":"#REF!"}},{"$f":"#REF!","v":{"$error":"#REF!"}},{"$f":"#REF!","v":{"$error":"#REF!"}},{"$f":"#REF!","v":{"$error":"#REF!"}},{"$error":"#REF!"},{"$error":"#REF!"}]
[null,{"$f":"#REF!","v":{"$error":"#REF!"}},{"$f":"#REF!","v":{"$error":"#REF!"}},{"$f":"#REF!","v":{"$error":"#REF!"}},{"$f":"#REF!","v":{"$error":"#REF!"}},{"$error":"#REF!"},{"$error":"#REF!"}]
[null,{"$f":"#REF!","v":{"$error":"#REF!"}},{"$f":"#REF!","v":{"$error":"#REF!"}},{"$f":"#REF!","v":{"$error":"#REF!"}},{"$f":"#REF!","v":{"$error":"#REF!"}},{"$error":"#REF!"},{"$error":"#REF!"}]
[null,{"$f":"#REF!","v":{"$error":"#REF!"}},{"$f":"#REF!","v":{"$error":"#REF!"}},{"$f":"#REF!","v":{"$error":"#REF!"}},{"$f":"#REF!","v":{"$error":"#REF!"}},{"$error":"#REF!"},{"$error":"#REF!"}]
[null,{"$f":"#REF!","v":{"$error":"#REF!"}},{"$f":"#REF!","v":{"$error":"#REF!"}},{"$f":"#REF!","v":{"$error":"#REF!"}},{"$f":"#REF!","v":{"$error":"#REF!"}},{"$error":"#REF!"},{"$error":"#REF!"}]
[null,{"$f":"#REF!","v":{"$error":"#REF!"}},{"$f":"#REF!","v":{"$error":"#REF!"}},{"$f":"#REF!","v":{"$error":"#REF!"}},{"$f":"#REF!","v":{"$error":"#REF!"}},{"$error":"#REF!"},{"$error":"#REF!"}]
[null,{"$f":"#REF!","v":{"$error":"#REF!"}},{"$f":"#REF!","v":{"$error":"#REF!"}},{"$f":"#REF!","v":{"$error":"#REF!"}},{"$f":"#REF!","v":{"$error":"#REF!"}},{"$error":"#REF!"},{"$error":"#REF!"}]
[null,{"$f":"#REF!","v":{"$error":"#REF!"}},{"$f":"#REF!","v":{"$error":"#REF!"}},{"$f":"#REF!","v":{"$error":"#REF!"}},{"$f":"#REF!","v":{"$error":"#REF!"}},{"$error":"#REF!"},{"$error":"#REF!"}]
[null,{"$f":"#REF!","v":{"$error":"#REF!"}},{"$f":"#REF!","v":{"$error":"#REF!"}},{"$f":"#REF!","v":{"$error":"#REF!"}},{"$f":"#REF!","v":{"$error":"#REF!"}},{"$error":"#REF!"},{"$error":"#REF!"}]
[null,{"$f":"#REF!","v":{"$error":"#REF!"}},{"$f":"#REF!","v":{"$error":"#REF!"}},{"$f":"#REF!","v":{"$error":"#REF!"}},{"$f":"#REF!","v":{"$error":"#REF!"}},{"$error":"#REF!"},{"$error":"#REF!"}]
[null,{"$f":"#REF!","v":{"$error":"#REF!"}},{"$f":"#REF!","v":{"$error":"#REF!"}},{"$f":"#REF!","v":{"$error":"#REF!"}},{"$f":"#REF!","v":{"$error":"#REF!"}},{"$error":"#REF!"},{"$error":"#REF!"}]
[null,{"$f":"#REF!","v":{"$error":"#REF!"}},{"$f":"#REF!","v":{"$error":"#REF!"}},{"$f":"#REF!","v":{"$error":"#REF!"}},{"$f":"#REF!","v":{"$error":"#REF!"}},{"$error":"#REF!"},{"$error":"#REF!"}]
[null,{"$f":"#REF!","v":{"$error":"#REF!"}},{"$f":"#REF!","v":{"$error":"#REF!"}},{"$f":"#REF!","v":{"$error":"#REF!"}},{"$f":"#REF!","v":{"$error":"#REF!"}},{"$error":"#REF!"},{"$error":"#REF!"}]

{"sheet":"Sayfa2","index":12,"n_rows":188,"n_cols":7,"rows_kept":188,"cut":false,"hidden":true,"merged":[]}
[]
[]
[null,"ÜST SÜREÇLER","DENETİM ALANLARI (DENETİM EVRENİ)","DENETLENECEK BİRİMLER","RİSK PUANI","PUAN SONUCU","ÖNCELİK"]
[null,null,{"$f":"#REF!","v":{"$error":"#REF!"}}]
[null,{"$f":"#REF!","v":{"$error":"#REF!"}},{"$f":"#REF!","v":{"$error":"#REF!"}},{"$f":"#REF!","v":{"$error":"#REF!"}},{"$f":"#REF!","v":{"$error":"#REF!"}},{"$f":"IF(E5>18.99,\"YÜKSEK\",IF(E5>18.99<9.99,\"ORTA\",IF(E5>9.99,\"ORTA\",IF(E5>0,\"DÜŞÜK\"))))","v":{"$error":"#REF!"}},{"$f":"IF(E5>18.99,\"1\",IF(E5>18.99<9.99,\"2\",IF(E5>9.99,\"2\",IF(E5>0,\"3\"))))","v":{"$error":"#REF!"}}]
[null,{"$f":"#REF!","v":{"$error":"#REF!"}},{"$f":"#REF!","v":{"$error":"#REF!"}},{"$f":"#REF!","v":{"$error":"#REF!"}},{"$f":"#REF!","v":{"$error":"#REF!"}},{"$error":"#REF!"},{"$error":"#REF!"}]
[null,{"$f":"#REF!","v":{"$error":"#REF!"}},{"$f":"#REF!","v":{"$error":"#REF!"}},{"$f":"#REF!","v":{"$error":"#REF!"}},{"$f":"#REF!","v":{"$error":"#REF!"}},{"$error":"#REF!"},{"$error":"#REF!"}]
[null,{"$f":"#REF!","v":{"$error":"#REF!"}},{"$f":"#REF!","v":{"$error":"#REF!"}},{"$f":"#REF!","v":{"$error":"#REF!"}},{"$f":"#REF!","v":{"$error":"#REF!"}},{"$error":"#REF!"},{"$error":"#REF!"}]
[null,{"$f":"#REF!","v":{"$error":"#REF!"}},{"$f":"#REF!","v":{"$error":"#REF!"}},{"$f":"#REF!","v":{"$error":"#REF!"}},{"$f":"#REF!","v":{"$error":"#REF!"}},{"$error":"#REF!"},{"$error":"#REF!"}]
[null,null,"Öğrenci ve personel değişim programları süreci"]
[null,{"$f":"#REF!","v":{"$error":"#REF!"}},{"$f":"#REF!","v":{"$error":"#REF!"}},{"$f":"#REF!","v":{"$error":"#REF!"}},{"$f":"#REF!","v":{"$error":"#REF!"}},{"$error":"#REF!"},{"$error":"#REF!"}]
[null,{"$f":"#REF!","v":{"$error":"#REF!"}},{"$f":"#REF!","v":{"$error":"#REF!"}},{"$f":"#REF!","v":{"$error":"#REF!"}},{"$f":"#REF!","v":{"$error":"#REF!"}},{"$error":"#REF!"},{"$error":"#REF!"}]
[null,{"$f":"#REF!","v":{"$error":"#REF!"}},{"$f":"#REF!","v":{"$error":"#REF!"}},{"$f":"#REF!","v":{"$error":"#REF!"}},{"$f":"#REF!","v":{"$error":"#REF!"}},{"$error":"#REF!"},{"$error":"#REF!"}]
[null,{"$f":"#REF!","v":{"$error":"#REF!"}},{"$f":"#REF!","v":{"$error":"#REF!"}},{"$f":"#REF!","v":{"$error":"#REF!"}},{"$f":"#REF!","v":{"$error":"#REF!"}},{"$error":"#REF!"},{"$error":"#REF!"}]
[null,{"$f":"#REF!","v":{"$error":"#REF!"}},{"$f":"#REF!","v":{"$error":"#REF!"}},{"$f":"#REF!","v":{"$error":"#REF!"}}]
[null,{"$f":"#REF!","v":{"$error":"#REF!"}},{"$f":"#REF!","v":{"$error":"#REF!"}},{"$f":"#REF!","v":{"$error":"#REF!"}},{"$f":"#REF!","v":{"$error":"#REF!"}},{"$error":"#REF!"},{"$error":"#REF!"}]
[null,{"$f":"#REF!","v":{"$error":"#REF!"}},{"$f":"#REF!","v":{"$error":"#REF!"}},{"$f":"#REF!","v":{"$error":"#REF!"}},{"$f":"#REF!","v":{"$error":"#REF!"}},{"$error":"#REF!"},{"$error":"#REF!"}]
[null,{"$f":"#REF!","v":{"$error":"#REF!"}},{"$f":"#REF!","v":{"$error":"#REF!"}},{"$f":"#REF!","v":{"$error":"#REF!"}},null,null,false]
[null,{"$f":"#REF!","v":{"$error":"#REF!"}},{"$f":"#REF!","v":{"$error":"#REF!"}},{"$f":"#REF!","v":{"$error":"#REF!"}},{"$f":"#REF!","v":{"$error":"#REF!"}},{"$error":"#REF!"},{"$error":"#REF!"}]
[null,{"$f":"#REF!","v":{"$error":"#REF!"}},{"$f":"#REF!","v":{"$error":"#REF!"}},{"$f":"#REF!","v":{"$error":"#REF!"}},{"$f":"#REF!","v":{"$error":"#REF!"}},{"$error":"#REF!"},{"$error":"#REF!"}]
[null,{"$f":"#REF!","v":{"$error":"#REF!"}},{"$f":"#REF!","v":{"$error":"#REF!"}},{"$f":"#REF!","v":{"$error":"#REF!"}},{"$f":"#REF!","v":{"$error":"#REF!"}},{"$error":"#REF!"},{"$error":"#REF!"}]
[null,{"$f":"#REF!","v":{"$error":"#REF!"}},{"$f":"#REF!","v":{"$error":"#REF!"}},{"$f":"#REF!","v":{"$error":"#REF!"}},{"$f":"#REF!","v":{"$error":"#REF!"}},{"$error":"#REF!"},{"$error":"#REF!"}]
[null,{"$f":"#REF!","v":{"$error":"#REF!"}},{"$f":"#REF!","v":{"$error":"#REF!"}},{"$f":"#REF!","v":{"$error":"#REF!"}},{"$f":"#REF!","v":{"$error":"#REF!"}},{"$error":"#REF!"},{"$error":"#REF!"}]
[null,{"$f":"#REF!","v":{"$error":"#REF!"}},{"$f":"#REF!","v":{"$error":"#REF!"}},{"$f":"#REF!","v":{"$error":"#REF!"}},{"$f":"#REF!","v":{"$error":"#REF!"}},{"$error":"#REF!"},{"$error":"#REF!"}]
[null,{"$f":"#REF!","v":{"$error":"#REF!"}},{"$f":"#REF!","v":{"$error":"#REF!"}},{"$f":"#REF!","v":{"$error":"#REF!"}},{"$f":"#REF!","v":{"$error":"#REF!"}},{"$error":"#REF!"},{"$error":"#REF!"}]
[null,{"$f":"#REF!","v":{"$error":"#REF!"}},{"$f":"#REF!","v":{"$error":"#REF!"}},{"$f":"#REF!","v":{"$error":"#REF!"}},{"$f":"#REF!","v":{"$error":"#REF!"}},{"$error":"#REF!"},{"$error":"#REF!"}]
[null,{"$f":"#REF!","v":{"$error":"#REF!"}},{"$f":"#REF!","v":{"$error":"#REF!"}},{"$f":"#REF!","v":{"$error":"#REF!"}},null,null,false]
[null,{"$f":"#REF!","v":{"$error":"#REF!"}},{"$f":"#REF!","v":{"$error":"#REF!"}},{"$f":"#REF!","v":{"$error":"#REF!"}},{"$f":"#REF!","v":{"$error":"#REF!"}},{"$error":"#REF!"},{"$error":"#REF!"}]
[null,{"$f":"#REF!","v":{"$error":"#REF!"}},{"$f":"#REF!","v":{"$error":"#REF!"}},{"$f":"#REF!","v":{"$error":"#REF!"}},{"$f":"#REF!","v":{"$error":"#REF!"}},{"$error":"#REF!"},{"$error":"#REF!"}]
[null,{"$f":"#REF!","v":{"$error":"#REF!"}},{"$f":"#REF!","v":{"$error":"#REF!"}},{"$f":"#REF!","v":{"$error":"#REF!"}},{"$f":"#REF!","v":{"$error":"#REF!"}},{"$error":"#REF!"},{"$error":"#REF!"}]
[null,{"$f":"#REF!","v":{"$error":"#REF!"}},{"$f":"#REF!","v":{"$error":"#REF!"}},{"$f":"#REF!","v":{"$error":"#REF!"}},{"$f":"#REF!","v":{"$error":"#REF!"}},{"$error":"#REF!"},{"$error":"#REF!"}]
[null,{"$f":"#REF!","v":{"$error":"#REF!"}},{"$f":"#REF!","v":{"$error":"#REF!"}},{"$f":"#REF!","v":{"$error":"#REF!"}},{"$f":"#REF!","v":{"$error":"#REF!"}},{"$error":"#REF!"},{"$error":"#REF!"}]
[null,{"$f":"#REF!","v":{"$error":"#REF!"}},{"$f":"#REF!","v":{"$error":"#REF!"}},{"$f":"#REF!","v":{"$error":"#REF!"}},{"$f":"#REF!","v":{"$error":"#REF!"}},{"$error":"#REF!"},{"$error":"#REF!"}]
[null,{"$f":"#REF!","v":{"$error":"#REF!"}},{"$f":"#REF!","v":{"$error":"#REF!"}},{"$f":"#REF!","v":{"$error":"#REF!"}},{"$f":"#REF!","v":{"$error":"#REF!"}},{"$error":"#REF!"},{"$error":"#REF!"}]
[null,{"$f":"#REF!","v":{"$error":"#REF!"}},{"$f":"#REF!","v":{"$error":"#REF!"}},{"$f":"#REF!","v":{"$error":"#REF!"}},{"$f":"#REF!","v":{"$error":"#REF!"}},{"$error":"#REF!"},{"$error":"#REF!"}]
[null,{"$f":"#REF!","v":{"$error":"#REF!"}},{"$f":"#REF!","v":{"$error":"#REF!"}},{"$f":"#REF!","v":{"$error":"#REF!"}},{"$f":"#REF!","v":{"$error":"#REF!"}},{"$error":"#REF!"},{"$error":"#REF!"}]
[null,{"$f":"#REF!","v":{"$error":"#REF!"}},{"$f":"#REF!","v":{"$error":"#REF!"}},{"$f":"#REF!","v":{"$error":"#REF!"}},{"$f":"#REF!","v":{"$error":"#REF!"}},{"$error":"#REF!"},{"$error":"#REF!"}]
[null,{"$f":"#REF!","v":{"$error":"#REF!"}},{"$f":"#REF!","v":{"$error":"#REF!"}},{"$f":"#REF!","v":{"$error":"#REF!"}},{"$f":"#REF!","v":{"$error":"#REF!"}},{"$error":"#REF!"},{"$error":"#REF!"}]
[null,{"$f":"#REF!","v":{"$error":"#REF!"}},{"$f":"#REF!","v":{"$error":"#REF!"}},{"$f":"#REF!","v":{"$error":"#REF!"}},{"$f":"#REF!","v":{"$error":"#REF!"}},{"$error":"#REF!"},{"$error":"#REF!"}]
[null,{"$f":"#REF!","v":{"$error":"#REF!"}},{"$f":"#REF!","v":{"$error":"#REF!"}},{"$f":"#REF!","v":{"$error":"#REF!"}},{"$f":"#REF!","v":{"$error":"#REF!"}},{"$error":"#REF!"},{"$error":"#REF!"}]
[null,{"$f":"#REF!","v":{"$error":"#REF!"}},{"$f":"#REF!","v":{"$error":"#REF!"}},{"$f":"#REF!","v":{"$error":"#REF!"}},{"$f":"#REF!","v":{"$error":"#REF!"}},{"$error":"#REF!"},{"$error":"#REF!"}]
[null,{"$f":"#REF!","v":{"$error":"#REF!"}},{"$f":"#REF!","v":{"$error":"#REF!"}},{"$f":"#REF!","v":{"$error":"#REF!"}},{"$f":"#REF!","v":{"$error":"#REF!"}},{"$error":"#REF!"},{"$error":"#REF!"}]
[null,{"$f":"#REF!","v":{"$error":"#REF!"}},{"$f":"#REF!","v":{"$error":"#REF!"}},{"$f":"#REF!","v":{"$error":"#REF!"}},{"$f":"#REF!","v":{"$error":"#REF!"}},{"$error":"#REF!"},{"$error":"#REF!"}]
[null,{"$f":"#REF!","v":{"$error":"#REF!"}},{"$f":"#REF!","v":{"$error":"#REF!"}},{"$f":"#REF!","v":{"$error":"#REF!"}},{"$f":"#REF!","v":{"$error":"#REF!"}},{"$error":"#REF!"},{"$error":"#REF!"}]
[null,{"$f":"#REF!","v":{"$error":"#REF!"}},{"$f":"#REF!","v":{"$error":"#REF!"}},{"$f":"#REF!","v":{"$error":"#REF!"}},{"$f":"#REF!","v":{"$error":"#REF!"}},{"$error":"#REF!"},{"$error":"#REF!"}]
[null,{"$f":"#REF!","v":{"$error":"#REF!"}},{"$f":"#REF!","v":{"$error":"#REF!"}},{"$f":"#REF!","v":{"$error":"#REF!"}},{"$f":"#REF!","v":{"$error":"#REF!"}},{"$error":"#REF!"},{"$error":"#REF!"}]
[null,{"$f":"#REF!","v":{"$error":"#REF!"}},{"$f":"#REF!","v":{"$error":"#REF!"}},{"$f":"#REF!","v":{"$error":"#REF!"}},{"$f":"#REF!","v":{"$error":"#REF!"}},{"$error":"#REF!"},{"$error":"#REF!"}]
[null,{"$f":"#REF!","v":{"$error":"#REF!"}},{"$f":"#REF!","v":{"$error":"#REF!"}},{"$f":"#REF!","v":{"$error":"#REF!"}},{"$f":"#REF!","v":{"$error":"#REF!"}},{"$error":"#REF!"},{"$error":"#REF!"}]
[null,{"$f":"#REF!","v":{"$error":"#REF!"}},{"$f":"#REF!","v":{"$error":"#REF!"}},{"$f":"#REF!","v":{"$error":"#REF!"}},{"$f":"#REF!","v":{"$error":"#REF!"}},{"$error":"#REF!"},{"$error":"#REF!"}]
[null,{"$f":"#REF!","v":{"$error":"#REF!"}},{"$f":"#REF!","v":{"$error":"#REF!"}},{"$f":"#REF!","v":{"$error":"#REF!"}},{"$f":"#REF!","v":{"$error":"#REF!"}},{"$error":"#REF!"},{"$error":"#REF!"}]
[null,{"$f":"#REF!","v":{"$error":"#REF!"}},{"$f":"#REF!","v":{"$error":"#REF!"}},{"$f":"#REF!","v":{"$error":"#REF!"}},{"$f":"#REF!","v":{"$error":"#REF!"}},{"$error":"#REF!"},{"$error":"#REF!"}]
[null,{"$f":"#REF!","v":{"$error":"#REF!"}},{"$f":"#REF!","v":{"$error":"#REF!"}},{"$f":"#REF!","v":{"$error":"#REF!"}},{"$f":"#REF!","v":{"$error":"#REF!"}},{"$error":"#REF!"},{"$error":"#REF!"}]
[null,{"$f":"#REF!","v":{"$error":"#REF!"}},{"$f":"#REF!","v":{"$error":"#REF!"}},{"$f":"#REF!","v":{"$error":"#REF!"}},{"$f":"#REF!","v":{"$error":"#REF!"}},{"$error":"#REF!"},{"$error":"#REF!"}]
[null,{"$f":"#REF!","v":{"$error":"#REF!"}},{"$f":"#REF!","v":{"$error":"#REF!"}},{"$f":"#REF!","v":{"$error":"#REF!"}},{"$f":"#REF!","v":{"$error":"#REF!"}},{"$error":"#REF!"},{"$error":"#REF!"}]
[null,{"$f":"#REF!","v":{"$error":"#REF!"}},{"$f":"#REF!","v":{"$error":"#REF!"}},{"$f":"#REF!","v":{"$error":"#REF!"}},{"$f":"#REF!","v":{"$error":"#REF!"}},{"$error":"#REF!"},{"$error":"#REF!"}]
[null,{"$f":"#REF!","v":{"$error":"#REF!"}},{"$f":"#REF!","v":{"$error":"#REF!"}},{"$f":"#REF!","v":{"$error":"#REF!"}},{"$f":"#REF!","v":{"$error":"#REF!"}},{"$error":"#REF!"},{"$error":"#REF!"}]
[null,{"$f":"#REF!","v":{"$error":"#REF!"}},{"$f":"#REF!","v":{"$error":"#REF!"}},{"$f":"#REF!","v":{"$error":"#REF!"}},{"$f":"#REF!","v":{"$error":"#REF!"}},{"$error":"#REF!"},{"$error":"#REF!"}]
[null,{"$f":"#REF!","v":{"$error":"#REF!"}},{"$f":"#REF!","v":{"$error":"#REF!"}},{"$f":"#REF!","v":{"$error":"#REF!"}},{"$f":"#REF!","v":{"$error":"#REF!"}},{"$error":"#REF!"},{"$error":"#REF!"}]
[null,{"$f":"#REF!","v":{"$error":"#REF!"}},{"$f":"#REF!","v":{"$error":"#REF!"}},{"$f":"#REF!","v":{"$error":"#REF!"}},{"$f":"#REF!","v":{"$error":"#REF!"}},{"$error":"#REF!"},{"$error":"#REF!"}]
[null,{"$f":"#REF!","v":{"$error":"#REF!"}},{"$f":"#REF!","v":{"$error":"#REF!"}},{"$f":"#REF!","v":{"$error":"#REF!"}},{"$f":"#REF!","v":{"$error":"#REF!"}},{"$error":"#REF!"},{"$error":"#REF!"}]
[null,{"$f":"#REF!","v":{"$error":"#REF!"}},{"$f":"#REF!","v":{"$error":"#REF!"}},{"$f":"#REF!","v":{"$error":"#REF!"}},{"$f":"#REF!","v":{"$error":"#REF!"}},{"$error":"#REF!"},{"$error":"#REF!"}]
[null,{"$f":"#REF!","v":{"$error":"#REF!"}},{"$f":"#REF!","v":{"$error":"#REF!"}},{"$f":"#REF!","v":{"$error":"#REF!"}},{"$f":"#REF!","v":{"$error":"#REF!"}},{"$error":"#REF!"},{"$error":"#REF!"}]
[null,{"$f":"#REF!","v":{"$error":"#REF!"}},{"$f":"#REF!","v":{"$error":"#REF!"}},{"$f":"#REF!","v":{"$error":"#REF!"}},{"$f":"#REF!","v":{"$error":"#REF!"}},{"$error":"#REF!"},{"$error":"#REF!"}]
[null,{"$f":"#REF!","v":{"$error":"#REF!"}},{"$f":"#REF!","v":{"$error":"#REF!"}},{"$f":"#REF!","v":{"$error":"#REF!"}},{"$f":"#REF!","v":{"$error":"#REF!"}},{"$error":"#REF!"},{"$error":"#REF!"}]
[null,{"$f":"#REF!","v":{"$error":"#REF!"}},{"$f":"#REF!","v":{"$error":"#REF!"}},{"$f":"#REF!","v":{"$error":"#REF!"}},{"$f":"#REF!","v":{"$error":"#REF!"}},{"$error":"#REF!"},{"$error":"#REF!"}]
[null,{"$f":"#REF!","v":{"$error":"#REF!"}},{"$f":"#REF!","v":{"$error":"#REF!"}},{"$f":"#REF!","v":{"$error":"#REF!"}},{"$f":"#REF!","v":{"$error":"#REF!"}},{"$error":"#REF!"},{"$error":"#REF!"}]
[null,{"$f":"#REF!","v":{"$error":"#REF!"}},{"$f":"#REF!","v":{"$error":"#REF!"}},{"$f":"#REF!","v":{"$error":"#REF!"}},{"$f":"#REF!","v":{"$error":"#REF!"}},{"$error":"#REF!"},{"$error":"#REF!"}]
[null,{"$f":"#REF!","v":{"$error":"#REF!"}},{"$f":"#REF!","v":{"$error":"#REF!"}},{"$f":"#REF!","v":{"$error":"#REF!"}},{"$f":"#REF!","v":{"$error":"#REF!"}},{"$error":"#REF!"},{"$error":"#REF!"}]
[null,{"$f":"#REF!","v":{"$error":"#REF!"}},{"$f":"#REF!","v":{"$error":"#REF!"}},{"$f":"#REF!","v":{"$error":"#REF!"}},{"$f":"#REF!","v":{"$error":"#REF!"}},{"$f":"IF(E69>18.99,\"YÜKSEK\",IF(E69>18.99<9.99,\"ORTA\",IF(E69>9.99,\"ORTA\",IF(E69>0,\"DÜŞÜK\"))))","v":{"$error":"#REF!"}},{"$f":"IF(E69>18.99,\"1\",IF(E69>18.99<9.99,\"2\",IF(E69>9.99,\"2\",IF(E69>0,\"3\"))))","v":{"$error":"#REF!"}}]
[null,{"$f":"#REF!","v":{"$error":"#REF!"}},{"$f":"#REF!","v":{"$error":"#REF!"}},{"$f":"#REF!","v":{"$error":"#REF!"}},{"$f":"#REF!","v":{"$error":"#REF!"}},{"$error":"#REF!"},{"$error":"#REF!"}]
[null,{"$f":"#REF!","v":{"$error":"#REF!"}},{"$f":"#REF!","v":{"$error":"#REF!"}},{"$f":"#REF!","v":{"$error":"#REF!"}},{"$f":"#REF!","v":{"$error":"#REF!"}},{"$error":"#REF!"},{"$error":"#REF!"}]
[null,{"$f":"#REF!","v":{"$error":"#REF!"}},{"$f":"#REF!","v":{"$error":"#REF!"}},{"$f":"#REF!","v":{"$error":"#REF!"}},{"$f":"#REF!","v":{"$error":"#REF!"}},{"$error":"#REF!"},{"$error":"#REF!"}]
[null,{"$f":"#REF!","v":{"$error":"#REF!"}},{"$f":"#REF!","v":{"$error":"#REF!"}},{"$f":"#REF!","v":{"$error":"#REF!"}},{"$f":"#REF!","v":{"$error":"#REF!"}},{"$error":"#REF!"},{"$error":"#REF!"}]
[null,{"$f":"#REF!","v":{"$error":"#REF!"}},{"$f":"#REF!","v":{"$error":"#REF!"}},{"$f":"#REF!","v":{"$error":"#REF!"}},{"$f":"#REF!","v":{"$error":"#REF!"}},{"$error":"#REF!"},{"$error":"#REF!"}]
[null,{"$f":"#REF!","v":{"$error":"#REF!"}},{"$f":"#REF!","v":{"$error":"#REF!"}},{"$f":"#REF!","v":{"$error":"#REF!"}},{"$f":"#REF!","v":{"$error":"#REF!"}},{"$error":"#REF!"},{"$error":"#REF!"}]
[null,{"$f":"#REF!","v":{"$error":"#REF!"}},{"$f":"#REF!","v":{"$error":"#REF!"}},{"$f":"#REF!","v":{"$error":"#REF!"}},{"$f":"#REF!","v":{"$error":"#REF!"}},{"$error":"#REF!"},{"$error":"#REF!"}]
[null,{"$f":"#REF!","v":{"$error":"#REF!"}},{"$f":"#REF!","v":{"$error":"#REF!"}},{"$f":"#REF!","v":{"$error":"#REF!"}},{"$f":"#REF!","v":{"$error":"#REF!"}},{"$error":"#REF!"},{"$error":"#REF!"}]
[null,{"$f":"#REF!","v":{"$error":"#REF!"}},{"$f":"#REF!","v":{"$error":"#REF!"}},{"$f":"#REF!","v":{"$error":"#REF!"}},{"$f":"#REF!","v":{"$error":"#REF!"}},{"$error":"#REF!"},{"$error":"#REF!"}]
[null,{"$f":"#REF!","v":{"$error":"#REF!"}},{"$f":"#REF!","v":{"$error":"#REF!"}},{"$f":"#REF!","v":{"$error":"#REF!"}},{"$f":"#REF!","v":{"$error":"#REF!"}},{"$error":"#REF!"},{"$error":"#REF!"}]
[null,{"$f":"#REF!","v":{"$error":"#REF!"}},{"$f":"#REF!","v":{"$error":"#REF!"}},{"$f":"#REF!","v":{"$error":"#REF!"}},{"$f":"#REF!","v":{"$error":"#REF!"}},{"$error":"#REF!"},{"$error":"#REF!"}]
[null,{"$f":"#REF!","v":{"$error":"#REF!"}},{"$f":"#REF!","v":{"$error":"#REF!"}},{"$f":"#REF!","v":{"$error":"#REF!"}},{"$f":"#REF!","v":{"$error":"#REF!"}},{"$error":"#REF!"},{"$error":"#REF!"}]
[null,{"$f":"#REF!","v":{"$error":"#REF!"}},{"$f":"#REF!","v":{"$error":"#REF!"}},{"$f":"#REF!","v":{"$error":"#REF!"}},{"$f":"#REF!","v":{"$error":"#REF!"}},{"$error":"#REF!"},{"$error":"#REF!"}]
[null,{"$f":"#REF!","v":{"$error":"#REF!"}},{"$f":"#REF!","v":{"$error":"#REF!"}},{"$f":"#REF!","v":{"$error":"#REF!"}},{"$f":"#REF!","v":{"$error":"#REF!"}},{"$error":"#REF!"},{"$error":"#REF!"}]
[null,{"$f":"#REF!","v":{"$error":"#REF!"}},{"$f":"#REF!","v":{"$error":"#REF!"}},{"$f":"#REF!","v":{"$error":"#REF!"}},{"$f":"#REF!","v":{"$error":"#REF!"}},{"$error":"#REF!"},{"$error":"#REF!"}]
[null,{"$f":"#REF!","v":{"$error":"#REF!"}},{"$f":"#REF!","v":{"$error":"#REF!"}},{"$f":"#REF!","v":{"$error":"#REF!"}},{"$f":"#REF!","v":{"$error":"#REF!"}},{"$error":"#REF!"},{"$error":"#REF!"}]
[null,{"$f":"#REF!","v":{"$error":"#REF!"}},{"$f":"#REF!","v":{"$error":"#REF!"}},{"$f":"#REF!","v":{"$error":"#REF!"}},{"$f":"#REF!","v":{"$error":"#REF!"}},{"$error":"#REF!"},{"$error":"#REF!"}]
[null,{"$f":"#REF!","v":{"$error":"#REF!"}},{"$f":"#REF!","v":{"$error":"#REF!"}},{"$f":"#REF!","v":{"$error":"#REF!"}},{"$f":"#REF!","v":{"$error":"#REF!"}},{"$error":"#REF!"},{"$error":"#REF!"}]
[null,{"$f":"#REF!","v":{"$error":"#REF!"}},{"$f":"#REF!","v":{"$error":"#REF!"}},{"$f":"#REF!","v":{"$error":"#REF!"}},{"$f":"#REF!","v":{"$error":"#REF!"}},{"$error":"#REF!"},{"$error":"#REF!"}]
[null,{"$f":"#REF!","v":{"$error":"#REF!"}},{"$f":"#REF!","v":{"$error":"#REF!"}},{"$f":"#REF!","v":{"$error":"#REF!"}},{"$f":"#REF!","v":{"$error":"#REF!"}},{"$error":"#REF!"},{"$error":"#REF!"}]
[null,{"$f":"#REF!","v":{"$error":"#REF!"}},{"$f":"#REF!","v":{"$error":"#REF!"}},{"$f":"#REF!","v":{"$error":"#REF!"}},{"$f":"#REF!","v":{"$error":"#REF!"}},{"$error":"#REF!"},{"$error":"#REF!"}]
[null,{"$f":"#REF!","v":{"$error":"#REF!"}},{"$f":"#REF!","v":{"$error":"#REF!"}},{"$f":"#REF!","v":{"$error":"#REF!"}},{"$f":"#REF!","v":{"$error":"#REF!"}},{"$error":"#REF!"},{"$error":"#REF!"}]
[null,{"$f":"#REF!","v":{"$error":"#REF!"}},{"$f":"#REF!","v":{"$error":"#REF!"}},{"$f":"#REF!","v":{"$error":"#REF!"}},{"$f":"#REF!","v":{"$error":"#REF!"}},{"$error":"#REF!"},{"$error":"#REF!"}]
[null,{"$f":"#REF!","v":{"$error":"#REF!"}},{"$f":"#REF!","v":{"$error":"#REF!"}},{"$f":"#REF!","v":{"$error":"#REF!"}},{"$f":"#REF!","v":{"$error":"#REF!"}},{"$error":"#REF!"},{"$error":"#REF!"}]
[null,{"$f":"#REF!","v":{"$error":"#REF!"}},{"$f":"#REF!","v":{"$error":"#REF!"}},{"$f":"#REF!","v":{"$error":"#REF!"}},{"$f":"#REF!","v":{"$error":"#REF!"}},{"$error":"#REF!"},{"$error":"#REF!"}]
[null,{"$f":"#REF!","v":{"$error":"#REF!"}},{"$f":"#REF!","v":{"$error":"#REF!"}},{"$f":"#REF!","v":{"$error":"#REF!"}},{"$f":"#REF!","v":{"$error":"#REF!"}},{"$error":"#REF!"},{"$error":"#REF!"}]
[null,{"$f":"#REF!","v":{"$error":"#REF!"}},{"$f":"#REF!","v":{"$error":"#REF!"}},{"$f":"#REF!","v":{"$error":"#REF!"}},{"$f":"#REF!","v":{"$error":"#REF!"}},{"$error":"#REF!"},{"$error":"#REF!"}]
[null,{"$f":"#REF!","v":{"$error":"#REF!"}},{"$f":"#REF!","v":{"$error":"#REF!"}},{"$f":"#REF!","v":{"$error":"#REF!"}},{"$f":"#REF!","v":{"$error":"#REF!"}},{"$error":"#REF!"},{"$error":"#REF!"}]
[null,{"$f":"#REF!","v":{"$error":"#REF!"}},{"$f":"#REF!","v":{"$error":"#REF!"}},{"$f":"#REF!","v":{"$error":"#REF!"}},{"$f":"#REF!","v":{"$error":"#REF!"}},{"$error":"#REF!"},{"$error":"#REF!"}]
[null,{"$f":"#REF!","v":{"$error":"#REF!"}},{"$f":"#REF!","v":{"$error":"#REF!"}},{"$f":"#REF!","v":{"$error":"#REF!"}},{"$f":"#REF!","v":{"$error":"#REF!"}},{"$error":"#REF!"},{"$error":"#REF!"}]
[null,{"$f":"#REF!","v":{"$error":"#REF!"}},{"$f":"#REF!","v":{"$error":"#REF!"}},{"$f":"#REF!","v":{"$error":"#REF!"}},{"$f":"#REF!","v":{"$error":"#REF!"}},{"$error":"#REF!"},{"$error":"#REF!"}]
[null,{"$f":"#REF!","v":{"$error":"#REF!"}},{"$f":"#REF!","v":{"$error":"#REF!"}},{"$f":"#REF!","v":{"$error":"#REF!"}},{"$f":"#REF!","v":{"$error":"#REF!"}},{"$error":"#REF!"},{"$error":"#REF!"}]
[null,{"$f":"#REF!","v":{"$error":"#REF!"}},{"$f":"#REF!","v":{"$error":"#REF!"}},{"$f":"#REF!","v":{"$error":"#REF!"}},{"$f":"#REF!","v":{"$error":"#REF!"}},{"$error":"#REF!"},{"$error":"#REF!"}]
[null,{"$f":"#REF!","v":{"$error":"#REF!"}},{"$f":"#REF!","v":{"$error":"#REF!"}},{"$f":"#REF!","v":{"$error":"#REF!"}},{"$f":"#REF!","v":{"$error":"#REF!"}},{"$error":"#REF!"},{"$error":"#REF!"}]
[null,{"$f":"#REF!","v":{"$error":"#REF!"}},{"$f":"#REF!","v":{"$error":"#REF!"}},{"$f":"#REF!","v":{"$error":"#REF!"}},{"$f":"#REF!","v":{"$error":"#REF!"}},{"$error":"#REF!"},{"$error":"#REF!"}]
[null,{"$f":"#REF!","v":{"$error":"#REF!"}},{"$f":"#REF!","v":{"$error":"#REF!"}},{"$f":"#REF!","v":{"$error":"#REF!"}},{"$f":"#REF!","v":{"$error":"#REF!"}},{"$error":"#REF!"},{"$error":"#REF!"}]
[null,{"$f":"#REF!","v":{"$error":"#REF!"}},{"$f":"#REF!","v":{"$error":"#REF!"}},{"$f":"#REF!","v":{"$error":"#REF!"}},{"$f":"#REF!","v":{"$error":"#REF!"}},{"$error":"#REF!"},{"$error":"#REF!"}]
[null,{"$f":"#REF!","v":{"$error":"#REF!"}},{"$f":"#REF!","v":{"$error":"#REF!"}},{"$f":"#REF!","v":{"$error":"#REF!"}},{"$f":"#REF!","v":{"$error":"#REF!"}},{"$error":"#REF!"},{"$error":"#REF!"}]
[null,{"$f":"#REF!","v":{"$error":"#REF!"}},{"$f":"#REF!","v":{"$error":"#REF!"}},{"$f":"#REF!","v":{"$error":"#REF!"}},{"$f":"#REF!","v":{"$error":"#REF!"}},{"$error":"#REF!"},{"$error":"#REF!"}]
[null,{"$f":"#REF!","v":{"$error":"#REF!"}},{"$f":"#REF!","v":{"$error":"#REF!"}},{"$f":"#REF!","v":{"$error":"#REF!"}},{"$f":"#REF!","v":{"$error":"#REF!"}},{"$error":"#REF!"},{"$error":"#REF!"}]
[null,{"$f":"#REF!","v":{"$error":"#REF!"}},{"$f":"#REF!","v":{"$error":"#REF!"}},{"$f":"#REF!","v":{"$error":"#REF!"}},{"$f":"#REF!","v":{"$error":"#REF!"}},{"$error":"#REF!"},{"$error":"#REF!"}]
[null,{"$f":"#REF!","v":{"$error":"#REF!"}},{"$f":"#REF!","v":{"$error":"#REF!"}},{"$f":"#REF!","v":{"$error":"#REF!"}},{"$f":"#REF!","v":{"$error":"#REF!"}},{"$error":"#REF!"},{"$error":"#REF!"}]
[null,{"$f":"#REF!","v":{"$error":"#REF!"}},{"$f":"#REF!","v":{"$error":"#REF!"}},{"$f":"#REF!","v":{"$error":"#REF!"}},{"$f":"#REF!","v":{"$error":"#REF!"}},{"$error":"#REF!"},{"$error":"#REF!"}]
[null,{"$f":"#REF!","v":{"$error":"#REF!"}},{"$f":"#REF!","v":{"$error":"#REF!"}},{"$f":"#REF!","v":{"$error":"#REF!"}},{"$f":"#REF!","v":{"$error":"#REF!"}},{"$error":"#REF!"},{"$error":"#REF!"}]
[null,{"$f":"#REF!","v":{"$error":"#REF!"}},{"$f":"#REF!","v":{"$error":"#REF!"}},{"$f":"#REF!","v":{"$error":"#REF!"}},{"$f":"#REF!","v":{"$error":"#REF!"}},{"$error":"#REF!"},{"$error":"#REF!"}]
[null,{"$f":"#REF!","v":{"$error":"#REF!"}},{"$f":"#REF!","v":{"$error":"#REF!"}},{"$f":"#REF!","v":{"$error":"#REF!"}},{"$f":"#REF!","v":{"$error":"#REF!"}},{"$error":"#REF!"},{"$error":"#REF!"}]
[null,{"$f":"#REF!","v":{"$error":"#REF!"}},{"$f":"#REF!","v":{"$error":"#REF!"}},{"$f":"#REF!","v":{"$error":"#REF!"}},{"$f":"#REF!","v":{"$error":"#REF!"}},{"$error":"#REF!"},{"$error":"#REF!"}]
[null,{"$f":"#REF!","v":{"$error":"#REF!"}},{"$f":"#REF!","v":{"$error":"#REF!"}},{"$f":"#REF!","v":{"$error":"#REF!"}},{"$f":"#REF!","v":{"$error":"#REF!"}},{"$error":"#REF!"},{"$error":"#REF!"}]
[null,{"$f":"#REF!","v":{"$error":"#REF!"}},{"$f":"#REF!","v":{"$error":"#REF!"}},{"$f":"#REF!","v":{"$error":"#REF!"}},{"$f":"#REF!","v":{"$error":"#REF!"}},{"$error":"#REF!"},{"$error":"#REF!"}]
[null,{"$f":"#REF!","v":{"$error":"#REF!"}},{"$f":"#REF!","v":{"$error":"#REF!"}},{"$f":"#REF!","v":{"$error":"#REF!"}},{"$f":"#REF!","v":{"$error":"#REF!"}},{"$error":"#REF!"},{"$error":"#REF!"}]
[null,{"$f":"#REF!","v":{"$error":"#REF!"}},{"$f":"#REF!","v":{"$error":"#REF!"}},{"$f":"#REF!","v":{"$error":"#REF!"}},{"$f":"#REF!","v":{"$error":"#REF!"}},{"$error":"#REF!"},{"$error":"#REF!"}]
[null,{"$f":"#REF!","v":{"$error":"#REF!"}},{"$f":"#REF!","v":{"$error":"#REF!"}},{"$f":"#REF!","v":{"$error":"#REF!"}},{"$f":"#REF!","v":{"$error":"#REF!"}},{"$error":"#REF!"},{"$error":"#REF!"}]
[null,{"$f":"#REF!","v":{"$error":"#REF!"}},{"$f":"#REF!","v":{"$error":"#REF!"}},{"$f":"#REF!","v":{"$error":"#REF!"}},{"$f":"#REF!","v":{"$error":"#REF!"}},{"$error":"#REF!"},{"$error":"#REF!"}]
[null,{"$f":"#REF!","v":{"$error":"#REF!"}},{"$f":"#REF!","v":{"$error":"#REF!"}},{"$f":"#REF!","v":{"$error":"#REF!"}},{"$f":"#REF!","v":{"$error":"#REF!"}},{"$error":"#REF!"},{"$error":"#REF!"}]
[null,{"$f":"#REF!","v":{"$error":"#REF!"}},{"$f":"#REF!","v":{"$error":"#REF!"}},{"$f":"#REF!","v":{"$error":"#REF!"}},{"$f":"#REF!","v":{"$error":"#REF!"}},{"$error":"#REF!"},{"$error":"#REF!"}]
[null,{"$f":"#REF!","v":{"$error":"#REF!"}},{"$f":"#REF!","v":{"$error":"#REF!"}},{"$f":"#REF!","v":{"$error":"#REF!"}},{"$f":"#REF!","v":{"$error":"#REF!"}},{"$error":"#REF!"},{"$error":"#REF!"}]
[null,{"$f":"#REF!","v":{"$error":"#REF!"}},{"$f":"#REF!","v":{"$error":"#REF!"}},{"$f":"#REF!","v":{"$error":"#REF!"}},{"$f":"#REF!","v":{"$error":"#REF!"}},{"$error":"#REF!"},{"$error":"#REF!"}]
[null,{"$f":"#REF!","v":{"$error":"#REF!"}},{"$f":"#REF!","v":{"$error":"#REF!"}},{"$f":"#REF!","v":{"$error":"#REF!"}},{"$f":"#REF!","v":{"$error":"#REF!"}},{"$error":"#REF!"},{"$error":"#REF!"}]
[null,{"$f":"#REF!","v":{"$error":"#REF!"}},{"$f":"#REF!","v":{"$error":"#REF!"}},{"$f":"#REF!","v":{"$error":"#REF!"}},{"$f":"#REF!","v":{"$error":"#REF!"}},{"$error":"#REF!"},{"$error":"#REF!"}]
[null,{"$f":"#REF!","v":{"$error":"#REF!"}},{"$f":"#REF!","v":{"$error":"#REF!"}},{"$f":"#REF!","v":{"$error":"#REF!"}},{"$f":"#REF!","v":{"$error":"#REF!"}},{"$error":"#REF!"},{"$error":"#REF!"}]
[null,{"$f":"#REF!","v":{"$error":"#REF!"}},{"$f":"#REF!","v":{"$error":"#REF!"}},{"$f":"#REF!","v":{"$error":"#REF!"}},{"$f":"#REF!","v":{"$error":"#REF!"}},{"$error":"#REF!"},{"$error":"#REF!"}]
[null,{"$f":"#REF!","v":{"$error":"#REF!"}},{"$f":"#REF!","v":{"$error":"#REF!"}},{"$f":"#REF!","v":{"$error":"#REF!"}},{"$f":"#REF!","v":{"$error":"#REF!"}},{"$error":"#REF!"},{"$error":"#REF!"}]
[null,{"$f":"#REF!","v":{"$error":"#REF!"}},{"$f":"#REF!","v":{"$error":"#REF!"}},{"$f":"#REF!","v":{"$error":"#REF!"}},{"$f":"#REF!","v":{"$error":"#REF!"}},{"$error":"#REF!"},{"$error":"#REF!"}]
[null,{"$f":"#REF!","v":{"$error":"#REF!"}},{"$f":"#REF!","v":{"$error":"#REF!"}},{"$f":"#REF!","v":{"$error":"#REF!"}},{"$f":"#REF!","v":{"$error":"#REF!"}},{"$f":"IF(E133>18.99,\"YÜKSEK\",IF(E133>18.99<9.99,\"ORTA\",IF(E133>9.99,\"ORTA\",IF(E133>0,\"DÜŞÜK\"))))","v":{"$error":"#REF!"}},{"$f":"IF(E133>18.99,\"1\",IF(E133>18.99<9.99,\"2\",IF(E133>9.99,\"2\",IF(E133>0,\"3\"))))","v":{"$error":"#REF!"}}]
[null,{"$f":"#REF!","v":{"$error":"#REF!"}},{"$f":"#REF!","v":{"$error":"#REF!"}},{"$f":"#REF!","v":{"$error":"#REF!"}},{"$f":"#REF!","v":{"$error":"#REF!"}},{"$error":"#REF!"},{"$error":"#REF!"}]
[null,{"$f":"#REF!","v":{"$error":"#REF!"}},{"$f":"#REF!","v":{"$error":"#REF!"}},{"$f":"#REF!","v":{"$error":"#REF!"}},{"$f":"#REF!","v":{"$error":"#REF!"}},{"$error":"#REF!"},{"$error":"#REF!"}]
[null,{"$f":"#REF!","v":{"$error":"#REF!"}},{"$f":"#REF!","v":{"$error":"#REF!"}},{"$f":"#REF!","v":{"$error":"#REF!"}},{"$f":"#REF!","v":{"$error":"#REF!"}},{"$error":"#REF!"},{"$error":"#REF!"}]
[null,{"$f":"#REF!","v":{"$error":"#REF!"}},{"$f":"#REF!","v":{"$error":"#REF!"}},{"$f":"#REF!","v":{"$error":"#REF!"}},{"$f":"#REF!","v":{"$error":"#REF!"}},{"$error":"#REF!"},{"$error":"#REF!"}]
[null,{"$f":"#REF!","v":{"$error":"#REF!"}},{"$f":"#REF!","v":{"$error":"#REF!"}},{"$f":"#REF!","v":{"$error":"#REF!"}},{"$f":"#REF!","v":{"$error":"#REF!"}},{"$error":"#REF!"},{"$error":"#REF!"}]
[null,{"$f":"#REF!","v":{"$error":"#REF!"}},{"$f":"#REF!","v":{"$error":"#REF!"}},{"$f":"#REF!","v":{"$error":"#REF!"}},{"$f":"#REF!","v":{"$error":"#REF!"}},{"$error":"#REF!"},{"$error":"#REF!"}]
[null,{"$f":"#REF!","v":{"$error":"#REF!"}},{"$f":"#REF!","v":{"$error":"#REF!"}},{"$f":"#REF!","v":{"$error":"#REF!"}},{"$f":"#REF!","v":{"$error":"#REF!"}},{"$error":"#REF!"},{"$error":"#REF!"}]
[null,{"$f":"#REF!","v":{"$error":"#REF!"}},{"$f":"#REF!","v":{"$error":"#REF!"}},{"$f":"#REF!","v":{"$error":"#REF!"}},{"$f":"#REF!","v":{"$error":"#REF!"}},{"$error":"#REF!"},{"$error":"#REF!"}]
[null,{"$f":"#REF!","v":{"$error":"#REF!"}},{"$f":"#REF!","v":{"$error":"#REF!"}},{"$f":"#REF!","v":{"$error":"#REF!"}},{"$f":"#REF!","v":{"$error":"#REF!"}},{"$error":"#REF!"},{"$error":"#REF!"}]
[null,{"$f":"#REF!","v":{"$error":"#REF!"}},{"$f":"#REF!","v":{"$error":"#REF!"}},{"$f":"#REF!","v":{"$error":"#REF!"}},{"$f":"#REF!","v":{"$error":"#REF!"}},{"$error":"#REF!"},{"$error":"#REF!"}]
[null,{"$f":"#REF!","v":{"$error":"#REF!"}},{"$f":"#REF!","v":{"$error":"#REF!"}},{"$f":"#REF!","v":{"$error":"#REF!"}},{"$f":"#REF!","v":{"$error":"#REF!"}},{"$error":"#REF!"},{"$error":"#REF!"}]
[null,{"$f":"#REF!","v":{"$error":"#REF!"}},{"$f":"#REF!","v":{"$error":"#REF!"}},{"$f":"#REF!","v":{"$error":"#REF!"}},{"$f":"#REF!","v":{"$error":"#REF!"}},{"$error":"#REF!"},{"$error":"#REF!"}]
[null,{"$f":"#REF!","v":{"$error":"#REF!"}},{"$f":"#REF!","v":{"$error":"#REF!"}},{"$f":"#REF!","v":{"$error":"#REF!"}},{"$f":"#REF!","v":{"$error":"#REF!"}},{"$error":"#REF!"},{"$error":"#REF!"}]
[null,{"$f":"#REF!","v":{"$error":"#REF!"}},{"$f":"#REF!","v":{"$error":"#REF!"}},{"$f":"#REF!","v":{"$error":"#REF!"}},{"$f":"#REF!","v":{"$error":"#REF!"}},{"$error":"#REF!"},{"$error":"#REF!"}]
[null,{"$f":"#REF!","v":{"$error":"#REF!"}},{"$f":"#REF!","v":{"$error":"#REF!"}},{"$f":"#REF!","v":{"$error":"#REF!"}},{"$f":"#REF!","v":{"$error":"#REF!"}},{"$error":"#REF!"},{"$error":"#REF!"}]
[null,{"$f":"#REF!","v":{"$error":"#REF!"}},{"$f":"#REF!","v":{"$error":"#REF!"}},{"$f":"#REF!","v":{"$error":"#REF!"}},{"$f":"#REF!","v":{"$error":"#REF!"}},{"$error":"#REF!"},{"$error":"#REF!"}]
[null,{"$f":"#REF!","v":{"$error":"#REF!"}},{"$f":"#REF!","v":{"$error":"#REF!"}},{"$f":"#REF!","v":{"$error":"#REF!"}},{"$f":"#REF!","v":{"$error":"#REF!"}},{"$error":"#REF!"},{"$error":"#REF!"}]
[null,{"$f":"#REF!","v":{"$error":"#REF!"}},{"$f":"#REF!","v":{"$error":"#REF!"}},{"$f":"#REF!","v":{"$error":"#REF!"}},{"$f":"#REF!","v":{"$error":"#REF!"}},{"$error":"#REF!"},{"$error":"#REF!"}]
[null,{"$f":"#REF!","v":{"$error":"#REF!"}},{"$f":"#REF!","v":{"$error":"#REF!"}},{"$f":"#REF!","v":{"$error":"#REF!"}},{"$f":"#REF!","v":{"$error":"#REF!"}},{"$error":"#REF!"},{"$error":"#REF!"}]
[null,{"$f":"#REF!","v":{"$error":"#REF!"}},{"$f":"#REF!","v":{"$error":"#REF!"}},{"$f":"#REF!","v":{"$error":"#REF!"}},{"$f":"#REF!","v":{"$error":"#REF!"}},{"$error":"#REF!"},{"$error":"#REF!"}]
[null,{"$f":"#REF!","v":{"$error":"#REF!"}},{"$f":"#REF!","v":{"$error":"#REF!"}},{"$f":"#REF!","v":{"$error":"#REF!"}},{"$f":"#REF!","v":{"$error":"#REF!"}},{"$error":"#REF!"},{"$error":"#REF!"}]
[null,{"$f":"#REF!","v":{"$error":"#REF!"}},{"$f":"#REF!","v":{"$error":"#REF!"}},{"$f":"#REF!","v":{"$error":"#REF!"}},{"$f":"#REF!","v":{"$error":"#REF!"}},{"$error":"#REF!"},{"$error":"#REF!"}]
[null,{"$f":"#REF!","v":{"$error":"#REF!"}},{"$f":"#REF!","v":{"$error":"#REF!"}},{"$f":"#REF!","v":{"$error":"#REF!"}},{"$f":"#REF!","v":{"$error":"#REF!"}},{"$error":"#REF!"},{"$error":"#REF!"}]
[null,{"$f":"#REF!","v":{"$error":"#REF!"}},{"$f":"#REF!","v":{"$error":"#REF!"}},{"$f":"#REF!","v":{"$error":"#REF!"}},{"$f":"#REF!","v":{"$error":"#REF!"}},{"$error":"#REF!"},{"$error":"#REF!"}]
[null,{"$f":"#REF!","v":{"$error":"#REF!"}},{"$f":"#REF!","v":{"$error":"#REF!"}},{"$f":"#REF!","v":{"$error":"#REF!"}},{"$f":"#REF!","v":{"$error":"#REF!"}},{"$error":"#REF!"},{"$error":"#REF!"}]
[null,{"$f":"#REF!","v":{"$error":"#REF!"}},{"$f":"#REF!","v":{"$error":"#REF!"}},{"$f":"#REF!","v":{"$error":"#REF!"}},{"$f":"#REF!","v":{"$error":"#REF!"}},{"$error":"#REF!"},{"$error":"#REF!"}]
[null,{"$f":"#REF!","v":{"$error":"#REF!"}},{"$f":"#REF!","v":{"$error":"#REF!"}},{"$f":"#REF!","v":{"$error":"#REF!"}},{"$f":"#REF!","v":{"$error":"#REF!"}},{"$error":"#REF!"},{"$error":"#REF!"}]
[null,{"$f":"#REF!","v":{"$error":"#REF!"}},{"$f":"#REF!","v":{"$error":"#REF!"}},{"$f":"#REF!","v":{"$error":"#REF!"}},{"$f":"#REF!","v":{"$error":"#REF!"}},{"$error":"#REF!"},{"$error":"#REF!"}]
[null,{"$f":"#REF!","v":{"$error":"#REF!"}},{"$f":"#REF!","v":{"$error":"#REF!"}},{"$f":"#REF!","v":{"$error":"#REF!"}},{"$f":"#REF!","v":{"$error":"#REF!"}},{"$error":"#REF!"},{"$error":"#REF!"}]
[null,{"$f":"#REF!","v":{"$error":"#REF!"}},{"$f":"#REF!","v":{"$error":"#REF!"}},{"$f":"#REF!","v":{"$error":"#REF!"}},{"$f":"#REF!","v":{"$error":"#REF!"}},{"$error":"#REF!"},{"$error":"#REF!"}]
[null,{"$f":"#REF!","v":{"$error":"#REF!"}},{"$f":"#REF!","v":{"$error":"#REF!"}},{"$f":"#REF!","v":{"$error":"#REF!"}},{"$f":"#REF!","v":{"$error":"#REF!"}},{"$error":"#REF!"},{"$error":"#REF!"}]
[null,{"$f":"#REF!","v":{"$error":"#REF!"}},{"$f":"#REF!","v":{"$error":"#REF!"}},{"$f":"#REF!","v":{"$error":"#REF!"}},{"$f":"#REF!","v":{"$error":"#REF!"}},{"$error":"#REF!"},{"$error":"#REF!"}]
[null,{"$f":"#REF!","v":{"$error":"#REF!"}},{"$f":"#REF!","v":{"$error":"#REF!"}},{"$f":"#REF!","v":{"$error":"#REF!"}},{"$f":"#REF!","v":{"$error":"#REF!"}},{"$error":"#REF!"},{"$error":"#REF!"}]
[null,{"$f":"#REF!","v":{"$error":"#REF!"}},{"$f":"#REF!","v":{"$error":"#REF!"}},{"$f":"#REF!","v":{"$error":"#REF!"}},{"$f":"#REF!","v":{"$error":"#REF!"}},{"$error":"#REF!"},{"$error":"#REF!"}]
[null,{"$f":"#REF!","v":{"$error":"#REF!"}},{"$f":"#REF!","v":{"$error":"#REF!"}},{"$f":"#REF!","v":{"$error":"#REF!"}},{"$f":"#REF!","v":{"$error":"#REF!"}},{"$error":"#REF!"},{"$error":"#REF!"}]
[null,{"$f":"#REF!","v":{"$error":"#REF!"}},{"$f":"#REF!","v":{"$error":"#REF!"}},{"$f":"#REF!","v":{"$error":"#REF!"}},{"$f":"#REF!","v":{"$error":"#REF!"}},{"$error":"#REF!"},{"$error":"#REF!"}]
[null,{"$f":"#REF!","v":{"$error":"#REF!"}},{"$f":"#REF!","v":{"$error":"#REF!"}},{"$f":"#REF!","v":{"$error":"#REF!"}},{"$f":"#REF!","v":{"$error":"#REF!"}},{"$error":"#REF!"},{"$error":"#REF!"}]
[null,{"$f":"#REF!","v":{"$error":"#REF!"}},{"$f":"#REF!","v":{"$error":"#REF!"}},{"$f":"#REF!","v":{"$error":"#REF!"}},{"$f":"#REF!","v":{"$error":"#REF!"}},{"$error":"#REF!"},{"$error":"#REF!"}]
[null,{"$f":"#REF!","v":{"$error":"#REF!"}},{"$f":"#REF!","v":{"$error":"#REF!"}},{"$f":"#REF!","v":{"$error":"#REF!"}},{"$f":"#REF!","v":{"$error":"#REF!"}},{"$error":"#REF!"},{"$error":"#REF!"}]
[null,{"$f":"#REF!","v":{"$error":"#REF!"}},{"$f":"#REF!","v":{"$error":"#REF!"}},{"$f":"#REF!","v":{"$error":"#REF!"}},{"$f":"#REF!","v":{"$error":"#REF!"}},{"$error":"#REF!"},{"$error":"#REF!"}]
[null,{"$f":"#REF!","v":{"$error":"#REF!"}},{"$f":"#REF!","v":{"$error":"#REF!"}},{"$f":"#REF!","v":{"$error":"#REF!"}},{"$f":"#REF!","v":{"$error":"#REF!"}},{"$error":"#REF!"},{"$error":"#REF!"}]
[null,{"$f":"#REF!","v":{"$error":"#REF!"}},{"$f":"#REF!","v":{"$error":"#REF!"}},{"$f":"#REF!","v":{"$error":"#REF!"}},{"$f":"#REF!","v":{"$error":"#REF!"}},{"$error":"#REF!"},{"$error":"#REF!"}]
[null,{"$f":"#REF!","v":{"$error":"#REF!"}},{"$f":"#REF!","v":{"$error":"#REF!"}},{"$f":"#REF!","v":{"$error":"#REF!"}},{"$f":"#REF!","v":{"$error":"#REF!"}},{"$error":"#REF!"},{"$error":"#REF!"}]
[null,{"$f":"#REF!","v":{"$error":"#REF!"}},{"$f":"#REF!","v":{"$error":"#REF!"}},{"$f":"#REF!","v":{"$error":"#REF!"}},{"$f":"#REF!","v":{"$error":"#REF!"}},{"$error":"#REF!"},{"$error":"#REF!"}]
[null,{"$f":"#REF!","v":{"$error":"#REF!"}},{"$f":"#REF!","v":{"$error":"#REF!"}},{"$f":"#REF!","v":{"$error":"#REF!"}},{"$f":"#REF!","v":{"$error":"#REF!"}},{"$error":"#REF!"},{"$error":"#REF!"}]
[null,{"$f":"#REF!","v":{"$error":"#REF!"}},{"$f":"#REF!","v":{"$error":"#REF!"}},{"$f":"#REF!","v":{"$error":"#REF!"}},{"$f":"#REF!","v":{"$error":"#REF!"}},{"$error":"#REF!"},{"$error":"#REF!"}]
[null,{"$f":"#REF!","v":{"$error":"#REF!"}},{"$f":"#REF!","v":{"$error":"#REF!"}},{"$f":"#REF!","v":{"$error":"#REF!"}},{"$f":"#REF!","v":{"$error":"#REF!"}},{"$error":"#REF!"},{"$error":"#REF!"}]
[null,{"$f":"#REF!","v":{"$error":"#REF!"}},{"$f":"#REF!","v":{"$error":"#REF!"}},{"$f":"#REF!","v":{"$error":"#REF!"}},{"$f":"#REF!","v":{"$error":"#REF!"}},{"$error":"#REF!"},{"$error":"#REF!"}]
[null,{"$f":"#REF!","v":{"$error":"#REF!"}},{"$f":"#REF!","v":{"$error":"#REF!"}},{"$f":"#REF!","v":{"$error":"#REF!"}},{"$f":"#REF!","v":{"$error":"#REF!"}},{"$error":"#REF!"},{"$error":"#REF!"}]
[null,{"$f":"#REF!","v":{"$error":"#REF!"}},{"$f":"#REF!","v":{"$error":"#REF!"}},{"$f":"#REF!","v":{"$error":"#REF!"}},{"$f":"#REF!","v":{"$error":"#REF!"}},{"$error":"#REF!"},{"$error":"#REF!"}]
[null,{"$f":"#REF!","v":{"$error":"#REF!"}},{"$f":"#REF!","v":{"$error":"#REF!"}},{"$f":"#REF!","v":{"$error":"#REF!"}},{"$f":"#REF!","v":{"$error":"#REF!"}},{"$error":"#REF!"},{"$error":"#REF!"}]
[null,{"$f":"#REF!","v":{"$error":"#REF!"}},{"$f":"#REF!","v":{"$error":"#REF!"}},{"$f":"#REF!","v":{"$error":"#REF!"}},{"$f":"#REF!","v":{"$error":"#REF!"}},{"$error":"#REF!"},{"$error":"#REF!"}]
[null,{"$f":"#REF!","v":{"$error":"#REF!"}},{"$f":"#REF!","v":{"$error":"#REF!"}},{"$f":"#REF!","v":{"$error":"#REF!"}},{"$f":"#REF!","v":{"$error":"#REF!"}},{"$error":"#REF!"},{"$error":"#REF!"}]
[null,{"$f":"#REF!","v":{"$error":"#REF!"}},{"$f":"#REF!","v":{"$error":"#REF!"}},{"$f":"#REF!","v":{"$error":"#REF!"}},{"$f":"#REF!","v":{"$error":"#REF!"}},{"$error":"#REF!"},{"$error":"#REF!"}]
[null,{"$f":"#REF!","v":{"$error":"#REF!"}},{"$f":"#REF!","v":{"$error":"#REF!"}},{"$f":"#REF!","v":{"$error":"#REF!"}},{"$f":"#REF!","v":{"$error":"#REF!"}},{"$error":"#REF!"},{"$error":"#REF!"}]

{"sheet":"Sayfa4","index":13,"n_rows":164,"n_cols":7,"rows_kept":164,"cut":false,"hidden":true,"merged":[]}
[]
[]
[null,"ÜST SÜREÇLER","DENETİM ALANLARI (DENETİM EVRENİ)","DENETLENECEK BİRİMLER","RİSK PUANI","PUAN SONUCU","ÖNCELİK"]
[null,{"$f":"#REF!","v":{"$error":"#REF!"}},{"$f":"#REF!","v":{"$error":"#REF!"}},{"$f":"#REF!","v":{"$error":"#REF!"}},{"$f":"#REF!","v":{"$error":"#REF!"}},{"$f":"IF(E4>18.99,\"YÜKSEK\",IF(E4>18.99<9.99,\"ORTA\",IF(E4>9.99,\"ORTA\",IF(E4>0,\"DÜŞÜK\"))))","v":{"$error":"#REF!"}},{"$f":"IF(E4>18.99,\"1\",IF(E4>18.99<9.99,\"2\",IF(E4>9.99,\"2\",IF(E4>0,\"3\"))))","v":{"$error":"#REF!"}}]
[null,{"$f":"#REF!","v":{"$error":"#REF!"}},{"$f":"#REF!","v":{"$error":"#REF!"}},{"$f":"#REF!","v":{"$error":"#REF!"}},{"$f":"#REF!","v":{"$error":"#REF!"}},{"$error":"#REF!"},{"$error":"#REF!"}]
[null,{"$f":"#REF!","v":{"$error":"#REF!"}},{"$f":"#REF!","v":{"$error":"#REF!"}},{"$f":"#REF!","v":{"$error":"#REF!"}},{"$f":"#REF!","v":{"$error":"#REF!"}},{"$error":"#REF!"},{"$error":"#REF!"}]
[null,{"$f":"#REF!","v":{"$error":"#REF!"}},{"$f":"#REF!","v":{"$error":"#REF!"}},{"$f":"#REF!","v":{"$error":"#REF!"}},{"$f":"#REF!","v":{"$error":"#REF!"}},{"$error":"#REF!"},{"$error":"#REF!"}]
[null,{"$f":"#REF!","v":{"$error":"#REF!"}},{"$f":"#REF!","v":{"$error":"#REF!"}},{"$f":"#REF!","v":{"$error":"#REF!"}},{"$f":"#REF!","v":{"$error":"#REF!"}},{"$error":"#REF!"},{"$error":"#REF!"}]
[null,{"$f":"#REF!","v":{"$error":"#REF!"}},{"$f":"#REF!","v":{"$error":"#REF!"}},{"$f":"#REF!","v":{"$error":"#REF!"}},{"$f":"#REF!","v":{"$error":"#REF!"}},{"$error":"#REF!"},{"$error":"#REF!"}]
[null,{"$f":"#REF!","v":{"$error":"#REF!"}},{"$f":"#REF!","v":{"$error":"#REF!"}},{"$f":"#REF!","v":{"$error":"#REF!"}},{"$f":"#REF!","v":{"$error":"#REF!"}},{"$error":"#REF!"},{"$error":"#REF!"}]
[null,{"$f":"#REF!","v":{"$error":"#REF!"}},{"$f":"#REF!","v":{"$error":"#REF!"}},{"$f":"#REF!","v":{"$error":"#REF!"}},{"$f":"#REF!","v":{"$error":"#REF!"}},{"$error":"#REF!"},{"$error":"#REF!"}]
[null,{"$f":"#REF!","v":{"$error":"#REF!"}},{"$f":"#REF!","v":{"$error":"#REF!"}},{"$f":"#REF!","v":{"$error":"#REF!"}},{"$f":"#REF!","v":{"$error":"#REF!"}},{"$error":"#REF!"},{"$error":"#REF!"}]
[null,{"$f":"#REF!","v":{"$error":"#REF!"}},{"$f":"#REF!","v":{"$error":"#REF!"}},{"$f":"#REF!","v":{"$error":"#REF!"}},{"$f":"#REF!","v":{"$error":"#REF!"}},{"$error":"#REF!"},{"$error":"#REF!"}]
[null,{"$f":"#REF!","v":{"$error":"#REF!"}},{"$f":"#REF!","v":{"$error":"#REF!"}},{"$f":"#REF!","v":{"$error":"#REF!"}},{"$f":"#REF!","v":{"$error":"#REF!"}},{"$error":"#REF!"},{"$error":"#REF!"}]
[null,{"$f":"#REF!","v":{"$error":"#REF!"}},{"$f":"#REF!","v":{"$error":"#REF!"}},{"$f":"#REF!","v":{"$error":"#REF!"}},{"$f":"#REF!","v":{"$error":"#REF!"}},{"$error":"#REF!"},{"$error":"#REF!"}]
[null,{"$f":"#REF!","v":{"$error":"#REF!"}},{"$f":"#REF!","v":{"$error":"#REF!"}},{"$f":"#REF!","v":{"$error":"#REF!"}},{"$f":"#REF!","v":{"$error":"#REF!"}},{"$error":"#REF!"},{"$error":"#REF!"}]
[null,{"$f":"#REF!","v":{"$error":"#REF!"}},{"$f":"#REF!","v":{"$error":"#REF!"}},{"$f":"#REF!","v":{"$error":"#REF!"}},{"$f":"#REF!","v":{"$error":"#REF!"}},{"$error":"#REF!"},{"$error":"#REF!"}]
[null,{"$f":"#REF!","v":{"$error":"#REF!"}},{"$f":"#REF!","v":{"$error":"#REF!"}},{"$f":"#REF!","v":{"$error":"#REF!"}},{"$f":"#REF!","v":{"$error":"#REF!"}},{"$error":"#REF!"},{"$error":"#REF!"}]
[null,{"$f":"#REF!","v":{"$error":"#REF!"}},{"$f":"#REF!","v":{"$error":"#REF!"}},{"$f":"#REF!","v":{"$error":"#REF!"}},{"$f":"#REF!","v":{"$error":"#REF!"}},{"$error":"#REF!"},{"$error":"#REF!"}]
[null,{"$f":"#REF!","v":{"$error":"#REF!"}},{"$f":"#REF!","v":{"$error":"#REF!"}},{"$f":"#REF!","v":{"$error":"#REF!"}},{"$f":"#REF!","v":{"$error":"#REF!"}},{"$error":"#REF!"},{"$error":"#REF!"}]
[null,{"$f":"#REF!","v":{"$error":"#REF!"}},{"$f":"#REF!","v":{"$error":"#REF!"}},{"$f":"#REF!","v":{"$error":"#REF!"}},{"$f":"#REF!","v":{"$error":"#REF!"}},{"$error":"#REF!"},{"$error":"#REF!"}]
[null,{"$f":"#REF!","v":{"$error":"#REF!"}},{"$f":"#REF!","v":{"$error":"#REF!"}},{"$f":"#REF!","v":{"$error":"#REF!"}},{"$f":"#REF!","v":{"$error":"#REF!"}},{"$error":"#REF!"},{"$error":"#REF!"}]
[null,{"$f":"#REF!","v":{"$error":"#REF!"}},{"$f":"#REF!","v":{"$error":"#REF!"}},{"$f":"#REF!","v":{"$error":"#REF!"}},{"$f":"#REF!","v":{"$error":"#REF!"}},{"$error":"#REF!"},{"$error":"#REF!"}]
[null,{"$f":"#REF!","v":{"$error":"#REF!"}},{"$f":"#REF!","v":{"$error":"#REF!"}},{"$f":"#REF!","v":{"$error":"#REF!"}},{"$f":"#REF!","v":{"$error":"#REF!"}},{"$error":"#REF!"},{"$error":"#REF!"}]
[null,{"$f":"#REF!","v":{"$error":"#REF!"}},{"$f":"#REF!","v":{"$error":"#REF!"}},{"$f":"#REF!","v":{"$error":"#REF!"}},{"$f":"#REF!","v":{"$error":"#REF!"}},{"$error":"#REF!"},{"$error":"#REF!"}]
[null,{"$f":"#REF!","v":{"$error":"#REF!"}},{"$f":"#REF!","v":{"$error":"#REF!"}},{"$f":"#REF!","v":{"$error":"#REF!"}},{"$f":"#REF!","v":{"$error":"#REF!"}},{"$error":"#REF!"},{"$error":"#REF!"}]
[null,{"$f":"#REF!","v":{"$error":"#REF!"}},{"$f":"#REF!","v":{"$error":"#REF!"}},{"$f":"#REF!","v":{"$error":"#REF!"}},{"$f":"#REF!","v":{"$error":"#REF!"}},{"$error":"#REF!"},{"$error":"#REF!"}]
[null,{"$f":"#REF!","v":{"$error":"#REF!"}},{"$f":"#REF!","v":{"$error":"#REF!"}},{"$f":"#REF!","v":{"$error":"#REF!"}},{"$f":"#REF!","v":{"$error":"#REF!"}},{"$error":"#REF!"},{"$error":"#REF!"}]
[null,{"$f":"#REF!","v":{"$error":"#REF!"}},{"$f":"#REF!","v":{"$error":"#REF!"}},{"$f":"#REF!","v":{"$error":"#REF!"}},{"$f":"#REF!","v":{"$error":"#REF!"}},{"$error":"#REF!"},{"$error":"#REF!"}]
[null,{"$f":"#REF!","v":{"$error":"#REF!"}},{"$f":"#REF!","v":{"$error":"#REF!"}},{"$f":"#REF!","v":{"$error":"#REF!"}},{"$f":"#REF!","v":{"$error":"#REF!"}},{"$error":"#REF!"},{"$error":"#REF!"}]
[null,{"$f":"#REF!","v":{"$error":"#REF!"}},{"$f":"#REF!","v":{"$error":"#REF!"}},{"$f":"#REF!","v":{"$error":"#REF!"}},{"$f":"#REF!","v":{"$error":"#REF!"}},{"$error":"#REF!"},{"$error":"#REF!"}]
[null,{"$f":"#REF!","v":{"$error":"#REF!"}},{"$f":"#REF!","v":{"$error":"#REF!"}},{"$f":"#REF!","v":{"$error":"#REF!"}},{"$f":"#REF!","v":{"$error":"#REF!"}},{"$error":"#REF!"},{"$error":"#REF!"}]
[null,{"$f":"#REF!","v":{"$error":"#REF!"}},{"$f":"#REF!","v":{"$error":"#REF!"}},{"$f":"#REF!","v":{"$error":"#REF!"}},{"$f":"#REF!","v":{"$error":"#REF!"}},{"$error":"#REF!"},{"$error":"#REF!"}]
[null,{"$f":"#REF!","v":{"$error":"#REF!"}},{"$f":"#REF!","v":{"$error":"#REF!"}},{"$f":"#REF!","v":{"$error":"#REF!"}},{"$f":"#REF!","v":{"$error":"#REF!"}},{"$error":"#REF!"},{"$error":"#REF!"}]
[null,{"$f":"#REF!","v":{"$error":"#REF!"}},{"$f":"#REF!","v":{"$error":"#REF!"}},{"$f":"#REF!","v":{"$error":"#REF!"}},{"$f":"#REF!","v":{"$error":"#REF!"}},{"$error":"#REF!"},{"$error":"#REF!"}]
[null,{"$f":"#REF!","v":{"$error":"#REF!"}},{"$f":"#REF!","v":{"$error":"#REF!"}},{"$f":"#REF!","v":{"$error":"#REF!"}},{"$f":"#REF!","v":{"$error":"#REF!"}},{"$error":"#REF!"},{"$error":"#REF!"}]
[null,{"$f":"#REF!","v":{"$error":"#REF!"}},{"$f":"#REF!","v":{"$error":"#REF!"}},{"$f":"#REF!","v":{"$error":"#REF!"}},{"$f":"#REF!","v":{"$error":"#REF!"}},{"$error":"#REF!"},{"$error":"#REF!"}]
[null,{"$f":"#REF!","v":{"$error":"#REF!"}},{"$f":"#REF!","v":{"$error":"#REF!"}},{"$f":"#REF!","v":{"$error":"#REF!"}},{"$f":"#REF!","v":{"$error":"#REF!"}},{"$error":"#REF!"},{"$error":"#REF!"}]
[null,{"$f":"#REF!","v":{"$error":"#REF!"}},{"$f":"#REF!","v":{"$error":"#REF!"}},{"$f":"#REF!","v":{"$error":"#REF!"}},{"$f":"#REF!","v":{"$error":"#REF!"}},{"$error":"#REF!"},{"$error":"#REF!"}]
[null,{"$f":"#REF!","v":{"$error":"#REF!"}},{"$f":"#REF!","v":{"$error":"#REF!"}},{"$f":"#REF!","v":{"$error":"#REF!"}},{"$f":"#REF!","v":{"$error":"#REF!"}},{"$error":"#REF!"},{"$error":"#REF!"}]
[null,{"$f":"#REF!","v":{"$error":"#REF!"}},{"$f":"#REF!","v":{"$error":"#REF!"}},{"$f":"#REF!","v":{"$error":"#REF!"}},{"$f":"#REF!","v":{"$error":"#REF!"}},{"$error":"#REF!"},{"$error":"#REF!"}]
[null,{"$f":"#REF!","v":{"$error":"#REF!"}},{"$f":"#REF!","v":{"$error":"#REF!"}},{"$f":"#REF!","v":{"$error":"#REF!"}},{"$f":"#REF!","v":{"$error":"#REF!"}},{"$error":"#REF!"},{"$error":"#REF!"}]
[null,{"$f":"#REF!","v":{"$error":"#REF!"}},{"$f":"#REF!","v":{"$error":"#REF!"}},{"$f":"#REF!","v":{"$error":"#REF!"}},{"$f":"#REF!","v":{"$error":"#REF!"}},{"$error":"#REF!"},{"$error":"#REF!"}]
[null,{"$f":"#REF!","v":{"$error":"#REF!"}},{"$f":"#REF!","v":{"$error":"#REF!"}},{"$f":"#REF!","v":{"$error":"#REF!"}},{"$f":"#REF!","v":{"$error":"#REF!"}},{"$error":"#REF!"},{"$error":"#REF!"}]
[null,{"$f":"#REF!","v":{"$error":"#REF!"}},{"$f":"#REF!","v":{"$error":"#REF!"}},{"$f":"#REF!","v":{"$error":"#REF!"}},{"$f":"#REF!","v":{"$error":"#REF!"}},{"$error":"#REF!"},{"$error":"#REF!"}]
[null,{"$f":"#REF!","v":{"$error":"#REF!"}},{"$f":"#REF!","v":{"$error":"#REF!"}},{"$f":"#REF!","v":{"$error":"#REF!"}},{"$f":"#REF!","v":{"$error":"#REF!"}},{"$error":"#REF!"},{"$error":"#REF!"}]
[null,{"$f":"#REF!","v":{"$error":"#REF!"}},{"$f":"#REF!","v":{"$error":"#REF!"}},{"$f":"#REF!","v":{"$error":"#REF!"}},{"$f":"#REF!","v":{"$error":"#REF!"}},{"$error":"#REF!"},{"$error":"#REF!"}]
[null,{"$f":"#REF!","v":{"$error":"#REF!"}},{"$f":"#REF!","v":{"$error":"#REF!"}},{"$f":"#REF!","v":{"$error":"#REF!"}},{"$f":"#REF!","v":{"$error":"#REF!"}},{"$error":"#REF!"},{"$error":"#REF!"}]
[null,{"$f":"#REF!","v":{"$error":"#REF!"}},{"$f":"#REF!","v":{"$error":"#REF!"}},{"$f":"#REF!","v":{"$error":"#REF!"}},{"$f":"#REF!","v":{"$error":"#REF!"}},{"$error":"#REF!"},{"$error":"#REF!"}]
[null,{"$f":"#REF!","v":{"$error":"#REF!"}},{"$f":"#REF!","v":{"$error":"#REF!"}},{"$f":"#REF!","v":{"$error":"#REF!"}},{"$f":"#REF!","v":{"$error":"#REF!"}},{"$error":"#REF!"},{"$error":"#REF!"}]
[null,{"$f":"#REF!","v":{"$error":"#REF!"}},{"$f":"#REF!","v":{"$error":"#REF!"}},{"$f":"#REF!","v":{"$error":"#REF!"}},{"$f":"#REF!","v":{"$error":"#REF!"}},{"$error":"#REF!"},{"$error":"#REF!"}]
[null,{"$f":"#REF!","v":{"$error":"#REF!"}},{"$f":"#REF!","v":{"$error":"#REF!"}},{"$f":"#REF!","v":{"$error":"#REF!"}},{"$f":"#REF!","v":{"$error":"#REF!"}},{"$error":"#REF!"},{"$error":"#REF!"}]
[null,{"$f":"#REF!","v":{"$error":"#REF!"}},{"$f":"#REF!","v":{"$error":"#REF!"}},{"$f":"#REF!","v":{"$error":"#REF!"}},{"$f":"#REF!","v":{"$error":"#REF!"}},{"$error":"#REF!"},{"$error":"#REF!"}]
[null,{"$f":"#REF!","v":{"$error":"#REF!"}},{"$f":"#REF!","v":{"$error":"#REF!"}},{"$f":"#REF!","v":{"$error":"#REF!"}},{"$f":"#REF!","v":{"$error":"#REF!"}},{"$error":"#REF!"},{"$error":"#REF!"}]
[null,{"$f":"#REF!","v":{"$error":"#REF!"}},{"$f":"#REF!","v":{"$error":"#REF!"}},{"$f":"#REF!","v":{"$error":"#REF!"}},{"$f":"#REF!","v":{"$error":"#REF!"}},{"$error":"#REF!"},{"$error":"#REF!"}]
[null,{"$f":"#REF!","v":{"$error":"#REF!"}},{"$f":"#REF!","v":{"$error":"#REF!"}},{"$f":"#REF!","v":{"$error":"#REF!"}},{"$f":"#REF!","v":{"$error":"#REF!"}},{"$error":"#REF!"},{"$error":"#REF!"}]
[null,{"$f":"#REF!","v":{"$error":"#REF!"}},{"$f":"#REF!","v":{"$error":"#REF!"}},{"$f":"#REF!","v":{"$error":"#REF!"}},{"$f":"#REF!","v":{"$error":"#REF!"}},{"$error":"#REF!"},{"$error":"#REF!"}]
[null,{"$f":"#REF!","v":{"$error":"#REF!"}},{"$f":"#REF!","v":{"$error":"#REF!"}},{"$f":"#REF!","v":{"$error":"#REF!"}},{"$f":"#REF!","v":{"$error":"#REF!"}},{"$error":"#REF!"},{"$error":"#REF!"}]
[null,{"$f":"#REF!","v":{"$error":"#REF!"}},{"$f":"#REF!","v":{"$error":"#REF!"}},{"$f":"#REF!","v":{"$error":"#REF!"}},{"$f":"#REF!","v":{"$error":"#REF!"}},{"$error":"#REF!"},{"$error":"#REF!"}]
[null,{"$f":"#REF!","v":{"$error":"#REF!"}},{"$f":"#REF!","v":{"$error":"#REF!"}},{"$f":"#REF!","v":{"$error":"#REF!"}},{"$f":"#REF!","v":{"$error":"#REF!"}},{"$error":"#REF!"},{"$error":"#REF!"}]
[null,{"$f":"#REF!","v":{"$error":"#REF!"}},{"$f":"#REF!","v":{"$error":"#REF!"}},{"$f":"#REF!","v":{"$error":"#REF!"}},{"$f":"#REF!","v":{"$error":"#REF!"}},{"$error":"#REF!"},{"$error":"#REF!"}]
[null,{"$f":"#REF!","v":{"$error":"#REF!"}},{"$f":"#REF!","v":{"$error":"#REF!"}},{"$f":"#REF!","v":{"$error":"#REF!"}},{"$f":"#REF!","v":{"$error":"#REF!"}},{"$error":"#REF!"},{"$error":"#REF!"}]
[null,{"$f":"#REF!","v":{"$error":"#REF!"}},{"$f":"#REF!","v":{"$error":"#REF!"}},{"$f":"#REF!","v":{"$error":"#REF!"}},{"$f":"#REF!","v":{"$error":"#REF!"}},{"$error":"#REF!"},{"$error":"#REF!"}]
[null,{"$f":"#REF!","v":{"$error":"#REF!"}},{"$f":"#REF!","v":{"$error":"#REF!"}},{"$f":"#REF!","v":{"$error":"#REF!"}},{"$f":"#REF!","v":{"$error":"#REF!"}},{"$error":"#REF!"},{"$error":"#REF!"}]
[null,{"$f":"#REF!","v":{"$error":"#REF!"}},{"$f":"#REF!","v":{"$error":"#REF!"}},{"$f":"#REF!","v":{"$error":"#REF!"}},{"$f":"#REF!","v":{"$error":"#REF!"}},{"$error":"#REF!"},{"$error":"#REF!"}]
[null,{"$f":"#REF!","v":{"$error":"#REF!"}},{"$f":"#REF!","v":{"$error":"#REF!"}},{"$f":"#REF!","v":{"$error":"#REF!"}},{"$f":"#REF!","v":{"$error":"#REF!"}},{"$error":"#REF!"},{"$error":"#REF!"}]
[null,{"$f":"#REF!","v":{"$error":"#REF!"}},{"$f":"#REF!","v":{"$error":"#REF!"}},{"$f":"#REF!","v":{"$error":"#REF!"}},{"$f":"#REF!","v":{"$error":"#REF!"}},{"$error":"#REF!"},{"$error":"#REF!"}]
[null,{"$f":"#REF!","v":{"$error":"#REF!"}},{"$f":"#REF!","v":{"$error":"#REF!"}},{"$f":"#REF!","v":{"$error":"#REF!"}},{"$f":"#REF!","v":{"$error":"#REF!"}},{"$f":"IF(E68>18.99,\"YÜKSEK\",IF(E68>18.99<9.99,\"ORTA\",IF(E68>9.99,\"ORTA\",IF(E68>0,\"DÜŞÜK\"))))","v":{"$error":"#REF!"}},{"$f":"IF(E68>18.99,\"1\",IF(E68>18.99<9.99,\"2\",IF(E68>9.99,\"2\",IF(E68>0,\"3\"))))","v":{"$error":"#REF!"}}]
[null,{"$f":"#REF!","v":{"$error":"#REF!"}},{"$f":"#REF!","v":{"$error":"#REF!"}},{"$f":"#REF!","v":{"$error":"#REF!"}},{"$f":"#REF!","v":{"$error":"#REF!"}},{"$error":"#REF!"},{"$error":"#REF!"}]
[null,{"$f":"#REF!","v":{"$error":"#REF!"}},{"$f":"#REF!","v":{"$error":"#REF!"}},{"$f":"#REF!","v":{"$error":"#REF!"}},{"$f":"#REF!","v":{"$error":"#REF!"}},{"$error":"#REF!"},{"$error":"#REF!"}]
[null,{"$f":"#REF!","v":{"$error":"#REF!"}},{"$f":"#REF!","v":{"$error":"#REF!"}},{"$f":"#REF!","v":{"$error":"#REF!"}},{"$f":"#REF!","v":{"$error":"#REF!"}},{"$error":"#REF!"},{"$error":"#REF!"}]
[null,{"$f":"#REF!","v":{"$error":"#REF!"}},{"$f":"#REF!","v":{"$error":"#REF!"}},{"$f":"#REF!","v":{"$error":"#REF!"}},{"$f":"#REF!","v":{"$error":"#REF!"}},{"$error":"#REF!"},{"$error":"#REF!"}]
[null,{"$f":"#REF!","v":{"$error":"#REF!"}},{"$f":"#REF!","v":{"$error":"#REF!"}},{"$f":"#REF!","v":{"$error":"#REF!"}},{"$f":"#REF!","v":{"$error":"#REF!"}},{"$error":"#REF!"},{"$error":"#REF!"}]
[null,{"$f":"#REF!","v":{"$error":"#REF!"}},{"$f":"#REF!","v":{"$error":"#REF!"}},{"$f":"#REF!","v":{"$error":"#REF!"}},{"$f":"#REF!","v":{"$error":"#REF!"}},{"$error":"#REF!"},{"$error":"#REF!"}]
[null,{"$f":"#REF!","v":{"$error":"#REF!"}},{"$f":"#REF!","v":{"$error":"#REF!"}},{"$f":"#REF!","v":{"$error":"#REF!"}},{"$f":"#REF!","v":{"$error":"#REF!"}},{"$error":"#REF!"},{"$error":"#REF!"}]
[null,{"$f":"#REF!","v":{"$error":"#REF!"}},{"$f":"#REF!","v":{"$error":"#REF!"}},{"$f":"#REF!","v":{"$error":"#REF!"}},{"$f":"#REF!","v":{"$error":"#REF!"}},{"$error":"#REF!"},{"$error":"#REF!"}]
[null,{"$f":"#REF!","v":{"$error":"#REF!"}},{"$f":"#REF!","v":{"$error":"#REF!"}},{"$f":"#REF!","v":{"$error":"#REF!"}},{"$f":"#REF!","v":{"$error":"#REF!"}},{"$error":"#REF!"},{"$error":"#REF!"}]
[null,{"$f":"#REF!","v":{"$error":"#REF!"}},{"$f":"#REF!","v":{"$error":"#REF!"}},{"$f":"#REF!","v":{"$error":"#REF!"}},{"$f":"#REF!","v":{"$error":"#REF!"}},{"$error":"#REF!"},{"$error":"#REF!"}]
[null,{"$f":"#REF!","v":{"$error":"#REF!"}},{"$f":"#REF!","v":{"$error":"#REF!"}},{"$f":"#REF!","v":{"$error":"#REF!"}},{"$f":"#REF!","v":{"$error":"#REF!"}},{"$error":"#REF!"},{"$error":"#REF!"}]
[null,{"$f":"#REF!","v":{"$error":"#REF!"}},{"$f":"#REF!","v":{"$error":"#REF!"}},{"$f":"#REF!","v":{"$error":"#REF!"}},{"$f":"#REF!","v":{"$error":"#REF!"}},{"$error":"#REF!"},{"$error":"#REF!"}]
[null,{"$f":"#REF!","v":{"$error":"#REF!"}},{"$f":"#REF!","v":{"$error":"#REF!"}},{"$f":"#REF!","v":{"$error":"#REF!"}},{"$f":"#REF!","v":{"$error":"#REF!"}},{"$error":"#REF!"},{"$error":"#REF!"}]
[null,{"$f":"#REF!","v":{"$error":"#REF!"}},{"$f":"#REF!","v":{"$error":"#REF!"}},{"$f":"#REF!","v":{"$error":"#REF!"}},{"$f":"#REF!","v":{"$error":"#REF!"}},{"$error":"#REF!"},{"$error":"#REF!"}]
[null,{"$f":"#REF!","v":{"$error":"#REF!"}},{"$f":"#REF!","v":{"$error":"#REF!"}},{"$f":"#REF!","v":{"$error":"#REF!"}},{"$f":"#REF!","v":{"$error":"#REF!"}},{"$error":"#REF!"},{"$error":"#REF!"}]
[null,{"$f":"#REF!","v":{"$error":"#REF!"}},{"$f":"#REF!","v":{"$error":"#REF!"}},{"$f":"#REF!","v":{"$error":"#REF!"}},{"$f":"#REF!","v":{"$error":"#REF!"}},{"$error":"#REF!"},{"$error":"#REF!"}]
[null,{"$f":"#REF!","v":{"$error":"#REF!"}},{"$f":"#REF!","v":{"$error":"#REF!"}},{"$f":"#REF!","v":{"$error":"#REF!"}},{"$f":"#REF!","v":{"$error":"#REF!"}},{"$error":"#REF!"},{"$error":"#REF!"}]
[null,{"$f":"#REF!","v":{"$error":"#REF!"}},{"$f":"#REF!","v":{"$error":"#REF!"}},{"$f":"#REF!","v":{"$error":"#REF!"}},{"$f":"#REF!","v":{"$error":"#REF!"}},{"$error":"#REF!"},{"$error":"#REF!"}]
[null,{"$f":"#REF!","v":{"$error":"#REF!"}},{"$f":"#REF!","v":{"$error":"#REF!"}},{"$f":"#REF!","v":{"$error":"#REF!"}},{"$f":"#REF!","v":{"$error":"#REF!"}},{"$error":"#REF!"},{"$error":"#REF!"}]
[null,{"$f":"#REF!","v":{"$error":"#REF!"}},{"$f":"#REF!","v":{"$error":"#REF!"}},{"$f":"#REF!","v":{"$error":"#REF!"}},{"$f":"#REF!","v":{"$error":"#REF!"}},{"$error":"#REF!"},{"$error":"#REF!"}]
[null,{"$f":"#REF!","v":{"$error":"#REF!"}},{"$f":"#REF!","v":{"$error":"#REF!"}},{"$f":"#REF!","v":{"$error":"#REF!"}},{"$f":"#REF!","v":{"$error":"#REF!"}},{"$error":"#REF!"},{"$error":"#REF!"}]
[null,{"$f":"#REF!","v":{"$error":"#REF!"}},{"$f":"#REF!","v":{"$error":"#REF!"}},{"$f":"#REF!","v":{"$error":"#REF!"}},{"$f":"#REF!","v":{"$error":"#REF!"}},{"$error":"#REF!"},{"$error":"#REF!"}]
[null,{"$f":"#REF!","v":{"$error":"#REF!"}},{"$f":"#REF!","v":{"$error":"#REF!"}},{"$f":"#REF!","v":{"$error":"#REF!"}},{"$f":"#REF!","v":{"$error":"#REF!"}},{"$error":"#REF!"},{"$error":"#REF!"}]
[null,{"$f":"#REF!","v":{"$error":"#REF!"}},{"$f":"#REF!","v":{"$error":"#REF!"}},{"$f":"#REF!","v":{"$error":"#REF!"}},{"$f":"#REF!","v":{"$error":"#REF!"}},{"$error":"#REF!"},{"$error":"#REF!"}]
[null,{"$f":"#REF!","v":{"$error":"#REF!"}},{"$f":"#REF!","v":{"$error":"#REF!"}},{"$f":"#REF!","v":{"$error":"#REF!"}},{"$f":"#REF!","v":{"$error":"#REF!"}},{"$error":"#REF!"},{"$error":"#REF!"}]
[null,{"$f":"#REF!","v":{"$error":"#REF!"}},{"$f":"#REF!","v":{"$error":"#REF!"}},{"$f":"#REF!","v":{"$error":"#REF!"}},{"$f":"#REF!","v":{"$error":"#REF!"}},{"$error":"#REF!"},{"$error":"#REF!"}]
[null,{"$f":"#REF!","v":{"$error":"#REF!"}},{"$f":"#REF!","v":{"$error":"#REF!"}},{"$f":"#REF!","v":{"$error":"#REF!"}},{"$f":"#REF!","v":{"$error":"#REF!"}},{"$error":"#REF!"},{"$error":"#REF!"}]
[null,{"$f":"#REF!","v":{"$error":"#REF!"}},{"$f":"#REF!","v":{"$error":"#REF!"}},{"$f":"#REF!","v":{"$error":"#REF!"}},{"$f":"#REF!","v":{"$error":"#REF!"}},{"$error":"#REF!"},{"$error":"#REF!"}]
[null,{"$f":"#REF!","v":{"$error":"#REF!"}},{"$f":"#REF!","v":{"$error":"#REF!"}},{"$f":"#REF!","v":{"$error":"#REF!"}},{"$f":"#REF!","v":{"$error":"#REF!"}},{"$error":"#REF!"},{"$error":"#REF!"}]
[null,{"$f":"#REF!","v":{"$error":"#REF!"}},{"$f":"#REF!","v":{"$error":"#REF!"}},{"$f":"#REF!","v":{"$error":"#REF!"}},{"$f":"#REF!","v":{"$error":"#REF!"}},{"$error":"#REF!"},{"$error":"#REF!"}]
[null,{"$f":"#REF!","v":{"$error":"#REF!"}},{"$f":"#REF!","v":{"$error":"#REF!"}},{"$f":"#REF!","v":{"$error":"#REF!"}},{"$f":"#REF!","v":{"$error":"#REF!"}},{"$error":"#REF!"},{"$error":"#REF!"}]
[null,{"$f":"#REF!","v":{"$error":"#REF!"}},{"$f":"#REF!","v":{"$error":"#REF!"}},{"$f":"#REF!","v":{"$error":"#REF!"}},{"$f":"#REF!","v":{"$error":"#REF!"}},{"$error":"#REF!"},{"$error":"#REF!"}]
[null,{"$f":"#REF!","v":{"$error":"#REF!"}},{"$f":"#REF!","v":{"$error":"#REF!"}},{"$f":"#REF!","v":{"$error":"#REF!"}},{"$f":"#REF!","v":{"$error":"#REF!"}},{"$error":"#REF!"},{"$error":"#REF!"}]
[null,{"$f":"#REF!","v":{"$error":"#REF!"}},{"$f":"#REF!","v":{"$error":"#REF!"}},{"$f":"#REF!","v":{"$error":"#REF!"}},{"$f":"#REF!","v":{"$error":"#REF!"}},{"$error":"#REF!"},{"$error":"#REF!"}]
[null,{"$f":"#REF!","v":{"$error":"#REF!"}},{"$f":"#REF!","v":{"$error":"#REF!"}},{"$f":"#REF!","v":{"$error":"#REF!"}},{"$f":"#REF!","v":{"$error":"#REF!"}},{"$error":"#REF!"},{"$error":"#REF!"}]
[null,{"$f":"#REF!","v":{"$error":"#REF!"}},{"$f":"#REF!","v":{"$error":"#REF!"}},{"$f":"#REF!","v":{"$error":"#REF!"}},{"$f":"#REF!","v":{"$error":"#REF!"}},{"$error":"#REF!"},{"$error":"#REF!"}]
[null,{"$f":"#REF!","v":{"$error":"#REF!"}},{"$f":"#REF!","v":{"$error":"#REF!"}},{"$f":"#REF!","v":{"$error":"#REF!"}},{"$f":"#REF!","v":{"$error":"#REF!"}},{"$error":"#REF!"},{"$error":"#REF!"}]
[null,{"$f":"#REF!","v":{"$error":"#REF!"}},{"$f":"#REF!","v":{"$error":"#REF!"}},{"$f":"#REF!","v":{"$error":"#REF!"}},{"$f":"#REF!","v":{"$error":"#REF!"}},{"$error":"#REF!"},{"$error":"#REF!"}]
[null,{"$f":"#REF!","v":{"$error":"#REF!"}},{"$f":"#REF!","v":{"$error":"#REF!"}},{"$f":"#REF!","v":{"$error":"#REF!"}},{"$f":"#REF!","v":{"$error":"#REF!"}},{"$error":"#REF!"},{"$error":"#REF!"}]
[null,{"$f":"#REF!","v":{"$error":"#REF!"}},{"$f":"#REF!","v":{"$error":"#REF!"}},{"$f":"#REF!","v":{"$error":"#REF!"}},{"$f":"#REF!","v":{"$error":"#REF!"}},{"$error":"#REF!"},{"$error":"#REF!"}]
[null,{"$f":"#REF!","v":{"$error":"#REF!"}},{"$f":"#REF!","v":{"$error":"#REF!"}},{"$f":"#REF!","v":{"$error":"#REF!"}},{"$f":"#REF!","v":{"$error":"#REF!"}},{"$error":"#REF!"},{"$error":"#REF!"}]
[null,{"$f":"#REF!","v":{"$error":"#REF!"}},{"$f":"#REF!","v":{"$error":"#REF!"}},{"$f":"#REF!","v":{"$error":"#REF!"}},{"$f":"#REF!","v":{"$error":"#REF!"}},{"$error":"#REF!"},{"$error":"#REF!"}]
[null,{"$f":"#REF!","v":{"$error":"#REF!"}},{"$f":"#REF!","v":{"$error":"#REF!"}},{"$f":"#REF!","v":{"$error":"#REF!"}},{"$f":"#REF!","v":{"$error":"#REF!"}},{"$error":"#REF!"},{"$error":"#REF!"}]
[null,{"$f":"#REF!","v":{"$error":"#REF!"}},{"$f":"#REF!","v":{"$error":"#REF!"}},{"$f":"#REF!","v":{"$error":"#REF!"}},{"$f":"#REF!","v":{"$error":"#REF!"}},{"$error":"#REF!"},{"$error":"#REF!"}]
[null,{"$f":"#REF!","v":{"$error":"#REF!"}},{"$f":"#REF!","v":{"$error":"#REF!"}},{"$f":"#REF!","v":{"$error":"#REF!"}},{"$f":"#REF!","v":{"$error":"#REF!"}},{"$error":"#REF!"},{"$error":"#REF!"}]
[null,{"$f":"#REF!","v":{"$error":"#REF!"}},{"$f":"#REF!","v":{"$error":"#REF!"}},{"$f":"#REF!","v":{"$error":"#REF!"}},{"$f":"#REF!","v":{"$error":"#REF!"}},{"$error":"#REF!"},{"$error":"#REF!"}]
[null,{"$f":"#REF!","v":{"$error":"#REF!"}},{"$f":"#REF!","v":{"$error":"#REF!"}},{"$f":"#REF!","v":{"$error":"#REF!"}},{"$f":"#REF!","v":{"$error":"#REF!"}},{"$error":"#REF!"},{"$error":"#REF!"}]
[null,{"$f":"#REF!","v":{"$error":"#REF!"}},{"$f":"#REF!","v":{"$error":"#REF!"}},{"$f":"#REF!","v":{"$error":"#REF!"}},{"$f":"#REF!","v":{"$error":"#REF!"}},{"$error":"#REF!"},{"$error":"#REF!"}]
[null,{"$f":"#REF!","v":{"$error":"#REF!"}},{"$f":"#REF!","v":{"$error":"#REF!"}},{"$f":"#REF!","v":{"$error":"#REF!"}},{"$f":"#REF!","v":{"$error":"#REF!"}},{"$error":"#REF!"},{"$error":"#REF!"}]
[null,{"$f":"#REF!","v":{"$error":"#REF!"}},{"$f":"#REF!","v":{"$error":"#REF!"}},{"$f":"#REF!","v":{"$error":"#REF!"}},{"$f":"#REF!","v":{"$error":"#REF!"}},{"$error":"#REF!"},{"$error":"#REF!"}]
[null,{"$f":"#REF!","v":{"$error":"#REF!"}},{"$f":"#REF!","v":{"$error":"#REF!"}},{"$f":"#REF!","v":{"$error":"#REF!"}},{"$f":"#REF!","v":{"$error":"#REF!"}},{"$error":"#REF!"},{"$error":"#REF!"}]
[null,{"$f":"#REF!","v":{"$error":"#REF!"}},{"$f":"#REF!","v":{"$error":"#REF!"}},{"$f":"#REF!","v":{"$error":"#REF!"}},{"$f":"#REF!","v":{"$error":"#REF!"}},{"$error":"#REF!"},{"$error":"#REF!"}]
[null,{"$f":"#REF!","v":{"$error":"#REF!"}},{"$f":"#REF!","v":{"$error":"#REF!"}},{"$f":"#REF!","v":{"$error":"#REF!"}},{"$f":"#REF!","v":{"$error":"#REF!"}},{"$error":"#REF!"},{"$error":"#REF!"}]
[null,{"$f":"#REF!","v":{"$error":"#REF!"}},{"$f":"#REF!","v":{"$error":"#REF!"}},{"$f":"#REF!","v":{"$error":"#REF!"}},{"$f":"#REF!","v":{"$error":"#REF!"}},{"$error":"#REF!"},{"$error":"#REF!"}]
[null,{"$f":"#REF!","v":{"$error":"#REF!"}},{"$f":"#REF!","v":{"$error":"#REF!"}},{"$f":"#REF!","v":{"$error":"#REF!"}},{"$f":"#REF!","v":{"$error":"#REF!"}},{"$error":"#REF!"},{"$error":"#REF!"}]
[null,{"$f":"#REF!","v":{"$error":"#REF!"}},{"$f":"#REF!","v":{"$error":"#REF!"}},{"$f":"#REF!","v":{"$error":"#REF!"}},{"$f":"#REF!","v":{"$error":"#REF!"}},{"$error":"#REF!"},{"$error":"#REF!"}]
[null,{"$f":"#REF!","v":{"$error":"#REF!"}},{"$f":"#REF!","v":{"$error":"#REF!"}},{"$f":"#REF!","v":{"$error":"#REF!"}},{"$f":"#REF!","v":{"$error":"#REF!"}},{"$error":"#REF!"},{"$error":"#REF!"}]
[null,{"$f":"#REF!","v":{"$error":"#REF!"}},{"$f":"#REF!","v":{"$error":"#REF!"}},{"$f":"#REF!","v":{"$error":"#REF!"}},{"$f":"#REF!","v":{"$error":"#REF!"}},{"$error":"#REF!"},{"$error":"#REF!"}]
[null,{"$f":"#REF!","v":{"$error":"#REF!"}},{"$f":"#REF!","v":{"$error":"#REF!"}},{"$f":"#REF!","v":{"$error":"#REF!"}},{"$f":"#REF!","v":{"$error":"#REF!"}},{"$error":"#REF!"},{"$error":"#REF!"}]
[null,{"$f":"#REF!","v":{"$error":"#REF!"}},{"$f":"#REF!","v":{"$error":"#REF!"}},{"$f":"#REF!","v":{"$error":"#REF!"}},{"$f":"#REF!","v":{"$error":"#REF!"}},{"$error":"#REF!"},{"$error":"#REF!"}]
[null,{"$f":"#REF!","v":{"$error":"#REF!"}},{"$f":"#REF!","v":{"$error":"#REF!"}},{"$f":"#REF!","v":{"$error":"#REF!"}},{"$f":"#REF!","v":{"$error":"#REF!"}},{"$error":"#REF!"},{"$error":"#REF!"}]
[null,{"$f":"#REF!","v":{"$error":"#REF!"}},{"$f":"#REF!","v":{"$error":"#REF!"}},{"$f":"#REF!","v":{"$error":"#REF!"}},{"$f":"#REF!","v":{"$error":"#REF!"}},{"$error":"#REF!"},{"$error":"#REF!"}]
[null,{"$f":"#REF!","v":{"$error":"#REF!"}},{"$f":"#REF!","v":{"$error":"#REF!"}},{"$f":"#REF!","v":{"$error":"#REF!"}},{"$f":"#REF!","v":{"$error":"#REF!"}},{"$error":"#REF!"},{"$error":"#REF!"}]
[null,{"$f":"#REF!","v":{"$error":"#REF!"}},{"$f":"#REF!","v":{"$error":"#REF!"}},{"$f":"#REF!","v":{"$error":"#REF!"}},{"$f":"#REF!","v":{"$error":"#REF!"}},{"$f":"IF(E132>18.99,\"YÜKSEK\",IF(E132>18.99<9.99,\"ORTA\",IF(E132>9.99,\"ORTA\",IF(E132>0,\"DÜŞÜK\"))))","v":{"$error":"#REF!"}},{"$f":"IF(E132>18.99,\"1\",IF(E132>18.99<9.99,\"2\",IF(E132>9.99,\"2\",IF(E132>0,\"3\"))))","v":{"$error":"#REF!"}}]
[null,{"$f":"#REF!","v":{"$error":"#REF!"}},{"$f":"#REF!","v":{"$error":"#REF!"}},{"$f":"#REF!","v":{"$error":"#REF!"}},{"$f":"#REF!","v":{"$error":"#REF!"}},{"$error":"#REF!"},{"$error":"#REF!"}]
[null,{"$f":"#REF!","v":{"$error":"#REF!"}},{"$f":"#REF!","v":{"$error":"#REF!"}},{"$f":"#REF!","v":{"$error":"#REF!"}},{"$f":"#REF!","v":{"$error":"#REF!"}},{"$error":"#REF!"},{"$error":"#REF!"}]
[null,{"$f":"#REF!","v":{"$error":"#REF!"}},{"$f":"#REF!","v":{"$error":"#REF!"}},{"$f":"#REF!","v":{"$error":"#REF!"}},{"$f":"#REF!","v":{"$error":"#REF!"}},{"$error":"#REF!"},{"$error":"#REF!"}]
[null,{"$f":"#REF!","v":{"$error":"#REF!"}},{"$f":"#REF!","v":{"$error":"#REF!"}},{"$f":"#REF!","v":{"$error":"#REF!"}},{"$f":"#REF!","v":{"$error":"#REF!"}},{"$error":"#REF!"},{"$error":"#REF!"}]
[null,{"$f":"#REF!","v":{"$error":"#REF!"}},{"$f":"#REF!","v":{"$error":"#REF!"}},{"$f":"#REF!","v":{"$error":"#REF!"}},{"$f":"#REF!","v":{"$error":"#REF!"}},{"$error":"#REF!"},{"$error":"#REF!"}]
[null,{"$f":"#REF!","v":{"$error":"#REF!"}},{"$f":"#REF!","v":{"$error":"#REF!"}},{"$f":"#REF!","v":{"$error":"#REF!"}},{"$f":"#REF!","v":{"$error":"#REF!"}},{"$error":"#REF!"},{"$error":"#REF!"}]
[null,{"$f":"#REF!","v":{"$error":"#REF!"}},{"$f":"#REF!","v":{"$error":"#REF!"}},{"$f":"#REF!","v":{"$error":"#REF!"}},{"$f":"#REF!","v":{"$error":"#REF!"}},{"$error":"#REF!"},{"$error":"#REF!"}]
[null,{"$f":"#REF!","v":{"$error":"#REF!"}},{"$f":"#REF!","v":{"$error":"#REF!"}},{"$f":"#REF!","v":{"$error":"#REF!"}},{"$f":"#REF!","v":{"$error":"#REF!"}},{"$error":"#REF!"},{"$error":"#REF!"}]
[null,{"$f":"#REF!","v":{"$error":"#REF!"}},{"$f":"#REF!","v":{"$error":"#REF!"}},{"$f":"#REF!","v":{"$error":"#REF!"}},{"$f":"#REF!","v":{"$error":"#REF!"}},{"$error":"#REF!"},{"$error":"#REF!"}]
[null,{"$f":"#REF!","v":{"$error":"#REF!"}},{"$f":"#REF!","v":{"$error":"#REF!"}},{"$f":"#REF!","v":{"$error":"#REF!"}},{"$f":"#REF!","v":{"$error":"#REF!"}},{"$error":"#REF!"},{"$error":"#REF!"}]
[null,{"$f":"#REF!","v":{"$error":"#REF!"}},{"$f":"#REF!","v":{"$error":"#REF!"}},{"$f":"#REF!","v":{"$error":"#REF!"}},{"$f":"#REF!","v":{"$error":"#REF!"}},{"$error":"#REF!"},{"$error":"#REF!"}]
[null,{"$f":"#REF!","v":{"$error":"#REF!"}},{"$f":"#REF!","v":{"$error":"#REF!"}},{"$f":"#REF!","v":{"$error":"#REF!"}},{"$f":"#REF!","v":{"$error":"#REF!"}},{"$error":"#REF!"},{"$error":"#REF!"}]
[null,{"$f":"#REF!","v":{"$error":"#REF!"}},{"$f":"#REF!","v":{"$error":"#REF!"}},{"$f":"#REF!","v":{"$error":"#REF!"}},{"$f":"#REF!","v":{"$error":"#REF!"}},{"$error":"#REF!"},{"$error":"#REF!"}]
[null,{"$f":"#REF!","v":{"$error":"#REF!"}},{"$f":"#REF!","v":{"$error":"#REF!"}},{"$f":"#REF!","v":{"$error":"#REF!"}},{"$f":"#REF!","v":{"$error":"#REF!"}},{"$error":"#REF!"},{"$error":"#REF!"}]
[null,{"$f":"#REF!","v":{"$error":"#REF!"}},{"$f":"#REF!","v":{"$error":"#REF!"}},{"$f":"#REF!","v":{"$error":"#REF!"}},{"$f":"#REF!","v":{"$error":"#REF!"}},{"$error":"#REF!"},{"$error":"#REF!"}]
[null,{"$f":"#REF!","v":{"$error":"#REF!"}},{"$f":"#REF!","v":{"$error":"#REF!"}},{"$f":"#REF!","v":{"$error":"#REF!"}},{"$f":"#REF!","v":{"$error":"#REF!"}},{"$error":"#REF!"},{"$error":"#REF!"}]
[null,{"$f":"#REF!","v":{"$error":"#REF!"}},{"$f":"#REF!","v":{"$error":"#REF!"}},{"$f":"#REF!","v":{"$error":"#REF!"}},{"$f":"#REF!","v":{"$error":"#REF!"}},{"$error":"#REF!"},{"$error":"#REF!"}]
[null,{"$f":"#REF!","v":{"$error":"#REF!"}},{"$f":"#REF!","v":{"$error":"#REF!"}},{"$f":"#REF!","v":{"$error":"#REF!"}},{"$f":"#REF!","v":{"$error":"#REF!"}},{"$error":"#REF!"},{"$error":"#REF!"}]
[null,{"$f":"#REF!","v":{"$error":"#REF!"}},{"$f":"#REF!","v":{"$error":"#REF!"}},{"$f":"#REF!","v":{"$error":"#REF!"}},{"$f":"#REF!","v":{"$error":"#REF!"}},{"$error":"#REF!"},{"$error":"#REF!"}]
[null,{"$f":"#REF!","v":{"$error":"#REF!"}},{"$f":"#REF!","v":{"$error":"#REF!"}},{"$f":"#REF!","v":{"$error":"#REF!"}},{"$f":"#REF!","v":{"$error":"#REF!"}},{"$error":"#REF!"},{"$error":"#REF!"}]
[null,{"$f":"#REF!","v":{"$error":"#REF!"}},{"$f":"#REF!","v":{"$error":"#REF!"}},{"$f":"#REF!","v":{"$error":"#REF!"}},{"$f":"#REF!","v":{"$error":"#REF!"}},{"$error":"#REF!"},{"$error":"#REF!"}]
[null,{"$f":"#REF!","v":{"$error":"#REF!"}},{"$f":"#REF!","v":{"$error":"#REF!"}},{"$f":"#REF!","v":{"$error":"#REF!"}},{"$f":"#REF!","v":{"$error":"#REF!"}},{"$error":"#REF!"},{"$error":"#REF!"}]
[null,{"$f":"#REF!","v":{"$error":"#REF!"}},{"$f":"#REF!","v":{"$error":"#REF!"}},{"$f":"#REF!","v":{"$error":"#REF!"}},{"$f":"#REF!","v":{"$error":"#REF!"}},{"$error":"#REF!"},{"$error":"#REF!"}]
[null,{"$f":"#REF!","v":{"$error":"#REF!"}},{"$f":"#REF!","v":{"$error":"#REF!"}},{"$f":"#REF!","v":{"$error":"#REF!"}},{"$f":"#REF!","v":{"$error":"#REF!"}},{"$error":"#REF!"},{"$error":"#REF!"}]
[null,{"$f":"#REF!","v":{"$error":"#REF!"}},{"$f":"#REF!","v":{"$error":"#REF!"}},{"$f":"#REF!","v":{"$error":"#REF!"}},{"$f":"#REF!","v":{"$error":"#REF!"}},{"$error":"#REF!"},{"$error":"#REF!"}]
[null,{"$f":"#REF!","v":{"$error":"#REF!"}},{"$f":"#REF!","v":{"$error":"#REF!"}},{"$f":"#REF!","v":{"$error":"#REF!"}},{"$f":"#REF!","v":{"$error":"#REF!"}},{"$error":"#REF!"},{"$error":"#REF!"}]
[null,{"$f":"#REF!","v":{"$error":"#REF!"}},{"$f":"#REF!","v":{"$error":"#REF!"}},{"$f":"#REF!","v":{"$error":"#REF!"}},{"$f":"#REF!","v":{"$error":"#REF!"}},{"$error":"#REF!"},{"$error":"#REF!"}]
[null,{"$f":"#REF!","v":{"$error":"#REF!"}},{"$f":"#REF!","v":{"$error":"#REF!"}},{"$f":"#REF!","v":{"$error":"#REF!"}},{"$f":"#REF!","v":{"$error":"#REF!"}},{"$error":"#REF!"},{"$error":"#REF!"}]
[null,{"$f":"#REF!","v":{"$error":"#REF!"}},{"$f":"#REF!","v":{"$error":"#REF!"}},{"$f":"#REF!","v":{"$error":"#REF!"}},{"$f":"#REF!","v":{"$error":"#REF!"}},{"$error":"#REF!"},{"$error":"#REF!"}]
[null,{"$f":"#REF!","v":{"$error":"#REF!"}},{"$f":"#REF!","v":{"$error":"#REF!"}},{"$f":"#REF!","v":{"$error":"#REF!"}},{"$f":"#REF!","v":{"$error":"#REF!"}},{"$error":"#REF!"},{"$error":"#REF!"}]
[null,{"$f":"#REF!","v":{"$error":"#REF!"}},{"$f":"#REF!","v":{"$error":"#REF!"}},{"$f":"#REF!","v":{"$error":"#REF!"}},{"$f":"#REF!","v":{"$error":"#REF!"}},{"$error":"#REF!"},{"$error":"#REF!"}]
[null,{"$f":"#REF!","v":{"$error":"#REF!"}},{"$f":"#REF!","v":{"$error":"#REF!"}},{"$f":"#REF!","v":{"$error":"#REF!"}},{"$f":"#REF!","v":{"$error":"#REF!"}},{"$error":"#REF!"},{"$error":"#REF!"}]